BEGIN:VCALENDAR
VERSION:2.0
PRODID:-//MOAC - Maine Outdoor Adventure Club - ECPv6.15.12.1//NONSGML v1.0//EN
CALSCALE:GREGORIAN
METHOD:PUBLISH
X-ORIGINAL-URL:https://moac.org
X-WR-CALDESC:Events for MOAC - Maine Outdoor Adventure Club
REFRESH-INTERVAL;VALUE=DURATION:PT1H
X-Robots-Tag:noindex
X-PUBLISHED-TTL:PT1H
BEGIN:VTIMEZONE
TZID:America/New_York
BEGIN:DAYLIGHT
TZOFFSETFROM:-0500
TZOFFSETTO:-0400
TZNAME:EDT
DTSTART:20240310T070000
END:DAYLIGHT
BEGIN:STANDARD
TZOFFSETFROM:-0400
TZOFFSETTO:-0500
TZNAME:EST
DTSTART:20241103T060000
END:STANDARD
BEGIN:DAYLIGHT
TZOFFSETFROM:-0500
TZOFFSETTO:-0400
TZNAME:EDT
DTSTART:20250309T070000
END:DAYLIGHT
BEGIN:STANDARD
TZOFFSETFROM:-0400
TZOFFSETTO:-0500
TZNAME:EST
DTSTART:20251102T060000
END:STANDARD
BEGIN:DAYLIGHT
TZOFFSETFROM:-0500
TZOFFSETTO:-0400
TZNAME:EDT
DTSTART:20260308T070000
END:DAYLIGHT
BEGIN:STANDARD
TZOFFSETFROM:-0400
TZOFFSETTO:-0500
TZNAME:EST
DTSTART:20261101T060000
END:STANDARD
END:VTIMEZONE
BEGIN:VEVENT
DTSTART;TZID=America/New_York:20250808T173000
DTEND;TZID=America/New_York:20250808T200000
DTSTAMP:20260423T054418
CREATED:20250807T142638Z
LAST-MODIFIED:20250807T142638Z
UID:10004113-1754674200-1754683200@moac.org
SUMMARY:HAPPY HOUR
DESCRIPTION:Please read the blurb at the end of this posting regarding FREE PARKING.\nHAPPY HOUR this Friday will be at the SUNSET BAR & Grill located at 4 Fernald Street in Old Orchard Beach. Seating on their deck as well as at tables on their lawn. Entertainment. Located next to The Brunswick.\nPARKING IS FREE AND READILY AVAILABLE ON ATLANTIC\, CENTRAL PARK\, AND HILLCREST AVENUES AS WELL AS ON ADJOINING STREETS. THESE STREETS ARE WITHIN THREE-TENTHS MILE / A SIX TO SEVEN MINUTE WALK FROM THE SUNSET.\nWe keep trying to find new places and there are several in Old Orchard that are easy to get to and do offer free parking on nearby streets. Give it a try!
URL:https://moac.org/event/happy-hour-172/
CATEGORIES:Happy Hour/Dancing
ORGANIZER;CN="Tom Geis":MAILTO:tomjgeis@hotmail.com
END:VEVENT
END:VCALENDAR