BEGIN:VCALENDAR
VERSION:2.0
PRODID:-//MOAC - Maine Outdoor Adventure Club - ECPv6.15.12.1//NONSGML v1.0//EN
CALSCALE:GREGORIAN
METHOD:PUBLISH
X-WR-CALNAME:MOAC - Maine Outdoor Adventure Club
X-ORIGINAL-URL:https://moac.org
X-WR-CALDESC:Events for MOAC - Maine Outdoor Adventure Club
REFRESH-INTERVAL;VALUE=DURATION:PT1H
X-Robots-Tag:noindex
X-PUBLISHED-TTL:PT1H
BEGIN:VTIMEZONE
TZID:America/New_York
BEGIN:DAYLIGHT
TZOFFSETFROM:-0500
TZOFFSETTO:-0400
TZNAME:EDT
DTSTART:20240310T070000
END:DAYLIGHT
BEGIN:STANDARD
TZOFFSETFROM:-0400
TZOFFSETTO:-0500
TZNAME:EST
DTSTART:20241103T060000
END:STANDARD
BEGIN:DAYLIGHT
TZOFFSETFROM:-0500
TZOFFSETTO:-0400
TZNAME:EDT
DTSTART:20250309T070000
END:DAYLIGHT
BEGIN:STANDARD
TZOFFSETFROM:-0400
TZOFFSETTO:-0500
TZNAME:EST
DTSTART:20251102T060000
END:STANDARD
BEGIN:DAYLIGHT
TZOFFSETFROM:-0500
TZOFFSETTO:-0400
TZNAME:EDT
DTSTART:20260308T070000
END:DAYLIGHT
BEGIN:STANDARD
TZOFFSETFROM:-0400
TZOFFSETTO:-0500
TZNAME:EST
DTSTART:20261101T060000
END:STANDARD
END:VTIMEZONE
BEGIN:VEVENT
DTSTART;VALUE=DATE:20251105
DTEND;VALUE=DATE:20251204
DTSTAMP:20260421T213627
CREATED:20251105T153914Z
LAST-MODIFIED:20251105T153914Z
UID:10004227-1762300800-1764806399@moac.org
SUMMARY:MOAC Holiday Party 2025 – Tickets on Sale
DESCRIPTION:2025 Holiday Party Tickets NOW on Sale through Eventbrite\nNovember 5\, 2025 – December 3\, 2025\nGet your tickets at: \nhttps://www.eventbrite.com/e/moac-holiday-party-2025-members-only-tickets-1962507020327?aff=oddtdtcreator \n$17.00 plus fees for prepurchase through Eventbrite (member pays for Eventbrite fee) \nOnline sales available only through December 3rd. $17 cash or check at the monthly meeting. Price at the door is $20.00. \nAnother MOAC Party not to be missed. December 6\, 2025 from 5:30 to 10:30. \nOnce again we will party at the Robert W Boyd\, AMVETS Post 2\, 48 North Road\, Yarmouth\, ME. \n 
URL:https://moac.org/event/moac-holiday-party-2025-tickets-on-sale/
CATEGORIES:Happy Hour/Dancing,Other/General,Social
ORGANIZER;CN="MOAC":MAILTO:info@moac.org
END:VEVENT
BEGIN:VEVENT
DTSTART;TZID=America/New_York:20251114T173000
DTEND;TZID=America/New_York:20251114T200000
DTSTAMP:20260421T213627
CREATED:20251113T161120Z
LAST-MODIFIED:20251113T161120Z
UID:10004232-1763141400-1763150400@moac.org
SUMMARY:HAPPY HOUR
DESCRIPTION:HAPPY HOUR this Friday will be at PORTLAND PIE located at 240 US Route 1 in FALMOUTH (just beyond the Walmart in the small plaza at the junction of Depot Road). Great pizza\, full bar\, free parking. Our regulars report that the wait staff was very helpful and accommodating with our group.
URL:https://moac.org/event/happy-hour-186/
CATEGORIES:Happy Hour/Dancing
ORGANIZER;CN="Tom Geis":MAILTO:tomjgeis@hotmail.com
END:VEVENT
END:VCALENDAR