BEGIN:VCALENDAR
VERSION:2.0
PRODID:-//MOAC - Maine Outdoor Adventure Club - ECPv6.15.12.1//NONSGML v1.0//EN
CALSCALE:GREGORIAN
METHOD:PUBLISH
X-ORIGINAL-URL:https://moac.org
X-WR-CALDESC:Events for MOAC - Maine Outdoor Adventure Club
REFRESH-INTERVAL;VALUE=DURATION:PT1H
X-Robots-Tag:noindex
X-PUBLISHED-TTL:PT1H
BEGIN:VTIMEZONE
TZID:America/New_York
BEGIN:DAYLIGHT
TZOFFSETFROM:-0500
TZOFFSETTO:-0400
TZNAME:EDT
DTSTART:20210314T070000
END:DAYLIGHT
BEGIN:STANDARD
TZOFFSETFROM:-0400
TZOFFSETTO:-0500
TZNAME:EST
DTSTART:20211107T060000
END:STANDARD
BEGIN:DAYLIGHT
TZOFFSETFROM:-0500
TZOFFSETTO:-0400
TZNAME:EDT
DTSTART:20220313T070000
END:DAYLIGHT
BEGIN:STANDARD
TZOFFSETFROM:-0400
TZOFFSETTO:-0500
TZNAME:EST
DTSTART:20221106T060000
END:STANDARD
BEGIN:DAYLIGHT
TZOFFSETFROM:-0500
TZOFFSETTO:-0400
TZNAME:EDT
DTSTART:20230312T070000
END:DAYLIGHT
BEGIN:STANDARD
TZOFFSETFROM:-0400
TZOFFSETTO:-0500
TZNAME:EST
DTSTART:20231105T060000
END:STANDARD
END:VTIMEZONE
BEGIN:VEVENT
DTSTART;TZID=America/New_York:20221204T020000
DTEND;TZID=America/New_York:20221204T020000
DTSTAMP:20260421T215816
CREATED:20221130T130959Z
LAST-MODIFIED:20221130T131258Z
UID:10000626-1670119200-1670119200@moac.org
SUMMARY:Hike Tuckermans Ravine
DESCRIPTION:Climb up to Lunch Rocks at Tuckerman’s Ravine\, about 6 miles round trip and 2700′ elevation gain. There may be skiers to watch\, although I’m guessing they’ll mostly be doing the Sherburne trail rather than the ravine. Expect winter conditions – micro spikes are required and snowshoes may be helpful. It will be windy and cold so also bring warm layers\, extra gloves\, a hot drink\, lunch\, water and snacks. RSVP by phone or text (207-380-6008) or email for meeting places and times and carpool info (we’re not leaving at 2 AM). We’ll probably stop somewhere afterwards for refreshments. Fully vaccinated and boosted hikers only\, max group size is 8.
URL:https://moac.org/event/hike-tuckermans-ravine/
CATEGORIES:Hiking
ATTACH;FMTTYPE=image/jpeg:https://moac.org/wp-content/uploads/IMG_6723.jpg
ORGANIZER;CN="Anne Geisler":MAILTO:annegme.123@gmail.com
END:VEVENT
BEGIN:VEVENT
DTSTART;TZID=America/New_York:20221206T120000
DTEND;TZID=America/New_York:20221206T143000
DTSTAMP:20260421T215816
CREATED:20221202T162826Z
LAST-MODIFIED:20221202T162826Z
UID:10000632-1670328000-1670337000@moac.org
SUMMARY:WALK POPHAM BEACH
DESCRIPTION:Join us for an approximately two & one-half hour walk along the beach from Popham Beach State Park to Fort Popham and return on Tuesday December 6th.  Although a chance of showers is predicted for that day\, it appears from the forecast this may be one of the last 50 + degree days for a while to take advantage of.  For those that wish\, pack a light lunch to enjoy in the vicinity of Fort Popham prior to the return leg of the walk. We will step off at 12 noon sharp from the Popham Beach State Park parking lot. As high tide will have been around 10 AM\, the entire walk should be during ebb tide ensuring a wide berth and decent walking conditions.  Getting there is straight forward as one can take Maine – 209 in Phippsburg right to Popham Beach State Park with adequate signage along Maine -209 directing visitors to the Park. We will meet in the center of the parking lot directly ahead of the entry shack. For any questions on the day of the walk\, 802-770-9106. Prior to that time\, 207-844-8142 or via mcb-12nam@outlook.com. Please note\, cell service in that area can be spotty. \n  \n 
URL:https://moac.org/event/walk-popham-beach/
CATEGORIES:Hiking
ORGANIZER;CN="Bob Williams":MAILTO:MCB-12NAM@OUTLOOK.COM
END:VEVENT
BEGIN:VEVENT
DTSTART;TZID=America/New_York:20221226T020000
DTEND;TZID=America/New_York:20221226T020000
DTSTAMP:20260421T215816
CREATED:20221224T135413Z
LAST-MODIFIED:20221224T135413Z
UID:10000760-1672020000-1672020000@moac.org
SUMMARY:Fire Warden's Trail\, Pleasant Mountain
DESCRIPTION:Work off those Christmas cookies with a moderately challenging hike up Pleasant Mountain on the Fire Warden’s Trail – 4.6 miles round trip\, about 1\,500′ elevation gain. It could be VERY icy in spots\, so microspikes are absolutely required. Snowshoes won’t be necessary. Wind chills will be around zero at the top\, so bring extra gloves and warm layers. Also bring lunch and water\, and a hot drink if you’d like. RSVP by email or text (207-380-6008) for meeting places and times (we’re not leaving at 2 AM). Max group size is 8\, covid vaxed and boosted hikers only. We will probably go out for refreshments afterwards.
URL:https://moac.org/event/fire-wardens-trail-pleasant-mountain/
CATEGORIES:Hiking
ORGANIZER;CN="Anne Geisler":MAILTO:annegme.123@gmail.com
END:VEVENT
END:VCALENDAR