BEGIN:VCALENDAR
VERSION:2.0
PRODID:-//MOAC - Maine Outdoor Adventure Club - ECPv6.15.12.1//NONSGML v1.0//EN
CALSCALE:GREGORIAN
METHOD:PUBLISH
X-ORIGINAL-URL:https://moac.org
X-WR-CALDESC:Events for MOAC - Maine Outdoor Adventure Club
REFRESH-INTERVAL;VALUE=DURATION:PT1H
X-Robots-Tag:noindex
X-PUBLISHED-TTL:PT1H
BEGIN:VTIMEZONE
TZID:America/New_York
BEGIN:DAYLIGHT
TZOFFSETFROM:-0500
TZOFFSETTO:-0400
TZNAME:EDT
DTSTART:20220313T070000
END:DAYLIGHT
BEGIN:STANDARD
TZOFFSETFROM:-0400
TZOFFSETTO:-0500
TZNAME:EST
DTSTART:20221106T060000
END:STANDARD
BEGIN:DAYLIGHT
TZOFFSETFROM:-0500
TZOFFSETTO:-0400
TZNAME:EDT
DTSTART:20230312T070000
END:DAYLIGHT
BEGIN:STANDARD
TZOFFSETFROM:-0400
TZOFFSETTO:-0500
TZNAME:EST
DTSTART:20231105T060000
END:STANDARD
BEGIN:DAYLIGHT
TZOFFSETFROM:-0500
TZOFFSETTO:-0400
TZNAME:EDT
DTSTART:20240310T070000
END:DAYLIGHT
BEGIN:STANDARD
TZOFFSETFROM:-0400
TZOFFSETTO:-0500
TZNAME:EST
DTSTART:20241103T060000
END:STANDARD
END:VTIMEZONE
BEGIN:VEVENT
DTSTART;TZID=America/New_York:20230407T080000
DTEND;TZID=America/New_York:20230410T170000
DTSTAMP:20260421T144055
CREATED:20230407T020543Z
LAST-MODIFIED:20230407T020813Z
UID:10000912-1680854400-1681146000@moac.org
SUMMARY:Catch the Snow\, Sugarloaf-Nordic/Downhill/Hike
DESCRIPTION:Ana and I rented a house in Eustis for Fri night through Monday AM.   You do NOT have to stay all three nights.  The Outdoor Center is closed; however\, there is plenty of snow for Nordic skiing.  Gushing streams\, birds\, beautiful views and corny snow.  Love\, Love.\nDon’t let Reggae Fest deter you.  The more downhill skiing for the rest of us!  The Timberline runs will be like winter!  No slush no fuss.  King Pine was perfect just two weeks ago–not much has changed!\nContact Eileen for more info and to sign up!!!  SEE LINK for photos of the house. https://www.zillow.com/homedetails/62-Eustis-Village-Rd-Eustis-ME-04936/2091541229_zpid/
URL:https://moac.org/event/catch-the-snow-sugarloaf-nordic-downhill-hike/
CATEGORIES:Hiking,Skiing-Downhill,Skiing-XC/Classic/Skate
ATTACH;FMTTYPE=image/jpeg:https://moac.org/wp-content/uploads/sugarloaf-widowmaker-trail-1024x652-1.jpeg
END:VEVENT
BEGIN:VEVENT
DTSTART;TZID=America/New_York:20230411T173000
DTEND;TZID=America/New_York:20230411T190000
DTSTAMP:20260421T144055
CREATED:20230410T220925Z
LAST-MODIFIED:20230410T220925Z
UID:10000915-1681234200-1681239600@moac.org
SUMMARY:Sweet Trail\, Newmarket NH - after work walk
DESCRIPTION:1 or so hours walk on the Sweet Trail\, starting at the Lubberland Creek Preserve Trailhead\, Bay Road\, in Newmarket\, NH. About 4 miles round trip. There are 3 parking lots for this trail – plan to meet at the Lubberland Creek Preserve parking lot (not the ones in Durham). Reference “P3” in the PDF file – link in the description. \nPart of hike number 40 (page 272) in Carey Kish’s Beer Hiking New England book.  Possible refreshments afterward. \nEmail or text (207-712- seven two nine four)/call if you want to go. I plan to hit the trail at 5:30 p.m. \n 
URL:https://moac.org/event/sweet-trail-newmarket-nh-after-work-walk/
CATEGORIES:Hiking,Walking
ATTACH;FMTTYPE=image/jpeg:https://moac.org/wp-content/uploads/2022-04-30.jpg
ORGANIZER;CN="Brad Hanscom":MAILTO:bhanscom12@gmail.com
END:VEVENT
BEGIN:VEVENT
DTSTART;TZID=America/New_York:20230415T130000
DTEND;TZID=America/New_York:20230415T150000
DTSTAMP:20260421T144055
CREATED:20230412T120810Z
LAST-MODIFIED:20230412T120810Z
UID:10000918-1681563600-1681570800@moac.org
SUMMARY:Fore River Sanctuary
DESCRIPTION:Hike the Fore River Sanctuary into Jewel Falls.   I plan to make a loop utilizing as many of the trails as possible.  Distance\, approximately 4 miles.  Wear hiking shoes as there could be muddy spots. \nParking is at Maine Orthopedics Center parking lot on Frost Street.  Frost Street is a connector street between Capisic Street and Congress Street. \n 
URL:https://moac.org/event/fore-river-sanctuary/
CATEGORIES:Hiking
ORGANIZER;CN="Bonnie Farrand":MAILTO:Bonniefarrand@gmail.com
END:VEVENT
BEGIN:VEVENT
DTSTART;VALUE=DATE:20230422
DTEND;VALUE=DATE:20230424
DTSTAMP:20260421T144055
CREATED:20230412T143503Z
LAST-MODIFIED:20230418T115636Z
UID:10000920-1682121600-1682294399@moac.org
SUMMARY:Potluck/Fire and Sunday Hike
DESCRIPTION:Check for updates. If it rains we can still have the potluck and overnight. \nplease RSVP \nJoin me at my home in Center Conway\, NH Saturday April 22 in the afternoon3pm/evening for a potluck and fire.  I invite you to stay overnight (bring your own bedding and breakfast).  Sunday morning a moderate hike is planned TBD.  Be prepared for snow\, water\,  mud…  lol ’tis the season.  Come for just the potluck if you wish.  Happy to have you. \nIf you have an instrument please bring it along. Bring slippers if your feet get cold inside (no shoes in the house).  Sleep outside if you wish\, snow has receded in the backyard.  I have 4 beds available and plenty of floor space. \nRain will cancel the fire and the hike…. but we can still have the potluck and overnight. \nText or email me for address and directions.
URL:https://moac.org/event/potluck-fire-and-overnight-hike/
CATEGORIES:Hiking,Social
ATTACH;FMTTYPE=image/jpeg:https://moac.org/wp-content/uploads/IMG_66865C9EEC73-1.jpeg
ORGANIZER;CN="Sue McCarthy":MAILTO:suermccarthy@gmail.com
END:VEVENT
BEGIN:VEVENT
DTSTART;TZID=America/New_York:20230422T133000
DTEND;TZID=America/New_York:20230422T160000
DTSTAMP:20260421T144055
CREATED:20230419T215113Z
LAST-MODIFIED:20230419T215113Z
UID:10000927-1682170200-1682179200@moac.org
SUMMARY:Wolfe Neck State Park\, Freeport
DESCRIPTION:We will hike the beautiful trails at Wolfe’s Neck State Park.  There will be 2 loops so you will have the option to do one or both.   If both\, I estimate it will take about 2 1/2 hours.  Trails could be muddy in spots so wear appropriate footwear. \nSince this is Earth Day\, let’s bring an old shopping bag and be ready to pick up any trash on the trail. \nAddress is 426 Wolfe’s Neck Road\, Freeport.
URL:https://moac.org/event/wolfe-neck-state-park-freeport/
CATEGORIES:Hiking
ORGANIZER;CN="Bonnie Farrand":MAILTO:Bonniefarrand@gmail.com
END:VEVENT
BEGIN:VEVENT
DTSTART;TZID=America/New_York:20230428T170000
DTEND;TZID=America/New_York:20230430T170000
DTSTAMP:20260421T144055
CREATED:20230403T211022Z
LAST-MODIFIED:20230403T212821Z
UID:10000848-1682701200-1682874000@moac.org
SUMMARY:Sunset Shores – Camping Piggyback Spring weekend
DESCRIPTION:Hello MOACers\, \nPiggybacking on Marty’s post for the weekend of April 28-30th ~ I would like to invite you to join me on LOT 135 – Sunset Shores on Whitetail Road in Waltham\, Maine – This is just about 10 miles north of Ellsworth on rt 179 – I will be up in the area all weekend and need a few extra hands to help me set up a 10×20 screened in canopy. Also looking for some help to walk/find a trail from my lot to Lot 90 (owned by my friend and MOACer Elaine V)  There are about 130 acres between our back borders… \nI walked my 4.5 acre lot last year with the Hancock County district forester and he said there are already existing old logging roads all throughout. \nThere is room on my lot to camp or we can stay at Marty’s. The restrooms in our common area pavilion should be operational by then but ya neva know!   Let me know if you have any questions or need more information!  We may head over Saturday afternoon after the Friends of Acadia event or on Sunday (weather dependent) \nSo please join me with your work gloves\, navigational skills\, rubber boots\, compass & camping gear! \nLooking forward to enjoying spring\, the flora\, fauna\, lady slippers and a screened in hang-out!
URL:https://moac.org/event/sunset-shores-camping-piggyback-spring-weekend/
CATEGORIES:Camping,Hiking,Other/General
ATTACH;FMTTYPE=image/jpeg:https://moac.org/wp-content/uploads/Presentation3.jpg
ORGANIZER;CN="Nancy Dorrans":MAILTO:njdorran@gmail.com
END:VEVENT
BEGIN:VEVENT
DTSTART;TZID=America/New_York:20230429T100000
DTEND;TZID=America/New_York:20230429T133000
DTSTAMP:20260421T144055
CREATED:20230427T132135Z
LAST-MODIFIED:20230427T132135Z
UID:10000935-1682762400-1682775000@moac.org
SUMMARY:Stroudwater Trail\, Portland
DESCRIPTION:Let’s get in a local hike before more rain sets in.  The Stroudwater Trail is located off outer Congress Street and follows the Stroudwater River.  We will meet at the end of Hutchins Drive and proceed from there.   This is about the mid-point of the trail so you can do all or part of the trail.   Trail along the river is 3.5 miles round trip and the trail through the woods to Spring Street is 2.8 miles round trip. \nBring water and a snack or lunch.
URL:https://moac.org/event/stroudwater-trail-portland-2/
CATEGORIES:Hiking
ORGANIZER;CN="Bonnie Farrand":MAILTO:Bonniefarrand@gmail.com
END:VEVENT
END:VCALENDAR