BEGIN:VCALENDAR
VERSION:2.0
PRODID:-//MOAC - Maine Outdoor Adventure Club - ECPv6.15.12.1//NONSGML v1.0//EN
CALSCALE:GREGORIAN
METHOD:PUBLISH
X-ORIGINAL-URL:https://moac.org
X-WR-CALDESC:Events for MOAC - Maine Outdoor Adventure Club
REFRESH-INTERVAL;VALUE=DURATION:PT1H
X-Robots-Tag:noindex
X-PUBLISHED-TTL:PT1H
BEGIN:VTIMEZONE
TZID:America/New_York
BEGIN:DAYLIGHT
TZOFFSETFROM:-0500
TZOFFSETTO:-0400
TZNAME:EDT
DTSTART:20220313T070000
END:DAYLIGHT
BEGIN:STANDARD
TZOFFSETFROM:-0400
TZOFFSETTO:-0500
TZNAME:EST
DTSTART:20221106T060000
END:STANDARD
BEGIN:DAYLIGHT
TZOFFSETFROM:-0500
TZOFFSETTO:-0400
TZNAME:EDT
DTSTART:20230312T070000
END:DAYLIGHT
BEGIN:STANDARD
TZOFFSETFROM:-0400
TZOFFSETTO:-0500
TZNAME:EST
DTSTART:20231105T060000
END:STANDARD
BEGIN:DAYLIGHT
TZOFFSETFROM:-0500
TZOFFSETTO:-0400
TZNAME:EDT
DTSTART:20240310T070000
END:DAYLIGHT
BEGIN:STANDARD
TZOFFSETFROM:-0400
TZOFFSETTO:-0500
TZNAME:EST
DTSTART:20241103T060000
END:STANDARD
END:VTIMEZONE
BEGIN:VEVENT
DTSTART;TZID=America/New_York:20230521T020000
DTEND;TZID=America/New_York:20230521T020000
DTSTAMP:20260421T083145
CREATED:20230517T233929Z
LAST-MODIFIED:20230517T234520Z
UID:10000953-1684634400-1684634400@moac.org
SUMMARY:Climb Mt Meader
DESCRIPTION:We’ll climb Mt. Meader in Evans Notch\, about 6 miles round trip and 2\,250′ of elevation gain. There shouldn’t be any snow but throw your spikes in your pack just in case. Also bring a rain layer in case of showers – they should be done by the time we start hiking\, but you never know. Also bring 2 L of water and lunch\, as well as a hat and gloves for the top. We will hike at book speed or faster. and there is some rock scrambling involved. We may stop afterwards for refreshments at Ebenezer’s Pub in Lovell. Max group size is 8\, fully vaxed hikers only. RSVP for meeting places and times – we’re not starting at 2 AM.
URL:https://moac.org/event/climb-mt-meader-2/
CATEGORIES:Hiking
ORGANIZER;CN="Anne Geisler":MAILTO:annegme.123@gmail.com
END:VEVENT
BEGIN:VEVENT
DTSTART;TZID=America/New_York:20230521T140000
DTEND;TZID=America/New_York:20230521T170000
DTSTAMP:20260421T083145
CREATED:20230521T135346Z
LAST-MODIFIED:20230521T135346Z
UID:10000956-1684677600-1684688400@moac.org
SUMMARY:Wolf Neck Farm/Campground
DESCRIPTION:Come for a coastal walk around Wolf Neck Campground in Freeport.
URL:https://moac.org/event/wolf-neck-farm-campground/
CATEGORIES:Hiking,Social,Walking
ATTACH;FMTTYPE=image/jpeg:https://moac.org/wp-content/uploads/0770F635-4670-4AA0-B04E-8AFAE3530558.jpeg
ORGANIZER;CN="Elizabeth":MAILTO:eliz.szat@gmail.com
END:VEVENT
BEGIN:VEVENT
DTSTART;TZID=America/New_York:20230526T133000
DTEND;TZID=America/New_York:20230526T160000
DTSTAMP:20260421T083145
CREATED:20230520T225927Z
LAST-MODIFIED:20230520T225927Z
UID:10000955-1685107800-1685116800@moac.org
SUMMARY:Champlain Mountain
DESCRIPTION:We will hike the Beachcroft Trail to Champlain Mountain as an afternoon hike after arriving at Bar Harbor Campground.  Distance is 2.4 miles round trip.  Departure from the Bar Harbor Campground is 1:30.  If you are MOAC’er who lives in the area and wants to join those of us camping\, please let me know.
URL:https://moac.org/event/champlain-mountain/
CATEGORIES:Hiking
ORGANIZER;CN="Bonnie Farrand":MAILTO:Bonniefarrand@gmail.com
END:VEVENT
BEGIN:VEVENT
DTSTART;TZID=America/New_York:20230527T083000
DTEND;TZID=America/New_York:20230527T160000
DTSTAMP:20260421T083145
CREATED:20230523T114644Z
LAST-MODIFIED:20230523T114644Z
UID:10000957-1685176200-1685203200@moac.org
SUMMARY:Acadia Bike and Hike
DESCRIPTION:A tradition returns! Saturday May 27th at 8:30 AM we will meet at Bar Harbor Campground. Carpooling encouraged but tricky with bikes being transported. We will bike at a sightseeing pace on the carriage paths. I expect we will stop 3 times to get off the bikes for short hikes of 30-45 minutes. Helmets required. Suggest hybrid or mountain bikes. Please bring water\, lunch\, snacks\, jacket\, sunblock\, spare tube. Expect to finish by 4:00 PM. Times are flexible to meet the wishes of our group. Please TEXT me\, do not email\, if you believe you can join at 207-450-4707. Weather report looks fantastic!
URL:https://moac.org/event/acadia-bike-and-hike/
CATEGORIES:Hiking,Mountain Biking,Other/General
ATTACH;FMTTYPE=image/jpeg:https://moac.org/wp-content/uploads/P1000407.jpg
ORGANIZER;CN="Jerry Jalbert":MAILTO:gjalbert53@gmail.com
END:VEVENT
BEGIN:VEVENT
DTSTART;TZID=America/New_York:20230529T020000
DTEND;TZID=America/New_York:20230529T020000
DTSTAMP:20260421T083145
CREATED:20230523T235852Z
LAST-MODIFIED:20230523T235852Z
UID:10000959-1685325600-1685325600@moac.org
SUMMARY:Glen Boulder Trail to Davis Path
DESCRIPTION:Climb the scenic and challenging Glen Boulder Trail to its junction with Davis Path\, 5.2 miles round trip and 2\,850′ of elevation gain. There is some rock scrambling on exposed ledges on this hike – not for anyone with a fear of heights. Be prepared for black flies and windy conditions – bring an extra layer for the top section\, which is above 5\,000′. Also bring at least 2 liters water\, lunch and a warm hat and gloves – the high will be in the 50s on Monday and with the wind it will feel colder. There could still be some snow at the higher elevations so bring your micro spikes just in case – there was snow still on May 21. \nFully vaccinated hikers only; if we haven’t hiked together before please let me know your experience on 4\,000 footers when you RSVP. Max group size is 8 – please email or text for meeting places and times (we’re not leaving at 2 AM). We will probably stop afterwards for refreshments.
URL:https://moac.org/event/glen-boulder-trail-to-davis-path/
CATEGORIES:Hiking
ATTACH;FMTTYPE=image/jpeg:https://moac.org/wp-content/uploads/IMG_8203-2.jpg
ORGANIZER;CN="Anne Geisler":MAILTO:annegme.123@gmail.com
END:VEVENT
END:VCALENDAR