BEGIN:VCALENDAR
VERSION:2.0
PRODID:-//MOAC - Maine Outdoor Adventure Club - ECPv6.15.12.1//NONSGML v1.0//EN
CALSCALE:GREGORIAN
METHOD:PUBLISH
X-WR-CALNAME:MOAC - Maine Outdoor Adventure Club
X-ORIGINAL-URL:https://moac.org
X-WR-CALDESC:Events for MOAC - Maine Outdoor Adventure Club
REFRESH-INTERVAL;VALUE=DURATION:PT1H
X-Robots-Tag:noindex
X-PUBLISHED-TTL:PT1H
BEGIN:VTIMEZONE
TZID:America/New_York
BEGIN:DAYLIGHT
TZOFFSETFROM:-0500
TZOFFSETTO:-0400
TZNAME:EDT
DTSTART:20220313T070000
END:DAYLIGHT
BEGIN:STANDARD
TZOFFSETFROM:-0400
TZOFFSETTO:-0500
TZNAME:EST
DTSTART:20221106T060000
END:STANDARD
BEGIN:DAYLIGHT
TZOFFSETFROM:-0500
TZOFFSETTO:-0400
TZNAME:EDT
DTSTART:20230312T070000
END:DAYLIGHT
BEGIN:STANDARD
TZOFFSETFROM:-0400
TZOFFSETTO:-0500
TZNAME:EST
DTSTART:20231105T060000
END:STANDARD
BEGIN:DAYLIGHT
TZOFFSETFROM:-0500
TZOFFSETTO:-0400
TZNAME:EDT
DTSTART:20240310T070000
END:DAYLIGHT
BEGIN:STANDARD
TZOFFSETFROM:-0400
TZOFFSETTO:-0500
TZNAME:EST
DTSTART:20241103T060000
END:STANDARD
END:VTIMEZONE
BEGIN:VEVENT
DTSTART;TZID=America/New_York:20230903T103000
DTEND;TZID=America/New_York:20230903T140000
DTSTAMP:20260420T222524
CREATED:20230901T123035Z
LAST-MODIFIED:20230901T123035Z
UID:10001118-1693737000-1693749600@moac.org
SUMMARY:Pratt Brook Preserve and Gather Restaurant
DESCRIPTION:We will meet at Gather Restaurant in Yarmouth at 10:30am.  They have an awesome brunch with live music.  From there we will go to Pratt Brook Park\, also in Yarmouth\, and walk for about an hour or more.  See below for links to both. \nhttps://www.gathermaine.com/ \nhttps://www.mainetrailfinder.com/trails/trail/pratt-s-brook-park \n 
URL:https://moac.org/event/pratt-brook-preserve-and-gather-restaurant/
CATEGORIES:Hiking
ORGANIZER;CN="Kathie McCatherin":MAILTO:kathiejoy@maine.rr.com
END:VEVENT
BEGIN:VEVENT
DTSTART;TZID=America/New_York:20230923T083000
DTEND;TZID=America/New_York:20230923T160000
DTSTAMP:20260420T222524
CREATED:20230918T135533Z
LAST-MODIFIED:20230918T200430Z
UID:10001132-1695457800-1695484800@moac.org
SUMMARY:Chocorua
DESCRIPTION:Taking the loop CCW up to Carter Ledge then along the ridge. Looking like good weather! Meeting at the trailhead @ 8:30 with any luck the parking lot won’t fill up too early\, if so there are plenty of parking lots that connect to the loop. Can discuss carpooling from Conway.
URL:https://moac.org/event/chocorua/
CATEGORIES:Hiking
ATTACH;FMTTYPE=image/jpeg:https://moac.org/wp-content/uploads/800px-Mount_Chocorua_and_Chocorua_Lake_8101442800_cropped.jpg
ORGANIZER;CN="Josh Soucy":MAILTO:Soucyjoshua@gmail.com
END:VEVENT
BEGIN:VEVENT
DTSTART;VALUE=DATE:20230930
DTEND;VALUE=DATE:20231003
DTSTAMP:20260420T222524
CREATED:20230928T144144Z
LAST-MODIFIED:20230928T144144Z
UID:10001145-1696032000-1696291199@moac.org
SUMMARY:Moosehead Lake Greenville\, Gorham Chairback Lodge
DESCRIPTION:AMC Gorham Chairback Lodge has some rooms available this weekend.  Lodging is ~ $110.00 per night and includes meals. Come relax and get away this weekend. Northwoods Outfitters has bikes\, ATV\, canoes ect for rent nearby.
URL:https://moac.org/event/moosehead-lake-greenville-gorham-chairback-lodge/
CATEGORIES:Hiking,Kayaking/Canoeing,Mountain Biking
ORGANIZER;CN="Daphne":MAILTO:luckydog2993@gmail.com
END:VEVENT
END:VCALENDAR