BEGIN:VCALENDAR
VERSION:2.0
PRODID:-//MOAC - Maine Outdoor Adventure Club - ECPv6.15.12.1//NONSGML v1.0//EN
CALSCALE:GREGORIAN
METHOD:PUBLISH
X-ORIGINAL-URL:https://moac.org
X-WR-CALDESC:Events for MOAC - Maine Outdoor Adventure Club
REFRESH-INTERVAL;VALUE=DURATION:PT1H
X-Robots-Tag:noindex
X-PUBLISHED-TTL:PT1H
BEGIN:VTIMEZONE
TZID:America/New_York
BEGIN:DAYLIGHT
TZOFFSETFROM:-0500
TZOFFSETTO:-0400
TZNAME:EDT
DTSTART:20230312T070000
END:DAYLIGHT
BEGIN:STANDARD
TZOFFSETFROM:-0400
TZOFFSETTO:-0500
TZNAME:EST
DTSTART:20231105T060000
END:STANDARD
BEGIN:DAYLIGHT
TZOFFSETFROM:-0500
TZOFFSETTO:-0400
TZNAME:EDT
DTSTART:20240310T070000
END:DAYLIGHT
BEGIN:STANDARD
TZOFFSETFROM:-0400
TZOFFSETTO:-0500
TZNAME:EST
DTSTART:20241103T060000
END:STANDARD
BEGIN:DAYLIGHT
TZOFFSETFROM:-0500
TZOFFSETTO:-0400
TZNAME:EDT
DTSTART:20250309T070000
END:DAYLIGHT
BEGIN:STANDARD
TZOFFSETFROM:-0400
TZOFFSETTO:-0500
TZNAME:EST
DTSTART:20251102T060000
END:STANDARD
END:VTIMEZONE
BEGIN:VEVENT
DTSTART;VALUE=DATE:20240101
DTEND;VALUE=DATE:20240102
DTSTAMP:20260420T100608
CREATED:20231228T221100Z
LAST-MODIFIED:20231228T221100Z
UID:10001232-1704067200-1704153599@moac.org
SUMMARY:First Day Hikes in Maine
DESCRIPTION:Happy New Year! I see State Parks all over the country are hosting First Day Hikes on January 1st. Here are the listings of short hikes in Maine\, the times vary. I will not be joining but wanted to pass this along. Nice idea. https://www.maine.gov/dacf/parks/discover_history_explore_nature/activities/first-day-hikes.shtml. Enjoy
URL:https://moac.org/event/first-day-hikes-in-maine/
CATEGORIES:Hiking
ORGANIZER;CN="Beth":MAILTO:justbethemail@gmail.com
END:VEVENT
BEGIN:VEVENT
DTSTART;TZID=America/New_York:20240108T080000
DTEND;TZID=America/New_York:20240111T170000
DTSTAMP:20260420T100608
CREATED:20240106T164036Z
LAST-MODIFIED:20240106T164837Z
UID:10001248-1704700800-1704992400@moac.org
SUMMARY:MON-WED three Bethel days
DESCRIPTION:Meet up in the idyllic snow village of western Maine.  Two nights at Jordan\, Summit or Riverview.  Let me know if interested\, and we’ll figure out reasonable\, luxurious lodging!
URL:https://moac.org/event/mon-wed-three-bethel-days/2024-01-08/
CATEGORIES:Hiking,Skiing-Downhill,Skiing-XC/Classic/Skate,Snowshoeing
END:VEVENT
BEGIN:VEVENT
DTSTART;TZID=America/New_York:20240127T100000
DTEND;TZID=America/New_York:20240127T143000
DTSTAMP:20260420T100608
CREATED:20240123T195257Z
LAST-MODIFIED:20240123T195257Z
UID:10001262-1706349600-1706365800@moac.org
SUMMARY:Heard and Bradley Pond Preserve HIke
DESCRIPTION:Let’s meet at the route 5 (main street) parking lot in Lovell at 10 am for a hike. From Portland\, take 302 north to 93 and then 5. Take ME Route 5 North. Pass Slab City Road on the right and travel for .5 miles\, the parking lot is on the right. We can organize a carpool as well once I know who is coming and what the weather should be. \nPlease bring microspikes and your winter 10 essentials\, including winter layers. No cotton! Bring also water and snacks since I want to get to all three vistas\, so we will hike close to 6 miles total. You can find the map as the image. We will route find together. \nThe 802-acre reserve includes over a mile of shoreline on Heald Pond and over half a mile on Bradley Pond. It is a terrain of forests\, streams\, hills\, and wetlands. There are also three scenic vistas and a network of over 9 miles of trails.
URL:https://moac.org/event/heard-and-bradley-pond-preserve-hike/
CATEGORIES:Hiking
ATTACH;FMTTYPE=image/jpeg:https://moac.org/wp-content/uploads/HBTrailMap_2020_05_20.jpg
ORGANIZER;CN="Sarah":MAILTO:sarah.joness@gmail.com
END:VEVENT
END:VCALENDAR