BEGIN:VCALENDAR
VERSION:2.0
PRODID:-//MOAC - Maine Outdoor Adventure Club - ECPv6.15.12.1//NONSGML v1.0//EN
CALSCALE:GREGORIAN
METHOD:PUBLISH
X-WR-CALNAME:MOAC - Maine Outdoor Adventure Club
X-ORIGINAL-URL:https://moac.org
X-WR-CALDESC:Events for MOAC - Maine Outdoor Adventure Club
REFRESH-INTERVAL;VALUE=DURATION:PT1H
X-Robots-Tag:noindex
X-PUBLISHED-TTL:PT1H
BEGIN:VTIMEZONE
TZID:America/New_York
BEGIN:DAYLIGHT
TZOFFSETFROM:-0500
TZOFFSETTO:-0400
TZNAME:EDT
DTSTART:20210314T070000
END:DAYLIGHT
BEGIN:STANDARD
TZOFFSETFROM:-0400
TZOFFSETTO:-0500
TZNAME:EST
DTSTART:20211107T060000
END:STANDARD
BEGIN:DAYLIGHT
TZOFFSETFROM:-0500
TZOFFSETTO:-0400
TZNAME:EDT
DTSTART:20220313T070000
END:DAYLIGHT
BEGIN:STANDARD
TZOFFSETFROM:-0400
TZOFFSETTO:-0500
TZNAME:EST
DTSTART:20221106T060000
END:STANDARD
BEGIN:DAYLIGHT
TZOFFSETFROM:-0500
TZOFFSETTO:-0400
TZNAME:EDT
DTSTART:20230312T070000
END:DAYLIGHT
BEGIN:STANDARD
TZOFFSETFROM:-0400
TZOFFSETTO:-0500
TZNAME:EST
DTSTART:20231105T060000
END:STANDARD
END:VTIMEZONE
BEGIN:VEVENT
DTSTART;TZID=America/New_York:20220529T090000
DTEND;TZID=America/New_York:20220529T153000
DTSTAMP:20260423T150607
CREATED:20220516T142322Z
LAST-MODIFIED:20220526T200145Z
UID:10000513-1653814800-1653838200@moac.org
SUMMARY:Acadia Hike and Bike
DESCRIPTION:In conjunction with the Acadia Memorial Day weekend trip I will be leading a Hike and Bike on the carriage roads May 28th ( rain date May 29th ). From Bar Harbor Campground we will all meet up at the Brown Mountain parking lot on Route 3 at 8:30 AM (depending on our group needs and weather the time can be adjusted).  Please bring a bike suitable for the carriage roads\, helmet\, means of carrying your food and water.  There will be 2 short hikes as well so in the past we have brought bike locks.  The pace will be moderate to enjoy the views\, distance 12-20 cycling miles plus short hikes\, and will be passing by the Jordan Pond House (other than using the restrooms unlikely we will go inside). Plan on being back to the parking lot no later than 3:30 PM.  In a prior year there was a mini mutiny (thanks Dave)\, so we can adjust hikes and overall distance to accommodate individual needs.  Please TEXT me at 207-450-4707 if you plan on going or with general questions.  I will be creating a group text of all so if we have to move the time or a rain date I will be able to inform everyone quickly.  Again text me a 207-450-4707.  P.S. please bring a spare tube for your bike.
URL:https://moac.org/event/acadia-hike-and-bike/
CATEGORIES:Camping,Hiking,Mountain Biking,Other/General
ATTACH;FMTTYPE=image/jpeg:https://moac.org/wp-content/uploads/Katherine-and-Kevin.jpg
ORGANIZER;CN="Jerry Jalbert":MAILTO:gjalbert53@gmail.com
END:VEVENT
END:VCALENDAR