BEGIN:VCALENDAR
VERSION:2.0
PRODID:-//MOAC - Maine Outdoor Adventure Club - ECPv6.15.12.1//NONSGML v1.0//EN
CALSCALE:GREGORIAN
METHOD:PUBLISH
X-WR-CALNAME:MOAC - Maine Outdoor Adventure Club
X-ORIGINAL-URL:https://moac.org
X-WR-CALDESC:Events for MOAC - Maine Outdoor Adventure Club
REFRESH-INTERVAL;VALUE=DURATION:PT1H
X-Robots-Tag:noindex
X-PUBLISHED-TTL:PT1H
BEGIN:VTIMEZONE
TZID:America/New_York
BEGIN:DAYLIGHT
TZOFFSETFROM:-0500
TZOFFSETTO:-0400
TZNAME:EDT
DTSTART:20210314T070000
END:DAYLIGHT
BEGIN:STANDARD
TZOFFSETFROM:-0400
TZOFFSETTO:-0500
TZNAME:EST
DTSTART:20211107T060000
END:STANDARD
BEGIN:DAYLIGHT
TZOFFSETFROM:-0500
TZOFFSETTO:-0400
TZNAME:EDT
DTSTART:20220313T070000
END:DAYLIGHT
BEGIN:STANDARD
TZOFFSETFROM:-0400
TZOFFSETTO:-0500
TZNAME:EST
DTSTART:20221106T060000
END:STANDARD
BEGIN:DAYLIGHT
TZOFFSETFROM:-0500
TZOFFSETTO:-0400
TZNAME:EDT
DTSTART:20230312T070000
END:DAYLIGHT
BEGIN:STANDARD
TZOFFSETFROM:-0400
TZOFFSETTO:-0500
TZNAME:EST
DTSTART:20231105T060000
END:STANDARD
END:VTIMEZONE
BEGIN:VEVENT
DTSTART;TZID=America/New_York:20220702T100000
DTEND;TZID=America/New_York:20220702T220000
DTSTAMP:20260423T103917
CREATED:20220606T040059Z
LAST-MODIFIED:20220626T145906Z
UID:10000528-1656756000-1656799200@moac.org
SUMMARY:Hike/Swim & Outdoor Concert-Tixs to buy!
DESCRIPTION:Susan Tedeschi & Derek Trucks band in Guilford\, NH. I have two gen adm lawn seats for $25 each. The most expensive seats are $319!\nA hike will be selected for the day of\, if desired. \nTheir concert at the State Theater sold out and the tixs were $100+. I’ll be commuting from Standish\, Maine (90 minutes) and not camping. You are welcome to camp in NH or in Standish with pool and screened in porch\, if you’d like. \nThis is the “Wheels Of Soul Tour 2022” with Tedeschi Trucks Band\, Los Lobos and Gabe Dixon (Re-scheduled from July 3\, 2021)!!! Gates open at 6:30 PM. Eileen Whynot  \nLineup\n\n\n\nTedeschi Trucks Band\n\n\nLos Lobos\n\n\nGabe Dixon
URL:https://moac.org/event/hike-swim-outdoor-concert/
CATEGORIES:Happy Hour/Dancing,Hiking,Social
ATTACH;FMTTYPE=image/jpeg:https://moac.org/wp-content/uploads/Tedeschi-Trucks.jpeg
END:VEVENT
BEGIN:VEVENT
DTSTART;TZID=America/New_York:20220702T190000
DTEND;TZID=America/New_York:20220702T210000
DTSTAMP:20260423T103917
CREATED:20220702T115454Z
LAST-MODIFIED:20220702T115454Z
UID:10000563-1656788400-1656795600@moac.org
SUMMARY:Sunset walk Pine Point
DESCRIPTION:July 2nd sunset and low tide are both at approximately 8:20 PM. With the 7:00 PM forecast 79 degrees\, light wind\, and low humidity. Shorts\, t-shirts\, bare feet\, and sunglasses are recommended. Fully vaccinated please (honor system). Location: Pine Point Scarborough Municipal parking lot. They stop charging fees at 5:00 PM. Meet at 6:45 PM for 7:00 PM walk. Show and go. No need to contact leader.
URL:https://moac.org/event/sunset-walk-pine-point/
CATEGORIES:Hiking,Other/General,Social,Walking
ATTACH;FMTTYPE=image/gif:https://moac.org/wp-content/uploads/IMG_3718.gif
ORGANIZER;CN="Jerry Jalbert":MAILTO:gjalbert53@gmail.com
END:VEVENT
END:VCALENDAR