BEGIN:VCALENDAR
VERSION:2.0
PRODID:-//MOAC - Maine Outdoor Adventure Club - ECPv6.15.12.1//NONSGML v1.0//EN
CALSCALE:GREGORIAN
METHOD:PUBLISH
X-ORIGINAL-URL:https://moac.org
X-WR-CALDESC:Events for MOAC - Maine Outdoor Adventure Club
REFRESH-INTERVAL;VALUE=DURATION:PT1H
X-Robots-Tag:noindex
X-PUBLISHED-TTL:PT1H
BEGIN:VTIMEZONE
TZID:America/New_York
BEGIN:DAYLIGHT
TZOFFSETFROM:-0500
TZOFFSETTO:-0400
TZNAME:EDT
DTSTART:20210314T070000
END:DAYLIGHT
BEGIN:STANDARD
TZOFFSETFROM:-0400
TZOFFSETTO:-0500
TZNAME:EST
DTSTART:20211107T060000
END:STANDARD
BEGIN:DAYLIGHT
TZOFFSETFROM:-0500
TZOFFSETTO:-0400
TZNAME:EDT
DTSTART:20220313T070000
END:DAYLIGHT
BEGIN:STANDARD
TZOFFSETFROM:-0400
TZOFFSETTO:-0500
TZNAME:EST
DTSTART:20221106T060000
END:STANDARD
BEGIN:DAYLIGHT
TZOFFSETFROM:-0500
TZOFFSETTO:-0400
TZNAME:EDT
DTSTART:20230312T070000
END:DAYLIGHT
BEGIN:STANDARD
TZOFFSETFROM:-0400
TZOFFSETTO:-0500
TZNAME:EST
DTSTART:20231105T060000
END:STANDARD
END:VTIMEZONE
BEGIN:VEVENT
DTSTART;TZID=America/New_York:20220708T140000
DTEND;TZID=America/New_York:20220710T100000
DTSTAMP:20260423T104204
CREATED:20220410T173622Z
LAST-MODIFIED:20220628T020501Z
UID:10000444-1657288800-1657447200@moac.org
SUMMARY:** Downeast Camping Brooklin ** Space Available
DESCRIPTION:UPDATE: Spots available! I have had some cancellations. Please contact us if you would like to join!  \nPlease respond to marty@donnellpond.com. Use Downeast Camping in the subject line. I will be in touch regarding payment. \nWe have reserved 4 tenting group campsites at the Reach Knolls Campground in Brooklin\, Maine. The campground is quiet with hot showers and on the ocean. Brooklin is a small village south of Blue Hill\, ME and away from the tourism of many coastal areas. Explore the Blue Hill and Deer Isle Peninsula by bike\, kayak\, or hike. Stonington is 30 minutes away; Acadia National Park is an hour away. The Deer Isle archipelago is a favorite for kayakers\, but there is also plenty of hiking and other activities nearby. \nIf you plan to kayak and want to join a group\, make sure you have your own sea kayak with skirt\, pdf\, etc. Kayak group leaders will want to assess skill levels so that each group has the appropriate skill levels. We will want to keep pods of kayakers to 6 or less because parking can be limited at put ins. If you are interested in learning to kayak\, there are several outfitters nearby that can provide lessons and equipment. \nWe will have a pot luck dinner one night\, on your own/eat out one night\, and maybe a group breakfast SUNDAY morning. These are tent sites; there are RV sites around the corner\, but book now if you want an RV site. Don’t forget your chair for campfire circle. \nCost is initially $20/person. This may change depending on how many people sign up. We will limit this activity to 20 people. Arrive Friday\, July 8\, depart Sunday morning\, July 10 – two nights of fun and three days of adventure. Or stay two more night\, let me know the length of your stay. \nLocation\nOceanfront Camping @ Reach Knolls\n670 Reach Road\, Brooklin ME\nView Map \nPlease respond to marty@donnellpond.com. Use Downeast Camping in the subject line. I will be in touch regarding payment.
URL:https://moac.org/event/downeast-camping-brooklin-me/
CATEGORIES:Camping,Hiking,Kayaking/Canoeing,Other/General
ATTACH;FMTTYPE=image/jpeg:https://moac.org/wp-content/uploads/downeast-camping-brooklin-me.jpg
END:VEVENT
END:VCALENDAR