BEGIN:VCALENDAR
VERSION:2.0
PRODID:-//MOAC - Maine Outdoor Adventure Club - ECPv6.15.12.1//NONSGML v1.0//EN
CALSCALE:GREGORIAN
METHOD:PUBLISH
X-WR-CALNAME:MOAC - Maine Outdoor Adventure Club
X-ORIGINAL-URL:https://moac.org
X-WR-CALDESC:Events for MOAC - Maine Outdoor Adventure Club
REFRESH-INTERVAL;VALUE=DURATION:PT1H
X-Robots-Tag:noindex
X-PUBLISHED-TTL:PT1H
BEGIN:VTIMEZONE
TZID:America/New_York
BEGIN:DAYLIGHT
TZOFFSETFROM:-0500
TZOFFSETTO:-0400
TZNAME:EDT
DTSTART:20210314T070000
END:DAYLIGHT
BEGIN:STANDARD
TZOFFSETFROM:-0400
TZOFFSETTO:-0500
TZNAME:EST
DTSTART:20211107T060000
END:STANDARD
BEGIN:DAYLIGHT
TZOFFSETFROM:-0500
TZOFFSETTO:-0400
TZNAME:EDT
DTSTART:20220313T070000
END:DAYLIGHT
BEGIN:STANDARD
TZOFFSETFROM:-0400
TZOFFSETTO:-0500
TZNAME:EST
DTSTART:20221106T060000
END:STANDARD
BEGIN:DAYLIGHT
TZOFFSETFROM:-0500
TZOFFSETTO:-0400
TZNAME:EDT
DTSTART:20230312T070000
END:DAYLIGHT
BEGIN:STANDARD
TZOFFSETFROM:-0400
TZOFFSETTO:-0500
TZNAME:EST
DTSTART:20231105T060000
END:STANDARD
END:VTIMEZONE
BEGIN:VEVENT
DTSTART;TZID=America/New_York:20220731T020000
DTEND;TZID=America/New_York:20220731T020000
DTSTAMP:20260423T030731
CREATED:20220727T005152Z
LAST-MODIFIED:20220728T004815Z
UID:10000605-1659232800-1659232800@moac.org
SUMMARY:Climb Mt. Moriah via Stony Brook Trail
DESCRIPTION:Hike the Stony Brook Trail up Mt. Moriah\, one of the NH 4\,000 footers. It’s a challenging hike of 10 miles round trip\, 3\,100′ elevation gain\, and should take most of the day. There are beautiful views from the bare ledges near the top\, and several stream crossings on the way up. I don’t expect high water so those should be easy. The weather looks great for hiking – temps around 60 at the summit and warmer below. Bring at least 2L water\, lunch and snacks\, bug spray and a wind breaker for the top just in case. We will probably stop afterwards for food and drink. \nFully vaccinated hikers only\, max group size is 8. Text (207-380-6008) or email to RSVP for meeting places and times (we’re not leaving at 2 am)\, and to carpool.
URL:https://moac.org/event/climb-mt-moriah-via-stony-brook-trail/
CATEGORIES:Hiking
ORGANIZER;CN="Anne Geisler":MAILTO:annegme.123@gmail.com
END:VEVENT
END:VCALENDAR