BEGIN:VCALENDAR
VERSION:2.0
PRODID:-//MOAC - Maine Outdoor Adventure Club - ECPv6.15.12.1//NONSGML v1.0//EN
CALSCALE:GREGORIAN
METHOD:PUBLISH
X-ORIGINAL-URL:https://moac.org
X-WR-CALDESC:Events for MOAC - Maine Outdoor Adventure Club
REFRESH-INTERVAL;VALUE=DURATION:PT1H
X-Robots-Tag:noindex
X-PUBLISHED-TTL:PT1H
BEGIN:VTIMEZONE
TZID:America/New_York
BEGIN:DAYLIGHT
TZOFFSETFROM:-0500
TZOFFSETTO:-0400
TZNAME:EDT
DTSTART:20210314T070000
END:DAYLIGHT
BEGIN:STANDARD
TZOFFSETFROM:-0400
TZOFFSETTO:-0500
TZNAME:EST
DTSTART:20211107T060000
END:STANDARD
BEGIN:DAYLIGHT
TZOFFSETFROM:-0500
TZOFFSETTO:-0400
TZNAME:EDT
DTSTART:20220313T070000
END:DAYLIGHT
BEGIN:STANDARD
TZOFFSETFROM:-0400
TZOFFSETTO:-0500
TZNAME:EST
DTSTART:20221106T060000
END:STANDARD
BEGIN:DAYLIGHT
TZOFFSETFROM:-0500
TZOFFSETTO:-0400
TZNAME:EDT
DTSTART:20230312T070000
END:DAYLIGHT
BEGIN:STANDARD
TZOFFSETFROM:-0400
TZOFFSETTO:-0500
TZNAME:EST
DTSTART:20231105T060000
END:STANDARD
END:VTIMEZONE
BEGIN:VEVENT
DTSTART;TZID=America/New_York:20220820T110000
DTEND;TZID=America/New_York:20220820T150000
DTSTAMP:20260423T081558
CREATED:20220416T141813Z
LAST-MODIFIED:20220916T001733Z
UID:10000451-1660993200-1661007600@moac.org
SUMMARY:Introduction to Hiking – Progressive Hike 5
DESCRIPTION:  \nIntroduction to Mountain Hiking – Progressive Series\nHike #5 Pleasant Mountain  \nHave you been wanting to try hiking\, but don’t feel up to the bigger hikes?  This is the final hike in this series.  We started small and have been doing progressively harder hikes.  This hike is a good moderate hike.  If you’re unsure what equipment & clothing you need\, you can learn that too\, so you can have a safe and enjoyable hike.   This is the fifth hike in the series. \nHere’s the plan for this last hike: \nAugust 20 – Pleasant Mountain\, Bridgton/Denmark\, Firewarden’s Trail.  5.0 mi\, 1500’\, 4hours.  AllTrails description & map. \nEach hike is scheduled for a Saturday.  The rain date will be the next day (Sunday).  I’ll keep track of the weather as each hike gets close.  \nBy reservation only.  Maximum of 8 people.  Contact me by email to make a reservation.  More details before the hike.
URL:https://moac.org/event/introduction-to-hiking-progressive-hike-5/2022-08-20/
CATEGORIES:Hiking
ATTACH;FMTTYPE=image/jpeg:https://moac.org/wp-content/uploads/Pleasant-Mountain-1.jpeg
ORGANIZER;CN="Bill Briggs":MAILTO:wdbriggs10@gmail.com
END:VEVENT
BEGIN:VEVENT
DTSTART;TZID=America/New_York:20220820T110000
DTEND;TZID=America/New_York:20220820T190000
DTSTAMP:20260423T081558
CREATED:20220819T012210Z
LAST-MODIFIED:20220819T012210Z
UID:10000659-1660993200-1661022000@moac.org
SUMMARY:Mt. Will/Frenchman's Hole
DESCRIPTION:Hike Mt. Will in Newry\, near Sunday River. 1\,700 ft gain\, 2 hr 30 minute loop hike. \nCool off in Frenchman’s Hole following\, about 10 miles away. \nThis is an afternoon hike. For carpool: \nMeet at: 11:00 am at West Falmouth Park & Ride next to Hannaford or 11:30 am\, Exit 63 Park & Ride in Gray. \nFor the hike: \nMeet at trailhead at 1:00 pm. Hit the trail at 1:15\, done by 3:30 – 4:00 pm. Drive to Frenchman’s for late afternoon swim – supposed to be hot out. Dinner/drinks on the way home for those interested. \nLet me know if going by 8:00 am Saturday. \n207-Seven One 2-7294 or email.
URL:https://moac.org/event/mt-will-frenchmans-hole/
CATEGORIES:Hiking
END:VEVENT
END:VCALENDAR