BEGIN:VCALENDAR
VERSION:2.0
PRODID:-//MOAC - Maine Outdoor Adventure Club - ECPv6.15.12.1//NONSGML v1.0//EN
CALSCALE:GREGORIAN
METHOD:PUBLISH
X-WR-CALNAME:MOAC - Maine Outdoor Adventure Club
X-ORIGINAL-URL:https://moac.org
X-WR-CALDESC:Events for MOAC - Maine Outdoor Adventure Club
REFRESH-INTERVAL;VALUE=DURATION:PT1H
X-Robots-Tag:noindex
X-PUBLISHED-TTL:PT1H
BEGIN:VTIMEZONE
TZID:America/New_York
BEGIN:DAYLIGHT
TZOFFSETFROM:-0500
TZOFFSETTO:-0400
TZNAME:EDT
DTSTART:20210314T070000
END:DAYLIGHT
BEGIN:STANDARD
TZOFFSETFROM:-0400
TZOFFSETTO:-0500
TZNAME:EST
DTSTART:20211107T060000
END:STANDARD
BEGIN:DAYLIGHT
TZOFFSETFROM:-0500
TZOFFSETTO:-0400
TZNAME:EDT
DTSTART:20220313T070000
END:DAYLIGHT
BEGIN:STANDARD
TZOFFSETFROM:-0400
TZOFFSETTO:-0500
TZNAME:EST
DTSTART:20221106T060000
END:STANDARD
BEGIN:DAYLIGHT
TZOFFSETFROM:-0500
TZOFFSETTO:-0400
TZNAME:EDT
DTSTART:20230312T070000
END:DAYLIGHT
BEGIN:STANDARD
TZOFFSETFROM:-0400
TZOFFSETTO:-0500
TZNAME:EST
DTSTART:20231105T060000
END:STANDARD
END:VTIMEZONE
BEGIN:VEVENT
DTSTART;TZID=America/New_York:20220915T093000
DTEND;TZID=America/New_York:20220915T113000
DTSTAMP:20260422T182321
CREATED:20220913T211420Z
LAST-MODIFIED:20220914T160217Z
UID:10000690-1663234200-1663241400@moac.org
SUMMARY:Hike Douglas Mt. Loop Trail Thursday
DESCRIPTION:Meet at the trailhead at 9:30 AM. Parking is accessed from Ledge Rd. There might be a charge for parking.  Bring water and snacks. Dogs are not allowed on this trail. 1.8 miles. Elevation gain 469 feet. \nToo windy to paddle this week so this seemed like a good alternative. \nPlease contact me if you plan to go in case I have to cancel for some reason. I will then have a way to reach you.  betsy.hanscom@gmail.com or 207-754-9692\, text or call
URL:https://moac.org/event/hike-douglas-mt-loop-trail-thursday/
CATEGORIES:Hiking
ORGANIZER;CN="Betsy Hanscom":MAILTO:betsy.hanscom@gmail.com
END:VEVENT
END:VCALENDAR