BEGIN:VCALENDAR
VERSION:2.0
PRODID:-//MOAC - Maine Outdoor Adventure Club - ECPv6.15.12.1//NONSGML v1.0//EN
CALSCALE:GREGORIAN
METHOD:PUBLISH
X-ORIGINAL-URL:https://moac.org
X-WR-CALDESC:Events for MOAC - Maine Outdoor Adventure Club
REFRESH-INTERVAL;VALUE=DURATION:PT1H
X-Robots-Tag:noindex
X-PUBLISHED-TTL:PT1H
BEGIN:VTIMEZONE
TZID:America/New_York
BEGIN:DAYLIGHT
TZOFFSETFROM:-0500
TZOFFSETTO:-0400
TZNAME:EDT
DTSTART:20210314T070000
END:DAYLIGHT
BEGIN:STANDARD
TZOFFSETFROM:-0400
TZOFFSETTO:-0500
TZNAME:EST
DTSTART:20211107T060000
END:STANDARD
BEGIN:DAYLIGHT
TZOFFSETFROM:-0500
TZOFFSETTO:-0400
TZNAME:EDT
DTSTART:20220313T070000
END:DAYLIGHT
BEGIN:STANDARD
TZOFFSETFROM:-0400
TZOFFSETTO:-0500
TZNAME:EST
DTSTART:20221106T060000
END:STANDARD
BEGIN:DAYLIGHT
TZOFFSETFROM:-0500
TZOFFSETTO:-0400
TZNAME:EDT
DTSTART:20230312T070000
END:DAYLIGHT
BEGIN:STANDARD
TZOFFSETFROM:-0400
TZOFFSETTO:-0500
TZNAME:EST
DTSTART:20231105T060000
END:STANDARD
END:VTIMEZONE
BEGIN:VEVENT
DTSTART;TZID=America/New_York:20220917T020000
DTEND;TZID=America/New_York:20220917T020000
DTSTAMP:20260422T154245
CREATED:20220914T162702Z
LAST-MODIFIED:20220915T123947Z
UID:10000691-1663380000-1663380000@moac.org
SUMMARY:Climb Baldface Circle Loop
DESCRIPTION:*** Changed to Saturday because of weather. *** We’ll go up the steep rock face of Baldface to South Baldface peak\, across the ridge to North Baldface and come down the Bicknell Ridge trail. It’s about 10 miles all together\, 3\,650′ elevation gain – a long and challenging hike. This isn’t for anyone with a fear of heights – there are some exposed feeling places on the bald face. Bring at least 2 liters water\, extra layers for the top including a rain jacket (highs will be in the 50s on the ridge and it’s usually windy)\, lunch and snacks. If the chance of rain increases I may reschedule this for Saturday. RSVP by text\, call or email for meeting places and times and to arrange car pooling (we’re not leaving at 2 am); max group size is 8. Fully vaccinated hikers only. If we haven’t hiked together before\, please let me know your experience climbing 4000 footers this year\, and send me a photo of your vax card when you RSVP. I can’t stop for refreshments afterwards but one car probably will.
URL:https://moac.org/event/climb-baldface-circle-loop/
CATEGORIES:Hiking
ATTACH;FMTTYPE=image/jpeg:https://moac.org/wp-content/uploads/IMG_9288.jpg
ORGANIZER;CN="Anne Geisler":MAILTO:annegme.123@gmail.com
END:VEVENT
END:VCALENDAR