BEGIN:VCALENDAR
VERSION:2.0
PRODID:-//MOAC - Maine Outdoor Adventure Club - ECPv6.15.12.1//NONSGML v1.0//EN
CALSCALE:GREGORIAN
METHOD:PUBLISH
X-ORIGINAL-URL:https://moac.org
X-WR-CALDESC:Events for MOAC - Maine Outdoor Adventure Club
REFRESH-INTERVAL;VALUE=DURATION:PT1H
X-Robots-Tag:noindex
X-PUBLISHED-TTL:PT1H
BEGIN:VTIMEZONE
TZID:America/New_York
BEGIN:DAYLIGHT
TZOFFSETFROM:-0500
TZOFFSETTO:-0400
TZNAME:EDT
DTSTART:20210314T070000
END:DAYLIGHT
BEGIN:STANDARD
TZOFFSETFROM:-0400
TZOFFSETTO:-0500
TZNAME:EST
DTSTART:20211107T060000
END:STANDARD
BEGIN:DAYLIGHT
TZOFFSETFROM:-0500
TZOFFSETTO:-0400
TZNAME:EDT
DTSTART:20220313T070000
END:DAYLIGHT
BEGIN:STANDARD
TZOFFSETFROM:-0400
TZOFFSETTO:-0500
TZNAME:EST
DTSTART:20221106T060000
END:STANDARD
BEGIN:DAYLIGHT
TZOFFSETFROM:-0500
TZOFFSETTO:-0400
TZNAME:EDT
DTSTART:20230312T070000
END:DAYLIGHT
BEGIN:STANDARD
TZOFFSETFROM:-0400
TZOFFSETTO:-0500
TZNAME:EST
DTSTART:20231105T060000
END:STANDARD
END:VTIMEZONE
BEGIN:VEVENT
DTSTART;TZID=America/New_York:20220919T140000
DTEND;TZID=America/New_York:20220922T100000
DTSTAMP:20260422T183116
CREATED:20220816T205019Z
LAST-MODIFIED:20220816T205019Z
UID:10000642-1663596000-1663840800@moac.org
SUMMARY:Baxter State Park
DESCRIPTION:Consider a foray into Baxter Park with bunkhouse accommodations at Chimney Pond. This will require a backpack of 3.3 miles each way in from Roaring Brook and out from Chimney Pond. There are multiple day hike options including all Katahdin peaks\, Russell and Davis Ponds\, Pamola caves\, NW Basin. Bunkhouse is reserved for September 19\, 20 and 21st. There are 7 spots open and $30 will hold space. \n\nThis is a trip for more experienced hikers with some backpacking/wilderness experience.  For details on equipment\, please refer to Backpacking checklist on REI.com. (Will not need tent due to enclosed bunkhouse.) Due to closeness of quarters\, prefer those with COVID vaccinations. This will be a hike your own hike trip but groups and support for others encouraged.  Though parking is included in this reservation\, carpooling\, meet up time to hike in will be discussed at least a week before the trip. More details on Baxter Park can be found: https://baxterstatepark.org/camp-summer/#prepare
URL:https://moac.org/event/baxter-state-park/
CATEGORIES:Hiking
ORGANIZER;CN="Georgann Dickey":MAILTO:georganndickey@gmail.com
END:VEVENT
BEGIN:VEVENT
DTSTART;TZID=America/New_York:20220920T150000
DTEND;TZID=America/New_York:20220924T100000
DTSTAMP:20260422T183116
CREATED:20220811T194339Z
LAST-MODIFIED:20220918T002147Z
UID:10000633-1663686000-1664013600@moac.org
SUMMARY:Fall Getaway at Mt. Chase Lodge for Active Seniors
DESCRIPTION:UPDATE – My husband just tested positive for Covid so we are having to cancel. However\, others are going at this time. We were holding a 2 bedroom townhouse that may be available. \nJoin a group of Thursday Hikers (Topsham/Brunswick area group) for a 3 or 4 nights stay at Mt. Chase Lodge on Upper Shin Pond. Check it out here – https://mtchaselodge.com/ \nI’d be happy to try to help folks set this up for to share. 1 Queen and 2 twins and 1 queen and bunk bed with full and twin plus a futon couch. One cabin for 3 nights with 3 bedrooms. 2 MOAC members are staying next door at Shin Pond Village. \nWe are getting a discounted rate so be sure to talk to me before booking. A deposit is required and non-refundable but can be used within one year. \nYou can bring your own kayak or SUP or use one of the lodge’s. Hiking includes Katahdin Woods and Waters National Monument\, Baxter State Park (north entrance) and Mt. Chase. Paddle at Scraggly Lake or Grand Lake Matagamon (Baxter State Park). Hike to Grand Pitch on the Sebois River. Drop down to Grindstone and hike or bike the Penobscot River Trails. And there’s more to choose from. \nCarry out lunches and full dinners are available except Tuesday night. Feel free to contact me if you have any questions.
URL:https://moac.org/event/fall-getaway-at-mt-chase-lodge-for-active-seniors-2/
CATEGORIES:Hiking,Kayaking/Canoeing,Social
ATTACH;FMTTYPE=image/jpeg:https://moac.org/wp-content/uploads/P9070417.jpg
ORGANIZER;CN="Michelle Moody":MAILTO:moac@micstan.us
END:VEVENT
END:VCALENDAR