BEGIN:VCALENDAR
VERSION:2.0
PRODID:-//MOAC - Maine Outdoor Adventure Club - ECPv6.15.12.1//NONSGML v1.0//EN
CALSCALE:GREGORIAN
METHOD:PUBLISH
X-ORIGINAL-URL:https://moac.org
X-WR-CALDESC:Events for MOAC - Maine Outdoor Adventure Club
REFRESH-INTERVAL;VALUE=DURATION:PT1H
X-Robots-Tag:noindex
X-PUBLISHED-TTL:PT1H
BEGIN:VTIMEZONE
TZID:America/New_York
BEGIN:DAYLIGHT
TZOFFSETFROM:-0500
TZOFFSETTO:-0400
TZNAME:EDT
DTSTART:20210314T070000
END:DAYLIGHT
BEGIN:STANDARD
TZOFFSETFROM:-0400
TZOFFSETTO:-0500
TZNAME:EST
DTSTART:20211107T060000
END:STANDARD
BEGIN:DAYLIGHT
TZOFFSETFROM:-0500
TZOFFSETTO:-0400
TZNAME:EDT
DTSTART:20220313T070000
END:DAYLIGHT
BEGIN:STANDARD
TZOFFSETFROM:-0400
TZOFFSETTO:-0500
TZNAME:EST
DTSTART:20221106T060000
END:STANDARD
BEGIN:DAYLIGHT
TZOFFSETFROM:-0500
TZOFFSETTO:-0400
TZNAME:EDT
DTSTART:20230312T070000
END:DAYLIGHT
BEGIN:STANDARD
TZOFFSETFROM:-0400
TZOFFSETTO:-0500
TZNAME:EST
DTSTART:20231105T060000
END:STANDARD
END:VTIMEZONE
BEGIN:VEVENT
DTSTART;TZID=America/New_York:20221007T120000
DTEND;TZID=America/New_York:20221010T140000
DTSTAMP:20260423T025638
CREATED:20220926T174753Z
LAST-MODIFIED:20220926T174753Z
UID:10000694-1665144000-1665410400@moac.org
SUMMARY:Acadia Camping\, Biking\, and Hiking
DESCRIPTION:Join me for a MOAC tradition that is back!! \n\n\nWe will be camping at Bar Harbor Campground.   See link:  https://www.thebarharborcampground.com/  Please review so that you are aware of the campground rules\, etc.  I believe tenting is $34.00 per night.   They do not take credit cards or reservations but we have never had issues securing sites.  We generally camp along Loop “B”. \nThe plan will be to bike the carriage paths or hike.  If anyone wants to post a planned trip\, it will be welcome.  Otherwise\, decisions will be spontaneous. \nIf there is interest\, potluck on Saturday night.  If not\, everyone is on their own for food. \nHopefully the weather will cooperate.  If not\, we can bail at the last minute. \n  \n 
URL:https://moac.org/event/acadia-camping-biking-and-hiking/
CATEGORIES:Camping,Hiking,Road Biking
ORGANIZER;CN="Bonnie Farrand":MAILTO:Bonniefarrand@gmail.com
END:VEVENT
END:VCALENDAR