BEGIN:VCALENDAR
VERSION:2.0
PRODID:-//MOAC - Maine Outdoor Adventure Club - ECPv6.15.12.1//NONSGML v1.0//EN
CALSCALE:GREGORIAN
METHOD:PUBLISH
X-ORIGINAL-URL:https://moac.org
X-WR-CALDESC:Events for MOAC - Maine Outdoor Adventure Club
REFRESH-INTERVAL;VALUE=DURATION:PT1H
X-Robots-Tag:noindex
X-PUBLISHED-TTL:PT1H
BEGIN:VTIMEZONE
TZID:America/New_York
BEGIN:DAYLIGHT
TZOFFSETFROM:-0500
TZOFFSETTO:-0400
TZNAME:EDT
DTSTART:20210314T070000
END:DAYLIGHT
BEGIN:STANDARD
TZOFFSETFROM:-0400
TZOFFSETTO:-0500
TZNAME:EST
DTSTART:20211107T060000
END:STANDARD
BEGIN:DAYLIGHT
TZOFFSETFROM:-0500
TZOFFSETTO:-0400
TZNAME:EDT
DTSTART:20220313T070000
END:DAYLIGHT
BEGIN:STANDARD
TZOFFSETFROM:-0400
TZOFFSETTO:-0500
TZNAME:EST
DTSTART:20221106T060000
END:STANDARD
BEGIN:DAYLIGHT
TZOFFSETFROM:-0500
TZOFFSETTO:-0400
TZNAME:EDT
DTSTART:20230312T070000
END:DAYLIGHT
BEGIN:STANDARD
TZOFFSETFROM:-0400
TZOFFSETTO:-0500
TZNAME:EST
DTSTART:20231105T060000
END:STANDARD
END:VTIMEZONE
BEGIN:VEVENT
DTSTART;TZID=America/New_York:20221102T100000
DTEND;TZID=America/New_York:20221102T130000
DTSTAMP:20260423T034559
CREATED:20221030T183855Z
LAST-MODIFIED:20221030T183855Z
UID:10000726-1667383200-1667394000@moac.org
SUMMARY:Hike Thayer Brook Preserve
DESCRIPTION:This is a no hunting game preserve that is part of the Royal River Land Trust.  In spite of that you\, may want to wear blaze orange. Meet at 10 AM at the trailhead — 92 Ramsdell Rd. in Gray. If you are driving in from 202\, it’s on the right just after Bud’ Lane and you will see a blue sign with white lettering for Thayer Brook Preserve. \nBring a snack or lunch and water. Poles are optional but I found them to be helpful on some of the trails. It’s about a 4-mile hike with ups and downs but no significant elevation. There are several large puddles that can be walked around. The trail goes around a marsh and through the woods. \nThis trip is weather dependent. \nThere are about 8 – 10 parking spots. Let me know if you are interested in carpooling. \nPlease contact me if you plan to go so I contact you in case of cancellation. betsy.hanscom@gmail.com 207-754-9692 call or text
URL:https://moac.org/event/hike-thayer-brook-preserve/
CATEGORIES:Hiking
ORGANIZER;CN="Betsy Hanscom":MAILTO:betsy.hanscom@gmail.com
END:VEVENT
END:VCALENDAR