BEGIN:VCALENDAR
VERSION:2.0
PRODID:-//MOAC - Maine Outdoor Adventure Club - ECPv6.15.12.1//NONSGML v1.0//EN
CALSCALE:GREGORIAN
METHOD:PUBLISH
X-WR-CALNAME:MOAC - Maine Outdoor Adventure Club
X-ORIGINAL-URL:https://moac.org
X-WR-CALDESC:Events for MOAC - Maine Outdoor Adventure Club
REFRESH-INTERVAL;VALUE=DURATION:PT1H
X-Robots-Tag:noindex
X-PUBLISHED-TTL:PT1H
BEGIN:VTIMEZONE
TZID:America/New_York
BEGIN:DAYLIGHT
TZOFFSETFROM:-0500
TZOFFSETTO:-0400
TZNAME:EDT
DTSTART:20210314T070000
END:DAYLIGHT
BEGIN:STANDARD
TZOFFSETFROM:-0400
TZOFFSETTO:-0500
TZNAME:EST
DTSTART:20211107T060000
END:STANDARD
BEGIN:DAYLIGHT
TZOFFSETFROM:-0500
TZOFFSETTO:-0400
TZNAME:EDT
DTSTART:20220313T070000
END:DAYLIGHT
BEGIN:STANDARD
TZOFFSETFROM:-0400
TZOFFSETTO:-0500
TZNAME:EST
DTSTART:20221106T060000
END:STANDARD
BEGIN:DAYLIGHT
TZOFFSETFROM:-0500
TZOFFSETTO:-0400
TZNAME:EDT
DTSTART:20230312T070000
END:DAYLIGHT
BEGIN:STANDARD
TZOFFSETFROM:-0400
TZOFFSETTO:-0500
TZNAME:EST
DTSTART:20231105T060000
END:STANDARD
END:VTIMEZONE
BEGIN:VEVENT
DTSTART;TZID=America/New_York:20221120T020000
DTEND;TZID=America/New_York:20221120T170000
DTSTAMP:20260422T065828
CREATED:20221116T105648Z
LAST-MODIFIED:20221116T175907Z
UID:10000741-1668909600-1668963600@moac.org
SUMMARY:Climb Carter Dome
DESCRIPTION:Climb Carter Dome by way of Mt. Hight and 19 Mile Brook Trail. This is a challenging hike in winter conditions – 10.2 miles round trip\, 3\,500′ elevation gain. Wind chills will be around zero at the summits – be prepared with plenty of extra layers\, a warm hat\, spare gloves for when your first ones are sweaty and damp\, a hot drink\, and microspikes. Snowshoes may also be a good idea\, although I assume the trail will be well packed by Sunday. This week will bring the first snow and ice to the White Mountains\, so there could be 6″ or more on the trail. Bring lunch\, snacks and water in a winter-proof container as well. Also be sure you have a headlamp in your pack\, as it may be getting dark on the way down; also\, bring something blaze orange as Sunday hiking is allowed in New Hampshire. There are fantastic views from Mt. Hight – two of the photos on this website were taken there. Max group size is 8; fully vaccinated hikers only. Call\, text (207-380-6008) or email for meeting places and times (we’re not starting at 2AM) and carpool information. I’m watching Sunday’s weather and if the chance for snow increases this may be re-scheduled for Saturday.
URL:https://moac.org/event/climb-carter-dome/
CATEGORIES:Hiking
ATTACH;FMTTYPE=image/jpeg:https://moac.org/wp-content/uploads/IMG_0863.jpg
ORGANIZER;CN="Anne Geisler":MAILTO:annegme.123@gmail.com
END:VEVENT
END:VCALENDAR