BEGIN:VCALENDAR
VERSION:2.0
PRODID:-//MOAC - Maine Outdoor Adventure Club - ECPv6.15.12.1//NONSGML v1.0//EN
CALSCALE:GREGORIAN
METHOD:PUBLISH
X-WR-CALNAME:MOAC - Maine Outdoor Adventure Club
X-ORIGINAL-URL:https://moac.org
X-WR-CALDESC:Events for MOAC - Maine Outdoor Adventure Club
REFRESH-INTERVAL;VALUE=DURATION:PT1H
X-Robots-Tag:noindex
X-PUBLISHED-TTL:PT1H
BEGIN:VTIMEZONE
TZID:America/New_York
BEGIN:DAYLIGHT
TZOFFSETFROM:-0500
TZOFFSETTO:-0400
TZNAME:EDT
DTSTART:20220313T070000
END:DAYLIGHT
BEGIN:STANDARD
TZOFFSETFROM:-0400
TZOFFSETTO:-0500
TZNAME:EST
DTSTART:20221106T060000
END:STANDARD
BEGIN:DAYLIGHT
TZOFFSETFROM:-0500
TZOFFSETTO:-0400
TZNAME:EDT
DTSTART:20230312T070000
END:DAYLIGHT
BEGIN:STANDARD
TZOFFSETFROM:-0400
TZOFFSETTO:-0500
TZNAME:EST
DTSTART:20231105T060000
END:STANDARD
BEGIN:DAYLIGHT
TZOFFSETFROM:-0500
TZOFFSETTO:-0400
TZNAME:EDT
DTSTART:20240310T070000
END:DAYLIGHT
BEGIN:STANDARD
TZOFFSETFROM:-0400
TZOFFSETTO:-0500
TZNAME:EST
DTSTART:20241103T060000
END:STANDARD
END:VTIMEZONE
BEGIN:VEVENT
DTSTART;TZID=America/New_York:20230108T020000
DTEND;TZID=America/New_York:20230108T020000
DTSTAMP:20260421T203948
CREATED:20230103T200943Z
LAST-MODIFIED:20230103T200943Z
UID:10000769-1673143200-1673143200@moac.org
SUMMARY:Mts Pierce and Eisenhower
DESCRIPTION:Climb Mts Pierce and Eisenhower\, a challenging hike of 9.6 miles\, 3\,550′ elevation gain. Expect ice and snow – micro spikes and snowshoes are both required. It will probably be windy and cold at the top\, so also bring warm layers\, extra gloves\, lunch\, water and a hot drink if you’d like. RSVP by text (207-380-6008) or email for meeting places and times and carpool info (we’re not leaving at 2 AM). Covid vaccinated and boosted hikers only\, max group size is 8. If we haven’t hiked together before\, please let me know your winter hiking experience and send me a copy of your vax card when you RSVP.
URL:https://moac.org/event/mts-pierce-and-eisenhower/
CATEGORIES:Hiking
ATTACH;FMTTYPE=image/jpeg:https://moac.org/wp-content/uploads/IMG_9821.jpg
ORGANIZER;CN="Anne Geisler":MAILTO:annegme.123@gmail.com
END:VEVENT
END:VCALENDAR