BEGIN:VCALENDAR
VERSION:2.0
PRODID:-//MOAC - Maine Outdoor Adventure Club - ECPv6.15.12.1//NONSGML v1.0//EN
CALSCALE:GREGORIAN
METHOD:PUBLISH
X-ORIGINAL-URL:https://moac.org
X-WR-CALDESC:Events for MOAC - Maine Outdoor Adventure Club
REFRESH-INTERVAL;VALUE=DURATION:PT1H
X-Robots-Tag:noindex
X-PUBLISHED-TTL:PT1H
BEGIN:VTIMEZONE
TZID:America/New_York
BEGIN:DAYLIGHT
TZOFFSETFROM:-0500
TZOFFSETTO:-0400
TZNAME:EDT
DTSTART:20220313T070000
END:DAYLIGHT
BEGIN:STANDARD
TZOFFSETFROM:-0400
TZOFFSETTO:-0500
TZNAME:EST
DTSTART:20221106T060000
END:STANDARD
BEGIN:DAYLIGHT
TZOFFSETFROM:-0500
TZOFFSETTO:-0400
TZNAME:EDT
DTSTART:20230312T070000
END:DAYLIGHT
BEGIN:STANDARD
TZOFFSETFROM:-0400
TZOFFSETTO:-0500
TZNAME:EST
DTSTART:20231105T060000
END:STANDARD
BEGIN:DAYLIGHT
TZOFFSETFROM:-0500
TZOFFSETTO:-0400
TZNAME:EDT
DTSTART:20240310T070000
END:DAYLIGHT
BEGIN:STANDARD
TZOFFSETFROM:-0400
TZOFFSETTO:-0500
TZNAME:EST
DTSTART:20241103T060000
END:STANDARD
END:VTIMEZONE
BEGIN:VEVENT
DTSTART;TZID=America/New_York:20230116T090000
DTEND;TZID=America/New_York:20230116T150000
DTSTAMP:20260421T204119
CREATED:20230111T025044Z
LAST-MODIFIED:20230115T030047Z
UID:10000660-1673859600-1673881200@moac.org
SUMMARY:Hike Mt Cutler
DESCRIPTION:Hike Mt. Cutler in Hiram\,Me. Weather update: looks like light snow in the am so views will be linited\, but still a go. A moderate 4.3 mile loop that takes about 2.75 hours plus breaks. Nice views even though elevation gain is only about 850′. A pleasant hike and only about a 45 min. drive from Portland. Dress in layers\, wear hiking boots\, bring water and a snack/lunch. Bring micro-spikes but I doubt we will need them. Weather right now looks decent- low to mid 30’s and fair. To carpool meet on Marginal Way parking lot across from World Gym in Portland. Please text 603-733-9307 or email me if you coming or plan on meeting at Mtn. ( Parking lot just off 113 in Hiram). Or can pick up up of on the way (Rt. 25\, Rt. 113).
URL:https://moac.org/event/hike-mt-cutler/
CATEGORIES:Hiking
ORGANIZER;CN="John Shipman":MAILTO:jshipman120@gmail.com
END:VEVENT
END:VCALENDAR