BEGIN:VCALENDAR
VERSION:2.0
PRODID:-//MOAC - Maine Outdoor Adventure Club - ECPv6.15.12.1//NONSGML v1.0//EN
CALSCALE:GREGORIAN
METHOD:PUBLISH
X-WR-CALNAME:MOAC - Maine Outdoor Adventure Club
X-ORIGINAL-URL:https://moac.org
X-WR-CALDESC:Events for MOAC - Maine Outdoor Adventure Club
REFRESH-INTERVAL;VALUE=DURATION:PT1H
X-Robots-Tag:noindex
X-PUBLISHED-TTL:PT1H
BEGIN:VTIMEZONE
TZID:America/New_York
BEGIN:DAYLIGHT
TZOFFSETFROM:-0500
TZOFFSETTO:-0400
TZNAME:EDT
DTSTART:20220313T070000
END:DAYLIGHT
BEGIN:STANDARD
TZOFFSETFROM:-0400
TZOFFSETTO:-0500
TZNAME:EST
DTSTART:20221106T060000
END:STANDARD
BEGIN:DAYLIGHT
TZOFFSETFROM:-0500
TZOFFSETTO:-0400
TZNAME:EDT
DTSTART:20230312T070000
END:DAYLIGHT
BEGIN:STANDARD
TZOFFSETFROM:-0400
TZOFFSETTO:-0500
TZNAME:EST
DTSTART:20231105T060000
END:STANDARD
BEGIN:DAYLIGHT
TZOFFSETFROM:-0500
TZOFFSETTO:-0400
TZNAME:EDT
DTSTART:20240310T070000
END:DAYLIGHT
BEGIN:STANDARD
TZOFFSETFROM:-0400
TZOFFSETTO:-0500
TZNAME:EST
DTSTART:20241103T060000
END:STANDARD
END:VTIMEZONE
BEGIN:VEVENT
DTSTART;TZID=America/New_York:20230202T110000
DTEND;TZID=America/New_York:20230202T140000
DTSTAMP:20260421T205346
CREATED:20230131T171938Z
LAST-MODIFIED:20230131T171938Z
UID:10000795-1675335600-1675346400@moac.org
SUMMARY:HIKE WOLFE'S NECK STATE PARK - FREEPORT\, MAINE
DESCRIPTION:We will be hiking trails in the woods and along the wooded Casco Bay shoreline throughout Wolfe’s Neck State Park. If approaching from the center of Freeport\, take Flying Point Road and watch for the directional signs for the park. The signs will eventually indicate a right hand turn on to Wolfe’s Neck Road.  Watch for additional signage and there will eventually be a sign indicating a left hand turn on to the State Park access road. After passing the entrance booth\, bear right into the parking lot that is directly ahead. We will meet at this parking lot and step off at 11 AM. Bring cleats\, hiking poles\, backpacks for lunches\, etc. and sufficient layered clothing as we will be in the woods much of the time but after hiking a while it may start to warm up a bit. We will be hiking two different loops and take a lunch break at the group picnic shelter between the loops. Any questions prior to the day of the hike\, mcb-12nam@outlook.com or 207-844-8142 (this is a land line). The morning of the hike 802-770-9106. \n  \n 
URL:https://moac.org/event/hike-wolfes-neck-state-park-freeport-maine/
CATEGORIES:Hiking
ORGANIZER;CN="Bob Williams":MAILTO:MCB-12NAM@OUTLOOK.COM
END:VEVENT
END:VCALENDAR