BEGIN:VCALENDAR
VERSION:2.0
PRODID:-//MOAC - Maine Outdoor Adventure Club - ECPv6.15.12.1//NONSGML v1.0//EN
CALSCALE:GREGORIAN
METHOD:PUBLISH
X-ORIGINAL-URL:https://moac.org
X-WR-CALDESC:Events for MOAC - Maine Outdoor Adventure Club
REFRESH-INTERVAL;VALUE=DURATION:PT1H
X-Robots-Tag:noindex
X-PUBLISHED-TTL:PT1H
BEGIN:VTIMEZONE
TZID:America/New_York
BEGIN:DAYLIGHT
TZOFFSETFROM:-0500
TZOFFSETTO:-0400
TZNAME:EDT
DTSTART:20220313T070000
END:DAYLIGHT
BEGIN:STANDARD
TZOFFSETFROM:-0400
TZOFFSETTO:-0500
TZNAME:EST
DTSTART:20221106T060000
END:STANDARD
BEGIN:DAYLIGHT
TZOFFSETFROM:-0500
TZOFFSETTO:-0400
TZNAME:EDT
DTSTART:20230312T070000
END:DAYLIGHT
BEGIN:STANDARD
TZOFFSETFROM:-0400
TZOFFSETTO:-0500
TZNAME:EST
DTSTART:20231105T060000
END:STANDARD
BEGIN:DAYLIGHT
TZOFFSETFROM:-0500
TZOFFSETTO:-0400
TZNAME:EDT
DTSTART:20240310T070000
END:DAYLIGHT
BEGIN:STANDARD
TZOFFSETFROM:-0400
TZOFFSETTO:-0500
TZNAME:EST
DTSTART:20241103T060000
END:STANDARD
END:VTIMEZONE
BEGIN:VEVENT
DTSTART;TZID=America/New_York:20230211T130000
DTEND;TZID=America/New_York:20230211T140000
DTSTAMP:20260421T204803
CREATED:20230210T212428Z
LAST-MODIFIED:20230210T212428Z
UID:10000798-1676120400-1676124000@moac.org
SUMMARY:Snowshoe at Winterfest
DESCRIPTION:Let’s go snowshoeing at Winterfest.  The property is still snow covered and pretty.  It’s not super deep\, but it’s really soft and wet.  Snowshoes will be a lot better than just boots.
URL:https://moac.org/event/snowshoe-at-winterfest/
CATEGORIES:Hiking,Snowshoeing
ATTACH;FMTTYPE=image/jpeg:https://moac.org/wp-content/uploads/Orchard-Ridge-scene.jpg
ORGANIZER;CN="Bill Briggs":MAILTO:wdbriggs10@gmail.com
END:VEVENT
END:VCALENDAR