BEGIN:VCALENDAR
VERSION:2.0
PRODID:-//MOAC - Maine Outdoor Adventure Club - ECPv6.15.12.1//NONSGML v1.0//EN
CALSCALE:GREGORIAN
METHOD:PUBLISH
X-WR-CALNAME:MOAC - Maine Outdoor Adventure Club
X-ORIGINAL-URL:https://moac.org
X-WR-CALDESC:Events for MOAC - Maine Outdoor Adventure Club
REFRESH-INTERVAL;VALUE=DURATION:PT1H
X-Robots-Tag:noindex
X-PUBLISHED-TTL:PT1H
BEGIN:VTIMEZONE
TZID:America/New_York
BEGIN:DAYLIGHT
TZOFFSETFROM:-0500
TZOFFSETTO:-0400
TZNAME:EDT
DTSTART:20220313T070000
END:DAYLIGHT
BEGIN:STANDARD
TZOFFSETFROM:-0400
TZOFFSETTO:-0500
TZNAME:EST
DTSTART:20221106T060000
END:STANDARD
BEGIN:DAYLIGHT
TZOFFSETFROM:-0500
TZOFFSETTO:-0400
TZNAME:EDT
DTSTART:20230312T070000
END:DAYLIGHT
BEGIN:STANDARD
TZOFFSETFROM:-0400
TZOFFSETTO:-0500
TZNAME:EST
DTSTART:20231105T060000
END:STANDARD
BEGIN:DAYLIGHT
TZOFFSETFROM:-0500
TZOFFSETTO:-0400
TZNAME:EDT
DTSTART:20240310T070000
END:DAYLIGHT
BEGIN:STANDARD
TZOFFSETFROM:-0400
TZOFFSETTO:-0500
TZNAME:EST
DTSTART:20241103T060000
END:STANDARD
END:VTIMEZONE
BEGIN:VEVENT
DTSTART;VALUE=DATE:20230422
DTEND;VALUE=DATE:20230424
DTSTAMP:20260421T144053
CREATED:20230412T143503Z
LAST-MODIFIED:20230418T115636Z
UID:10000920-1682121600-1682294399@moac.org
SUMMARY:Potluck/Fire and Sunday Hike
DESCRIPTION:Check for updates. If it rains we can still have the potluck and overnight. \nplease RSVP \nJoin me at my home in Center Conway\, NH Saturday April 22 in the afternoon3pm/evening for a potluck and fire.  I invite you to stay overnight (bring your own bedding and breakfast).  Sunday morning a moderate hike is planned TBD.  Be prepared for snow\, water\,  mud…  lol ’tis the season.  Come for just the potluck if you wish.  Happy to have you. \nIf you have an instrument please bring it along. Bring slippers if your feet get cold inside (no shoes in the house).  Sleep outside if you wish\, snow has receded in the backyard.  I have 4 beds available and plenty of floor space. \nRain will cancel the fire and the hike…. but we can still have the potluck and overnight. \nText or email me for address and directions.
URL:https://moac.org/event/potluck-fire-and-overnight-hike/
CATEGORIES:Hiking,Social
ATTACH;FMTTYPE=image/jpeg:https://moac.org/wp-content/uploads/IMG_66865C9EEC73-1.jpeg
ORGANIZER;CN="Sue McCarthy":MAILTO:suermccarthy@gmail.com
END:VEVENT
END:VCALENDAR