BEGIN:VCALENDAR
VERSION:2.0
PRODID:-//MOAC - Maine Outdoor Adventure Club - ECPv6.15.12.1//NONSGML v1.0//EN
CALSCALE:GREGORIAN
METHOD:PUBLISH
X-WR-CALNAME:MOAC - Maine Outdoor Adventure Club
X-ORIGINAL-URL:https://moac.org
X-WR-CALDESC:Events for MOAC - Maine Outdoor Adventure Club
REFRESH-INTERVAL;VALUE=DURATION:PT1H
X-Robots-Tag:noindex
X-PUBLISHED-TTL:PT1H
BEGIN:VTIMEZONE
TZID:America/New_York
BEGIN:DAYLIGHT
TZOFFSETFROM:-0500
TZOFFSETTO:-0400
TZNAME:EDT
DTSTART:20220313T070000
END:DAYLIGHT
BEGIN:STANDARD
TZOFFSETFROM:-0400
TZOFFSETTO:-0500
TZNAME:EST
DTSTART:20221106T060000
END:STANDARD
BEGIN:DAYLIGHT
TZOFFSETFROM:-0500
TZOFFSETTO:-0400
TZNAME:EDT
DTSTART:20230312T070000
END:DAYLIGHT
BEGIN:STANDARD
TZOFFSETFROM:-0400
TZOFFSETTO:-0500
TZNAME:EST
DTSTART:20231105T060000
END:STANDARD
BEGIN:DAYLIGHT
TZOFFSETFROM:-0500
TZOFFSETTO:-0400
TZNAME:EDT
DTSTART:20240310T070000
END:DAYLIGHT
BEGIN:STANDARD
TZOFFSETFROM:-0400
TZOFFSETTO:-0500
TZNAME:EST
DTSTART:20241103T060000
END:STANDARD
END:VTIMEZONE
BEGIN:VEVENT
DTSTART;TZID=America/New_York:20230602T090000
DTEND;TZID=America/New_York:20230602T170000
DTSTAMP:20260421T083217
CREATED:20230424T200111Z
LAST-MODIFIED:20230531T021955Z
UID:10000932-1685696400-1685725200@moac.org
SUMMARY:Alpine Garden Hike Mt Washington
DESCRIPTION:Ridge walk on Mount Washington to see the alpine flowers blooming. Rain or Intense Wind postpone date: June 11th.  Meet at the parking area at base of the Auto Road for last pit stop and decide on which cars to accent/descent in–good brake pads required. Fee shared with driver(s). Minimal if any ticks\, black flies or other insects to deal with. Dress appropriately for possible weather changes. More info and photos to be added in the future.
URL:https://moac.org/event/alpine-garden-hike-mt-washington/
CATEGORIES:Hiking,Walking
ATTACH;FMTTYPE=image/jpeg:https://moac.org/wp-content/uploads/0615200743-1.jpg
END:VEVENT
END:VCALENDAR