BEGIN:VCALENDAR
VERSION:2.0
PRODID:-//MOAC - Maine Outdoor Adventure Club - ECPv6.15.12.1//NONSGML v1.0//EN
CALSCALE:GREGORIAN
METHOD:PUBLISH
X-WR-CALNAME:MOAC - Maine Outdoor Adventure Club
X-ORIGINAL-URL:https://moac.org
X-WR-CALDESC:Events for MOAC - Maine Outdoor Adventure Club
REFRESH-INTERVAL;VALUE=DURATION:PT1H
X-Robots-Tag:noindex
X-PUBLISHED-TTL:PT1H
BEGIN:VTIMEZONE
TZID:America/New_York
BEGIN:DAYLIGHT
TZOFFSETFROM:-0500
TZOFFSETTO:-0400
TZNAME:EDT
DTSTART:20220313T070000
END:DAYLIGHT
BEGIN:STANDARD
TZOFFSETFROM:-0400
TZOFFSETTO:-0500
TZNAME:EST
DTSTART:20221106T060000
END:STANDARD
BEGIN:DAYLIGHT
TZOFFSETFROM:-0500
TZOFFSETTO:-0400
TZNAME:EDT
DTSTART:20230312T070000
END:DAYLIGHT
BEGIN:STANDARD
TZOFFSETFROM:-0400
TZOFFSETTO:-0500
TZNAME:EST
DTSTART:20231105T060000
END:STANDARD
BEGIN:DAYLIGHT
TZOFFSETFROM:-0500
TZOFFSETTO:-0400
TZNAME:EDT
DTSTART:20240310T070000
END:DAYLIGHT
BEGIN:STANDARD
TZOFFSETFROM:-0400
TZOFFSETTO:-0500
TZNAME:EST
DTSTART:20241103T060000
END:STANDARD
END:VTIMEZONE
BEGIN:VEVENT
DTSTART;TZID=America/New_York:20230604T020000
DTEND;TZID=America/New_York:20230604T020000
DTSTAMP:20260421T091251
CREATED:20230601T002136Z
LAST-MODIFIED:20230601T002136Z
UID:10000967-1685844000-1685844000@moac.org
SUMMARY:Mt Webster via Webster Cliff Trail
DESCRIPTION:Climb the scenic and challenging Webster Cliff Trail to the summit of Mt. Webster\, about 5.7 miles and 2\,850′ of elevation gain. This will be a one-way hike and we’ll spot a car at the north end in Crawford Notch. There is some rock scrambling on exposed ledges on this hike\, and it runs along the edge of a cliff so probably not good for someone with a fear of heights.. Be prepared for black flies and cool conditions – bring an extra layer for the top section\, and be ready for some snow still. Also bring at least 2 liters water and lunch. \nFully vaccinated hikers only; if we haven’t hiked together before please let me know your experience on 4\,000 footers when you RSVP. Max group size is 8 – please email or text for meeting places and times (we’re not leaving at 2 AM). We will probably stop afterwards for refreshments.
URL:https://moac.org/event/mt-webster-via-webster-cliff-trail/
CATEGORIES:Hiking
ORGANIZER;CN="Anne Geisler":MAILTO:annegme.123@gmail.com
END:VEVENT
END:VCALENDAR