BEGIN:VCALENDAR
VERSION:2.0
PRODID:-//MOAC - Maine Outdoor Adventure Club - ECPv6.15.12.1//NONSGML v1.0//EN
CALSCALE:GREGORIAN
METHOD:PUBLISH
X-WR-CALNAME:MOAC - Maine Outdoor Adventure Club
X-ORIGINAL-URL:https://moac.org
X-WR-CALDESC:Events for MOAC - Maine Outdoor Adventure Club
REFRESH-INTERVAL;VALUE=DURATION:PT1H
X-Robots-Tag:noindex
X-PUBLISHED-TTL:PT1H
BEGIN:VTIMEZONE
TZID:America/New_York
BEGIN:DAYLIGHT
TZOFFSETFROM:-0500
TZOFFSETTO:-0400
TZNAME:EDT
DTSTART:20220313T070000
END:DAYLIGHT
BEGIN:STANDARD
TZOFFSETFROM:-0400
TZOFFSETTO:-0500
TZNAME:EST
DTSTART:20221106T060000
END:STANDARD
BEGIN:DAYLIGHT
TZOFFSETFROM:-0500
TZOFFSETTO:-0400
TZNAME:EDT
DTSTART:20230312T070000
END:DAYLIGHT
BEGIN:STANDARD
TZOFFSETFROM:-0400
TZOFFSETTO:-0500
TZNAME:EST
DTSTART:20231105T060000
END:STANDARD
BEGIN:DAYLIGHT
TZOFFSETFROM:-0500
TZOFFSETTO:-0400
TZNAME:EDT
DTSTART:20240310T070000
END:DAYLIGHT
BEGIN:STANDARD
TZOFFSETFROM:-0400
TZOFFSETTO:-0500
TZNAME:EST
DTSTART:20241103T060000
END:STANDARD
END:VTIMEZONE
BEGIN:VEVENT
DTSTART;TZID=America/New_York:20230618T020000
DTEND;TZID=America/New_York:20230618T020000
DTSTAMP:20260421T170302
CREATED:20230616T130426Z
LAST-MODIFIED:20230616T130426Z
UID:10001013-1687053600-1687053600@moac.org
SUMMARY:Climb Mt. Kearsarge
DESCRIPTION:This will be a fast-paced hike up Mt. Kearsarge North in Intervale NH\, 6.2 miles round trip\, 2\,600′ elevation gain. Be prepared for rain showers and black flies\, although I’m hoping the showers will have passed by the time we start. While this isn’t a 4\,000 footer it hikes like one\, so if we haven’t hiked together before\, please call me at 207-380-6008 so we can talk about your experience. \nFully vaccinated hikers only\, max group size is 8. Please call\, text or email for meeting places and times (we’re not leaving at 2 AM). We probably won’t stop for refreshments after the hike this time (at least I can’t). \n 
URL:https://moac.org/event/climb-mt-kearsarge/
CATEGORIES:Hiking
ORGANIZER;CN="Anne Geisler":MAILTO:annegme.123@gmail.com
END:VEVENT
END:VCALENDAR