BEGIN:VCALENDAR
VERSION:2.0
PRODID:-//MOAC - Maine Outdoor Adventure Club - ECPv6.15.12.1//NONSGML v1.0//EN
CALSCALE:GREGORIAN
METHOD:PUBLISH
X-WR-CALNAME:MOAC - Maine Outdoor Adventure Club
X-ORIGINAL-URL:https://moac.org
X-WR-CALDESC:Events for MOAC - Maine Outdoor Adventure Club
REFRESH-INTERVAL;VALUE=DURATION:PT1H
X-Robots-Tag:noindex
X-PUBLISHED-TTL:PT1H
BEGIN:VTIMEZONE
TZID:America/New_York
BEGIN:DAYLIGHT
TZOFFSETFROM:-0500
TZOFFSETTO:-0400
TZNAME:EDT
DTSTART:20220313T070000
END:DAYLIGHT
BEGIN:STANDARD
TZOFFSETFROM:-0400
TZOFFSETTO:-0500
TZNAME:EST
DTSTART:20221106T060000
END:STANDARD
BEGIN:DAYLIGHT
TZOFFSETFROM:-0500
TZOFFSETTO:-0400
TZNAME:EDT
DTSTART:20230312T070000
END:DAYLIGHT
BEGIN:STANDARD
TZOFFSETFROM:-0400
TZOFFSETTO:-0500
TZNAME:EST
DTSTART:20231105T060000
END:STANDARD
BEGIN:DAYLIGHT
TZOFFSETFROM:-0500
TZOFFSETTO:-0400
TZNAME:EDT
DTSTART:20240310T070000
END:DAYLIGHT
BEGIN:STANDARD
TZOFFSETFROM:-0400
TZOFFSETTO:-0500
TZNAME:EST
DTSTART:20241103T060000
END:STANDARD
END:VTIMEZONE
BEGIN:VEVENT
DTSTART;VALUE=DATE:20230930
DTEND;VALUE=DATE:20231003
DTSTAMP:20260420T235248
CREATED:20230928T144144Z
LAST-MODIFIED:20230928T144144Z
UID:10001145-1696032000-1696291199@moac.org
SUMMARY:Moosehead Lake Greenville\, Gorham Chairback Lodge
DESCRIPTION:AMC Gorham Chairback Lodge has some rooms available this weekend.  Lodging is ~ $110.00 per night and includes meals. Come relax and get away this weekend. Northwoods Outfitters has bikes\, ATV\, canoes ect for rent nearby.
URL:https://moac.org/event/moosehead-lake-greenville-gorham-chairback-lodge/
CATEGORIES:Hiking,Kayaking/Canoeing,Mountain Biking
ORGANIZER;CN="Daphne":MAILTO:luckydog2993@gmail.com
END:VEVENT
BEGIN:VEVENT
DTSTART;TZID=America/New_York:20231001T080000
DTEND;TZID=America/New_York:20231001T170000
DTSTAMP:20260420T235248
CREATED:20230927T165433Z
LAST-MODIFIED:20230930T181320Z
UID:10001140-1696147200-1696179600@moac.org
SUMMARY:Carter Dome
DESCRIPTION:Hiking Carter Dome this weekend via Wildcat River Trail. 11ish miles and above 4k. Meet at the trailhead @ 8:00 email for details. Carpooling up for discussion. Leaves are changing with the colder temps and looks like great weather this weekend!
URL:https://moac.org/event/carter-dome/
CATEGORIES:Hiking
ATTACH;FMTTYPE=image/jpeg:https://moac.org/wp-content/uploads/images.jpg
ORGANIZER;CN="Josh Soucy":MAILTO:Soucyjoshua@gmail.com
END:VEVENT
BEGIN:VEVENT
DTSTART;TZID=America/New_York:20231001T080000
DTEND;TZID=America/New_York:20231001T170000
DTSTAMP:20260420T235248
CREATED:20230928T191021Z
LAST-MODIFIED:20230928T191139Z
UID:10001148-1696147200-1696179600@moac.org
SUMMARY:Hike Mt Shaw in the Ossipee Range in NH
DESCRIPTION:On the 52WAV list this will be approximately 8 miles with approximately 1800′ of elevation gain.  Fairly relaxed hiking pace (I am slow). \nWe will park in a dedicated hiker lot at the top of Ossipee Park Rd in Moultonborough NH\, \nEmail\, call or text to let me know you are coming and coordinate car pooling\,  I am coming from Saco and trailhead parking is about 1:20 – from Portland area about 1:30. \nMeet at trailhead at 9:30 and head out no later than 10.  We should be down by 3 including stops and lunch at the top. \nThings to bring: Hiking boots\, hiking poles\, layers\, food\, water\, camera\, bug spray (yup they are still hanging around)\, sun screen. \nPossible stop somewhere on the way home for food and beverage. \nElaine 207-650-7417 \nhttps://www.alltrails.com/trail/us/new-hampshire/mount-shaw-via-cold-spring-trail \n 
URL:https://moac.org/event/hike-mt-shaw-in-the-ossipee-range-in-nh/
CATEGORIES:Hiking
ORGANIZER;CN="Elaine M Vadeboncoeur":MAILTO:evadeboncoeur@gmail.com
END:VEVENT
END:VCALENDAR