BEGIN:VCALENDAR
VERSION:2.0
PRODID:-//MOAC - Maine Outdoor Adventure Club - ECPv6.15.12.1//NONSGML v1.0//EN
CALSCALE:GREGORIAN
METHOD:PUBLISH
X-WR-CALNAME:MOAC - Maine Outdoor Adventure Club
X-ORIGINAL-URL:https://moac.org
X-WR-CALDESC:Events for MOAC - Maine Outdoor Adventure Club
REFRESH-INTERVAL;VALUE=DURATION:PT1H
X-Robots-Tag:noindex
X-PUBLISHED-TTL:PT1H
BEGIN:VTIMEZONE
TZID:America/New_York
BEGIN:DAYLIGHT
TZOFFSETFROM:-0500
TZOFFSETTO:-0400
TZNAME:EDT
DTSTART:20240310T070000
END:DAYLIGHT
BEGIN:STANDARD
TZOFFSETFROM:-0400
TZOFFSETTO:-0500
TZNAME:EST
DTSTART:20241103T060000
END:STANDARD
BEGIN:DAYLIGHT
TZOFFSETFROM:-0500
TZOFFSETTO:-0400
TZNAME:EDT
DTSTART:20250309T070000
END:DAYLIGHT
BEGIN:STANDARD
TZOFFSETFROM:-0400
TZOFFSETTO:-0500
TZNAME:EST
DTSTART:20251102T060000
END:STANDARD
BEGIN:DAYLIGHT
TZOFFSETFROM:-0500
TZOFFSETTO:-0400
TZNAME:EDT
DTSTART:20260308T070000
END:DAYLIGHT
BEGIN:STANDARD
TZOFFSETFROM:-0400
TZOFFSETTO:-0500
TZNAME:EST
DTSTART:20261101T060000
END:STANDARD
END:VTIMEZONE
BEGIN:VEVENT
DTSTART;VALUE=DATE:20250912
DTEND;VALUE=DATE:20250915
DTSTAMP:20260420T070732
CREATED:20250703T000447Z
LAST-MODIFIED:20250703T000447Z
UID:10004077-1757635200-1757894399@moac.org
SUMMARY:Baxter State Park Camping Weekend
DESCRIPTION:Join us at Foster Field in Baxter State Park! Dates are 9.12-9.14. Events will be include hiking\, walking\, canoeing\, swimming\, etc. There are 25 spots to camp in the park but overflow can be booked at a nearby campground. Enjoy and explore this jewel of Maine! Nothing can describe seeing the monolith that is Katahdin from a distance as you drive up I-95. Cost is only $11 per person / each night (for the park camping). Reserve your spot for this tradition!
URL:https://moac.org/event/baxter-state-park-camping-weekend/
CATEGORIES:Camping,Hiking,Kayaking/Canoeing,Social,Walking
ATTACH;FMTTYPE=image/jpeg:https://moac.org/wp-content/uploads/MtKatahdin.jpg
ORGANIZER;CN="Josh Soucy":MAILTO:Soucyjoshua@gmail.com
END:VEVENT
BEGIN:VEVENT
DTSTART;VALUE=DATE:20250913
DTEND;VALUE=DATE:20250914
DTSTAMP:20260420T070732
CREATED:20250908T225053Z
LAST-MODIFIED:20250908T225053Z
UID:10004144-1757721600-1757807999@moac.org
SUMMARY:Baxter Peak via Saddle and Cathedral Trail
DESCRIPTION:This event is part of the Baxter Weekend \n*Weather dependent! It looks good right now but there is always a chance the conditions will go bad. \nExperienced Hikers\, please. \nLeaving camp at 4:30 in the morning so the afternoon is open \n  \nA hike based off \nhttps://www.alltrails.com/trail/us/maine/baxter-peak-via-saddle-and-cathedral-loop
URL:https://moac.org/event/baxter-peak-via-saddle-and-cathedral-trail/
CATEGORIES:Hiking
ATTACH;FMTTYPE=image/jpeg:https://moac.org/wp-content/uploads/images.jpeg
ORGANIZER;CN="Josh Soucy":MAILTO:Soucyjoshua@gmail.com
END:VEVENT
END:VCALENDAR