BEGIN:VCALENDAR
VERSION:2.0
PRODID:-//MOAC - Maine Outdoor Adventure Club - ECPv6.15.12.1//NONSGML v1.0//EN
CALSCALE:GREGORIAN
METHOD:PUBLISH
X-ORIGINAL-URL:https://moac.org
X-WR-CALDESC:Events for MOAC - Maine Outdoor Adventure Club
REFRESH-INTERVAL;VALUE=DURATION:PT1H
X-Robots-Tag:noindex
X-PUBLISHED-TTL:PT1H
BEGIN:VTIMEZONE
TZID:America/New_York
BEGIN:DAYLIGHT
TZOFFSETFROM:-0500
TZOFFSETTO:-0400
TZNAME:EDT
DTSTART:20210314T070000
END:DAYLIGHT
BEGIN:STANDARD
TZOFFSETFROM:-0400
TZOFFSETTO:-0500
TZNAME:EST
DTSTART:20211107T060000
END:STANDARD
BEGIN:DAYLIGHT
TZOFFSETFROM:-0500
TZOFFSETTO:-0400
TZNAME:EDT
DTSTART:20220313T070000
END:DAYLIGHT
BEGIN:STANDARD
TZOFFSETFROM:-0400
TZOFFSETTO:-0500
TZNAME:EST
DTSTART:20221106T060000
END:STANDARD
BEGIN:DAYLIGHT
TZOFFSETFROM:-0500
TZOFFSETTO:-0400
TZNAME:EDT
DTSTART:20230312T070000
END:DAYLIGHT
BEGIN:STANDARD
TZOFFSETFROM:-0400
TZOFFSETTO:-0500
TZNAME:EST
DTSTART:20231105T060000
END:STANDARD
END:VTIMEZONE
BEGIN:VEVENT
DTSTART;TZID=America/New_York:20220604T120000
DTEND;TZID=America/New_York:20220605T130000
DTSTAMP:20260424T165234
CREATED:20220602T174602Z
LAST-MODIFIED:20220604T010959Z
UID:10000524-1654344000-1654434000@moac.org
SUMMARY:Sail and camp on an Island!
DESCRIPTION:Had it?  Ready for a change?  Don’t care anymore?  Jump on this sailboat and get the heck out of Dodge for the night!  Leaving around midday Saturday and heading for an island\, Little Chebeague or Jewell.  Nice meal by fireside\, camp and sail back in the morning.  What could go wrong?  Call/text me for details! \nOption “B” \nCome for the day.  I’ll drop you off at the ferry terminal for a return the same day! \nDan 207 478 6835
URL:https://moac.org/event/sail-and-camp-on-an-island/
CATEGORIES:Kayaking/Canoeing
ATTACH;FMTTYPE=image/jpeg:https://moac.org/wp-content/uploads/IMG_20220518_130116929_HDR.jpg
END:VEVENT
BEGIN:VEVENT
DTSTART;TZID=America/New_York:20220612T093000
DTEND;TZID=America/New_York:20220612T133000
DTSTAMP:20260424T165234
CREATED:20220610T180936Z
LAST-MODIFIED:20220610T180936Z
UID:10000421-1655026200-1655040600@moac.org
SUMMARY:Presumpscot River Paddle Sunday
DESCRIPTION:Sunday paddle on the Presumpscot River. Meet at 9:30 on the water by 10. we’ll paddle upstream to Dundee dam and stop for lunch on the way back. This is a pretty paddle under a covered bridge and there are usually lots and lots of turtles. The put in is on Soccer Drive off Gambo Road in Windham. Drive past the soccer fields to the ramp. Drop your boat and then go park. RSVP to Judy Gervais at 653-5108 or Gervaiscpa@gmail.com. BYO properly equipped kayak and you must wear your PFD.
URL:https://moac.org/event/presumpscot-river-paddle-sunday/
CATEGORIES:Kayaking/Canoeing
ATTACH;FMTTYPE=image/jpeg:https://moac.org/wp-content/uploads/20210616_100421.jpg
ORGANIZER;CN="Judy Gervais":MAILTO:gervaiscpa@Gmail.com
END:VEVENT
BEGIN:VEVENT
DTSTART;TZID=America/New_York:20220625T153000
DTEND;TZID=America/New_York:20220625T153000
DTSTAMP:20260424T165234
CREATED:20220623T131709Z
LAST-MODIFIED:20220623T132010Z
UID:10000537-1656171000-1656171000@moac.org
SUMMARY:Paddle Little Sebago
DESCRIPTION:Come up to camp in Gray and paddle for about an hour to an hour and a half depending on the group.  Please arrive in time to be on the water at 3:30. \nFor those wanting to stick around after\, BYO food and drinks.  A charcoal grill (and charcoal) will be available. \nI have some extra sit on top kayaks and a canoe to loan if you’d like to come\, but don’t have a boat.  Please let me know ahead if you need to borrow. \nThere are patrols on the lake so you must have a PFD and a whistle. \nPlease RSVP for address. Text 207.807.2729 or lmitchell75@aol.com
URL:https://moac.org/event/paddle-little-sebago-2/
CATEGORIES:Kayaking/Canoeing
ATTACH;FMTTYPE=image/jpeg:https://moac.org/wp-content/uploads/lake-hammock.jpg
ORGANIZER;CN="Lianne Mitchell":MAILTO:lmitchell75@aol.com
END:VEVENT
END:VCALENDAR