BEGIN:VCALENDAR
VERSION:2.0
PRODID:-//MOAC - Maine Outdoor Adventure Club - ECPv6.15.12.1//NONSGML v1.0//EN
CALSCALE:GREGORIAN
METHOD:PUBLISH
X-WR-CALNAME:MOAC - Maine Outdoor Adventure Club
X-ORIGINAL-URL:https://moac.org
X-WR-CALDESC:Events for MOAC - Maine Outdoor Adventure Club
REFRESH-INTERVAL;VALUE=DURATION:PT1H
X-Robots-Tag:noindex
X-PUBLISHED-TTL:PT1H
BEGIN:VTIMEZONE
TZID:America/New_York
BEGIN:DAYLIGHT
TZOFFSETFROM:-0500
TZOFFSETTO:-0400
TZNAME:EDT
DTSTART:20210314T070000
END:DAYLIGHT
BEGIN:STANDARD
TZOFFSETFROM:-0400
TZOFFSETTO:-0500
TZNAME:EST
DTSTART:20211107T060000
END:STANDARD
BEGIN:DAYLIGHT
TZOFFSETFROM:-0500
TZOFFSETTO:-0400
TZNAME:EDT
DTSTART:20220313T070000
END:DAYLIGHT
BEGIN:STANDARD
TZOFFSETFROM:-0400
TZOFFSETTO:-0500
TZNAME:EST
DTSTART:20221106T060000
END:STANDARD
BEGIN:DAYLIGHT
TZOFFSETFROM:-0500
TZOFFSETTO:-0400
TZNAME:EDT
DTSTART:20230312T070000
END:DAYLIGHT
BEGIN:STANDARD
TZOFFSETFROM:-0400
TZOFFSETTO:-0500
TZNAME:EST
DTSTART:20231105T060000
END:STANDARD
END:VTIMEZONE
BEGIN:VEVENT
DTSTART;TZID=America/New_York:20220806T100000
DTEND;TZID=America/New_York:20220806T140000
DTSTAMP:20260424T111439
CREATED:20220801T033658Z
LAST-MODIFIED:20220801T033658Z
UID:10000612-1659780000-1659794400@moac.org
SUMMARY:Paddle day trip on Donnell Pond\, Franklin
DESCRIPTION:Join me for an exploration of the hidden spots on Donnell Pond. Meet at the boat launch in the morning\, paddle and explore one of the designated Jewels of Maine lakes. Donnell Pond was one of the first blocks of land to be purchased by the Land for Maine’s Future. \nWe can stop on one the beaches\, and if so inclined\, practice our self rescue skills. \nPFD’s are required. \nBring a lunch. If there is interest we can grill hamburgers after at my camp. \nContact me at marty@donnellpond.com to firm up the times and itinerary. If the weather is bad we can explore other options.
URL:https://moac.org/event/paddle-day-trip-on-donnell-pond-franklin/
CATEGORIES:Kayaking/Canoeing
ATTACH;FMTTYPE=image/jpeg:https://moac.org/wp-content/uploads/2011-05-13-13.30.25.jpg
ORGANIZER;CN="Martha Williams":MAILTO:marty@donnellpond.com
END:VEVENT
BEGIN:VEVENT
DTSTART;TZID=America/New_York:20220806T153000
DTEND;TZID=America/New_York:20220806T153000
DTSTAMP:20260424T111439
CREATED:20220802T000654Z
LAST-MODIFIED:20220802T001649Z
UID:10000613-1659799800-1659799800@moac.org
SUMMARY:Paddle Little Sebago
DESCRIPTION:Come upta camp to do a paddle in the upper and middle bays of Little Sebago Lake in Gray.  We’ll stop to swim (or just stretch our legs) by an island.  Paddle will be about an hour and a half\, give or take\, depending on the group.  PFDs and whistles required (rangers on the lake are stopping people these days).  You don’t have to wear the PFD\, just have it with you. \nFolks are welcome to stay to sit around the fire after\, have a drink and BBQ.  BYO food and drinks. \n  \nPlease RSVP (lmitchell75@aol.com) and I’ll send the address when you let me know you’re coming. Please arrive with enough time to unload so we’re on the water at 3:30.  I’ll be there by 3:00. \n  \nIf you can’t make the paddle\, you can still join us later to relax\, eat\, drink and be merry when we return (should be by 5:30).   A charcoal grill (and charcoal) will be available to use. \nI have a couple of sit-on-top kayaks\, paddle boards and a canoe to lend out if someone needs a boat – but you must let me know ahead of time.  I also have some extra PFDs and whistles (if not all the boats are loaned out).
URL:https://moac.org/event/paddle-little-sebago-4/
CATEGORIES:Kayaking/Canoeing
ATTACH;FMTTYPE=image/jpeg:https://moac.org/wp-content/uploads/lake-hammock-2.jpg
ORGANIZER;CN="Lianne Mitchell":MAILTO:lmitchell75@aol.com
END:VEVENT
BEGIN:VEVENT
DTSTART;TZID=America/New_York:20220807T083000
DTEND;TZID=America/New_York:20220807T160000
DTSTAMP:20260424T111439
CREATED:20220805T101707Z
LAST-MODIFIED:20250103T161041Z
UID:10000619-1659861000-1659888000@moac.org
SUMMARY:Cousins and Chebeague paddle
DESCRIPTION:Great day for a paddle to cool off on the East side of Chebeague Island. Photo is from Thursday. Cousins Island to Chebeague paddle. Meet at 8:30AM at Sandy Point Beach on Cousins Island (parking lot and beach on your left immediately after crossing Cousins Island bridge) with boats in water at 9:00AM. Cousins to Little John to the beautiful beaches of Chebeague. Depending on effort/time Sand Island may be included. Return to Sandy Point by 3:30-4:00 PM. Requirements: 14 foot or larger kayak suitable for Casco Bay\, PFD\, bring your own water and lunch. TEXT me at 207-450-4707 if going. I did this paddle Thursday. It was fantastic! I just got a little carried away by also going to Little Chebeague! The SW wind carried me back in the afternoon.
URL:https://moac.org/event/cousins-and-chebeague-paddle/
CATEGORIES:Kayaking/Canoeing,Other/General
ATTACH;FMTTYPE=image/jpeg:https://moac.org/wp-content/uploads/20220804_103126.jpg
ORGANIZER;CN="Jerry Jalbert":MAILTO:gjalbert53@gmail.com
END:VEVENT
BEGIN:VEVENT
DTSTART;TZID=America/New_York:20220812T160000
DTEND;TZID=America/New_York:20220814T170000
DTSTAMP:20260424T111439
CREATED:20220811T125037Z
LAST-MODIFIED:20220812T151807Z
UID:10000629-1660320000-1660496400@moac.org
SUMMARY:Blues Music\, Bike\, Kayak
DESCRIPTION:Visit one of Maine’s 5\,500 lakes close to hiking\, off-road and road biking\, the Androscoggin River\, AND the Mountain Valley Stomp! Music starts Friday night in Peru Village with Lunch Pail Jere’s BAND in Jess and Steve’s barn. Saturday The Stomp starts at 11 and winds down at 6PM at Mountain View Campground in Dixfield. SEE LINK HEREIN for Stomp details. \nBeds indoors at my cottage or bring a tent. Plenty of room by reservation. I will have my 6-per pop-up tent set up for people who just want to crawl in and sleep. \nCOME WHENEVER YOU ARE ABLE.
URL:https://moac.org/event/blues-music-bike-kayak-812/
CATEGORIES:Happy Hour/Dancing,Kayaking/Canoeing,Mountain Biking,Road Biking,Walking
ATTACH;FMTTYPE=image/jpeg:https://moac.org/wp-content/uploads/681541_1003020793-BlackCatRoad.jpg
END:VEVENT
BEGIN:VEVENT
DTSTART;TZID=America/New_York:20220815T090000
DTEND;TZID=America/New_York:20220815T140000
DTSTAMP:20260424T111439
CREATED:20220814T130339Z
LAST-MODIFIED:20220815T000909Z
UID:10000641-1660554000-1660572000@moac.org
SUMMARY:Monday Kayak Paddle — Mere Point to the Goslings
DESCRIPTION:Monday Paddle Mere Point to the Goslings 8-15-2022\, 9 AM to 2 PM — Paddle starts at 9:30 AM \nWe’ll meet at the public boat launch at Mere Point in Brunswick about 9 AM and start paddling about 9:30 AM. This boat launch has bathroom facilities and an all-tide ramp. \nThe tide will be low about 8:15 AM\, so we’ll paddle out against it staying close to the shore on the inside of Upper and Lower Goose to The Goslings for a lunch or snack break. The tide will be with us on the way back on the outside of Upper and Lower Goose. Depending on the timing\, we may have a southeast wind also helping with the return to Mere Point. This trip is weather dependent — especially  changes between now and then for wind and fog. \nYou must have a sea kayak and wear a PFD. Spray skirts and wet suits are recommended. This trip is for intermediate to advanced paddlers. \nPlease contact me if you plan to go — by email (preferred)\, betsy.hanscom@gmail.com or phone\, 207-754-9692 (text). If I need to cancel for weather conditions or whatever\, I will be able to contact you directly.
URL:https://moac.org/event/monday-kayak-paddle-mere-point-to-the-goslings/
CATEGORIES:Kayaking/Canoeing
ORGANIZER;CN="Betsy Hanscom":MAILTO:betsy.hanscom@gmail.com
END:VEVENT
BEGIN:VEVENT
DTSTART;TZID=America/New_York:20220819T080000
DTEND;TZID=America/New_York:20220828T170000
DTSTAMP:20260424T111439
CREATED:20220803T141351Z
LAST-MODIFIED:20220803T142752Z
UID:10000615-1660896000-1661706000@moac.org
SUMMARY:Lewis & Clark\, Montana Canoe Details!
DESCRIPTION:Details just in!…Canoe the historic section of the upper Missouri River\, 149 miles through central Montana’s Missouri Breaks as described in Steven Ambrose’s “Undaunted Courage!”  Camp at the exact same places that Lewis and Clark did – essentially unchanged!  Nez Pierce Indian and buffalo Territory.  Flying into Bozeman\, Montana Friday\, August 19th\, car/shuttle to Great Falls\, then to Fort Benton.  Renting canoes and arranged shuttle for the 149 mile trip.  High class food and all gear provided except…You provide your own tent\, sleeping bag and personal gear.  Easy canoe trip – no rapids\, no portages.  Again\, poorly qualified counselors on hand for any issues.  8 Days on the river through spectacular scenery!  Shuttle back to Great Falls August 28th and fly home.  Rough costs: Canoe share $150\, river shuttle $100\, food $100\, plus airfare depending on your situation.
URL:https://moac.org/event/lewis-clark-montana-canoe-details/
CATEGORIES:Kayaking/Canoeing
ATTACH;FMTTYPE=image/jpeg:https://moac.org/wp-content/uploads/IMG_20200218_154824.jpg
END:VEVENT
BEGIN:VEVENT
DTSTART;TZID=America/New_York:20220821T080000
DTEND;TZID=America/New_York:20220830T170000
DTSTAMP:20260424T111439
CREATED:20220729T160350Z
LAST-MODIFIED:20220729T160350Z
UID:10000609-1661068800-1661878800@moac.org
SUMMARY:Canoe Lewis & Clark Trail\, Upper Missouri
DESCRIPTION:  \n \nBuffalos\, Grizzlies\, Indians!  Bite off a little history and retrace the exact route of Lewis and Clark on the Upper Missouri River in Montana!  Camp in the same campsites!  We’re going downstream.  Details in “Undaunted Courage”  149 miles of Western scenery!  Easy canoeing!  Novices welcome.  This is a high class trip so you will be required to act high class.  Good eats!  Canoe rental and shuttle $250\, $100 for food.  Fly/drive part still to be nailed down as well as exact dates.  If you’ve interest\, email me at dkidd@fairpoint.net
URL:https://moac.org/event/canoe-lewis-clark-trail-upper-missouri-2/
CATEGORIES:Kayaking/Canoeing
ATTACH;FMTTYPE=image/jpeg:https://moac.org/wp-content/uploads/IMG_20200222_165616.jpg
END:VEVENT
END:VCALENDAR