BEGIN:VCALENDAR
VERSION:2.0
PRODID:-//MOAC - Maine Outdoor Adventure Club - ECPv6.15.12.1//NONSGML v1.0//EN
CALSCALE:GREGORIAN
METHOD:PUBLISH
X-WR-CALNAME:MOAC - Maine Outdoor Adventure Club
X-ORIGINAL-URL:https://moac.org
X-WR-CALDESC:Events for MOAC - Maine Outdoor Adventure Club
REFRESH-INTERVAL;VALUE=DURATION:PT1H
X-Robots-Tag:noindex
X-PUBLISHED-TTL:PT1H
BEGIN:VTIMEZONE
TZID:America/New_York
BEGIN:DAYLIGHT
TZOFFSETFROM:-0500
TZOFFSETTO:-0400
TZNAME:EDT
DTSTART:20220313T070000
END:DAYLIGHT
BEGIN:STANDARD
TZOFFSETFROM:-0400
TZOFFSETTO:-0500
TZNAME:EST
DTSTART:20221106T060000
END:STANDARD
BEGIN:DAYLIGHT
TZOFFSETFROM:-0500
TZOFFSETTO:-0400
TZNAME:EDT
DTSTART:20230312T070000
END:DAYLIGHT
BEGIN:STANDARD
TZOFFSETFROM:-0400
TZOFFSETTO:-0500
TZNAME:EST
DTSTART:20231105T060000
END:STANDARD
BEGIN:DAYLIGHT
TZOFFSETFROM:-0500
TZOFFSETTO:-0400
TZNAME:EDT
DTSTART:20240310T070000
END:DAYLIGHT
BEGIN:STANDARD
TZOFFSETFROM:-0400
TZOFFSETTO:-0500
TZNAME:EST
DTSTART:20241103T060000
END:STANDARD
END:VTIMEZONE
BEGIN:VEVENT
DTSTART;TZID=America/New_York:20230422T080000
DTEND;TZID=America/New_York:20230422T170000
DTSTAMP:20260423T155454
CREATED:20230411T202725Z
LAST-MODIFIED:20230411T202727Z
UID:10000917-1682150400-1682182800@moac.org
SUMMARY:Ossippee River canoe or kayak trip
DESCRIPTION:7 miles of class 2 whitewater.  I have posted this trip annually since 1998 when I joined the club. Need to contact me for meeting details as I need to ensure participants have the proper clothing and gear.   The water is cold and out of boat experiences have happened (including yours truly).  So the intention is about ensuring safety.  207-653-9315
URL:https://moac.org/event/ossippee-river-canoe-or-kayak-trip/
CATEGORIES:Kayaking/Canoeing
ORGANIZER;CN="Bob Radowicz":MAILTO:Robert_Radowicz@msn.com
END:VEVENT
END:VCALENDAR