BEGIN:VCALENDAR
VERSION:2.0
PRODID:-//MOAC - Maine Outdoor Adventure Club - ECPv6.15.12.1//NONSGML v1.0//EN
CALSCALE:GREGORIAN
METHOD:PUBLISH
X-WR-CALNAME:MOAC - Maine Outdoor Adventure Club
X-ORIGINAL-URL:https://moac.org
X-WR-CALDESC:Events for MOAC - Maine Outdoor Adventure Club
REFRESH-INTERVAL;VALUE=DURATION:PT1H
X-Robots-Tag:noindex
X-PUBLISHED-TTL:PT1H
BEGIN:VTIMEZONE
TZID:America/New_York
BEGIN:DAYLIGHT
TZOFFSETFROM:-0500
TZOFFSETTO:-0400
TZNAME:EDT
DTSTART:20220313T070000
END:DAYLIGHT
BEGIN:STANDARD
TZOFFSETFROM:-0400
TZOFFSETTO:-0500
TZNAME:EST
DTSTART:20221106T060000
END:STANDARD
BEGIN:DAYLIGHT
TZOFFSETFROM:-0500
TZOFFSETTO:-0400
TZNAME:EDT
DTSTART:20230312T070000
END:DAYLIGHT
BEGIN:STANDARD
TZOFFSETFROM:-0400
TZOFFSETTO:-0500
TZNAME:EST
DTSTART:20231105T060000
END:STANDARD
BEGIN:DAYLIGHT
TZOFFSETFROM:-0500
TZOFFSETTO:-0400
TZNAME:EDT
DTSTART:20240310T070000
END:DAYLIGHT
BEGIN:STANDARD
TZOFFSETFROM:-0400
TZOFFSETTO:-0500
TZNAME:EST
DTSTART:20241103T060000
END:STANDARD
END:VTIMEZONE
BEGIN:VEVENT
DTSTART;TZID=America/New_York:20230531T100000
DTEND;TZID=America/New_York:20230531T143000
DTSTAMP:20260423T131859
CREATED:20230529T173254Z
LAST-MODIFIED:20230529T173254Z
UID:10000963-1685527200-1685543400@moac.org
SUMMARY:Mid-week Paddle Lower Togus Pond in Augusta
DESCRIPTION:Meet at 10 AM\, and we’ll start paddling about 10:30AM. The trip is weather dependent. Bring a lunch or snack and we’ll try find a spot to picnic and stretch our legs on one of the islands. \nThe put-in is on Rte. 105\, just east of Augusta. If you are not familiar with this area\, it can be easy to confuse Little Togus Pond with Lower Togus Pond. There is a small parking area and some parking along the road where we put in. There may be a bathroom facility at the put in but no guarantees. \nIf you plan to join us please contact me by email (preferred)\, betsy.hanscom@gmail.com or phone\, 207-754-9692 (or text). If I need to cancel for weather conditions or whatever\, I will be able to contact you directly.
URL:https://moac.org/event/mid-week-paddle-lower-togus-pond-in-augusta/
CATEGORIES:Kayaking/Canoeing
ORGANIZER;CN="Betsy Hanscom":MAILTO:betsy.hanscom@gmail.com
END:VEVENT
END:VCALENDAR