BEGIN:VCALENDAR
VERSION:2.0
PRODID:-//MOAC - Maine Outdoor Adventure Club - ECPv6.15.12.1//NONSGML v1.0//EN
CALSCALE:GREGORIAN
METHOD:PUBLISH
X-ORIGINAL-URL:https://moac.org
X-WR-CALDESC:Events for MOAC - Maine Outdoor Adventure Club
REFRESH-INTERVAL;VALUE=DURATION:PT1H
X-Robots-Tag:noindex
X-PUBLISHED-TTL:PT1H
BEGIN:VTIMEZONE
TZID:America/New_York
BEGIN:DAYLIGHT
TZOFFSETFROM:-0500
TZOFFSETTO:-0400
TZNAME:EDT
DTSTART:20220313T070000
END:DAYLIGHT
BEGIN:STANDARD
TZOFFSETFROM:-0400
TZOFFSETTO:-0500
TZNAME:EST
DTSTART:20221106T060000
END:STANDARD
BEGIN:DAYLIGHT
TZOFFSETFROM:-0500
TZOFFSETTO:-0400
TZNAME:EDT
DTSTART:20230312T070000
END:DAYLIGHT
BEGIN:STANDARD
TZOFFSETFROM:-0400
TZOFFSETTO:-0500
TZNAME:EST
DTSTART:20231105T060000
END:STANDARD
BEGIN:DAYLIGHT
TZOFFSETFROM:-0500
TZOFFSETTO:-0400
TZNAME:EDT
DTSTART:20240310T070000
END:DAYLIGHT
BEGIN:STANDARD
TZOFFSETFROM:-0400
TZOFFSETTO:-0500
TZNAME:EST
DTSTART:20241103T060000
END:STANDARD
END:VTIMEZONE
BEGIN:VEVENT
DTSTART;TZID=America/New_York:20230701T080000
DTEND;TZID=America/New_York:20230701T120000
DTSTAMP:20260422T183507
CREATED:20230630T223817Z
LAST-MODIFIED:20230630T223817Z
UID:10001029-1688198400-1688212800@moac.org
SUMMARY:Paddle the Nonesuch River\, Scarborough
DESCRIPTION:Paddle the Nonesuch River\, Scarborough \nWhat: Kayak or canoe. Ride the tide 6 miles up the Nonesuch River\, stop for lunch\, then ride the tide back. The river meanders from sun to shade as we fly along on the current.  This is a beautiful\, fun experience and has a wilderness feeling as we journey up the river. \nWhere: Meet at the boat launch on Clay Pits Rd\, Scarborough \nWhen: Saturday\, July 1\, 2023\, 8:00 AM and plan on 4 hours.  Portland High Tide is at 9:53 AM. \nWho: Hans Hackett 207-615-2332. ‘Show and Go’ so you do not need to respond if you plan to attend.
URL:https://moac.org/event/paddle-the-nonesuch-river-scarborough/
CATEGORIES:Kayaking/Canoeing
ATTACH;FMTTYPE=image/jpeg:https://moac.org/wp-content/uploads/Nonesuch-River-Snip.jpg
ORGANIZER;CN="Hans Hackett":MAILTO:ahc@maine.rr.com
END:VEVENT
BEGIN:VEVENT
DTSTART;TZID=America/New_York:20230704T140000
DTEND;TZID=America/New_York:20230704T200000
DTSTAMP:20260422T183507
CREATED:20230625T152517Z
LAST-MODIFIED:20230625T152517Z
UID:10001022-1688479200-1688500800@moac.org
SUMMARY:July 4th upta camp
DESCRIPTION:Paddle\, swim\, eat\, drink and be merry…maybe nap in the hammock…  So far\, the weather looks good for the 4th and I plan on spending the day at camp on Little Sebago Lake.  I’ll be there by 2:00 and you’re welcome to come anytime after that.  Stay a couple of hours or the whole afternoon.  The grill will get lit around 5:00 pm.  BYO meat for the grill\, drinks and a dish to share.  I have several chairs\, but bringing your own might be handy\, depending on how many people show up. \nPleas RSVP if you plan on attending and I’ll send the address\, parking is somewhat limited\, so carpooling can be helpful. \nI have a few paddle boards and kayaks (mostly sit on top\, plus safety gear) and a canoe I can share or you can bring your own boat.  There isn’t a real set time for paddling\, it will depend on the group and people can go out any time.  But we’ll shoot for a 3:30ish group start on the water.  However\, you also can just hang out at camp if you don’t want to paddle. \n 
URL:https://moac.org/event/july-4th-upta-camp/
CATEGORIES:Kayaking/Canoeing,Other/General,Social
ATTACH;FMTTYPE=image/jpeg:https://moac.org/wp-content/uploads/morning-mist.jpg
ORGANIZER;CN="Lianne Mitchell":MAILTO:lmitchell75@aol.com
END:VEVENT
BEGIN:VEVENT
DTSTART;TZID=America/New_York:20230728T140000
DTEND;TZID=America/New_York:20230728T210000
DTSTAMP:20260422T183507
CREATED:20230727T131336Z
LAST-MODIFIED:20230727T131336Z
UID:10001062-1690552800-1690578000@moac.org
SUMMARY:Camp Day in Gray on Little Sebago
DESCRIPTION:We had so much fun at Jean’s yesterday\, I decided to post for a day at camp at my place in Gray.  Especially since there are (at least for now) no warnings of thunderstorms!  I’ll be there by 2:00\, come any time after that and swim\, paddle\, eat\, or nap in the hammock.  Stay for a couple of hours or for the duration.   🙂   I’m not planning a particular time for a group paddle\, but people can go out whenever.  I have a few sit-on-top kayaks and paddle boards or you can bring your own boat.  Or stay on shore and relax.  Fun hour (so as not to confuse it with MOAC happy hour) around 5:00 and we’ll light the grill around 5:30 ish for BBQ. \nAs usual – BYO drinks\, snacks and protein for the grill and a dish to share for dinner if you stay.  I’ll provide charcoal and have most condiments\, as well as paper plates\, etc.  But if you bring your own reusables\, the planet will thank you. \nShow and go if you decide to come last minute\, but I do appreciate a heads up so I have an idea of how many to expect.  lmitchell75@aol.com \n255 Westwood Rd in Gray.  If you have a boat you can drive down to unload\, park in the space by the road behind the camp. \n 
URL:https://moac.org/event/camp-day-in-gray-on-little-sebago/
CATEGORIES:Kayaking/Canoeing,Social
ATTACH;FMTTYPE=image/jpeg:https://moac.org/wp-content/uploads/morning-mist-1.jpg
ORGANIZER;CN="Lianne Mitchell":MAILTO:lmitchell75@aol.com
END:VEVENT
BEGIN:VEVENT
DTSTART;TZID=America/New_York:20230729T093000
DTEND;TZID=America/New_York:20230729T200000
DTSTAMP:20260422T183507
CREATED:20230724T214355Z
LAST-MODIFIED:20230728T154357Z
UID:10001054-1690623000-1690660800@moac.org
SUMMARY:Summerfest 2023 IS ON!
DESCRIPTION:34th annual SUMMERFEST  \nIt’s still ON!\nWe’ve got a big shelter if we get any rain. \nRange Pond\, 26 State Park Rd\, Poland Spring\, ME  \nBE THERE OR BE SQUARE! \nJust off the Empire Road in Poland. The Empire Road is approached from Maine Route 122; take Route 26 north from Gray\, or Route 202 south from Lewiston which will connect with Route 122  (207) 998-4104  Lat 44.038031 / Lon -70.342181 \nMOAC will supply Burgers\, Hot Dogs\, Vegie Burgers\, Chicken\, Toppings & Condiments\, Watermelon\, and Water. \nSchedule of Events: \n9:30 – Set up Crew and MOACers arrive.  We need a set up crew \n           Hiking\, paddling\, and biking events begin.  We are looking for leaders and trips.  PLEASE  POST  YOUR ACTIVITY ON THE CALENDAR.  Include “Summerfest” in the title. \n12:00 – Lunch prep begins. We need Grill masters. \n           Best side dish and best desert contest to be held after lunch \n2:00 – Hiking\, paddling\, and biking events continue.  We are looking for leaders and trips.  PLEASE POST  YOUR ACTIVITY ON THE CALENDAR.  Include “Summerfest” in the title. \nCornhole and ladderball will be open all day.  We have one set of each.  If you care to share your games\, please bring along.  All competition will be FRIENDLY \n5:00 to Dusk – Eat leftovers\, camp fires\, low volume songs\, stories and lore \nPlease contact board@moac.org to help \nWhat to Bring:   \nA side dish or dessert to share\, BYOBeverage\, all your beach gear\, kayaks\, paddle boards\, bikes\, sneakers\, or hiking boots.  Don’t forget the sunblock and bug spray.  For your comfort\, bring a camp or beach chair.  Intoxicating beverages are not permitted as per Park Rules. \nAbout Range Pond State Park: \nRange Ponds State Park welcomes visitors who enjoy the wide sandy beach as they swim\, picnic and play. Most activity centers on the waterfront which is easily accessible because of the smooth\, surfaced promenade that parallels the pond for 1000 feet immediately next to the beach.  MOAC has reserved the covered shelter with picnic tables and will set up our new canopy for all to see. \nLeisurely walks are a must on the two-miles of easy trails comprised of old logging roads and railroad beds. \nCost – MOAC has reserved the Main Shelter.  A fee to the park is due from Members at the gate as follows: \nDay Use Fees for MOAC members are: $6 Adults Resident; $8 Adult Non Resident; $2 Over 65 Non Resident: Free age 65 and older Maine residents
URL:https://moac.org/event/summerfest-2023/
CATEGORIES:Hiking,Kayaking/Canoeing,Social
ATTACH;FMTTYPE=image/jpeg:https://moac.org/wp-content/uploads/Range-Pond.jpeg
ORGANIZER;CN="MOAC":MAILTO:info@moac.org
END:VEVENT
END:VCALENDAR