BEGIN:VCALENDAR
VERSION:2.0
PRODID:-//MOAC - Maine Outdoor Adventure Club - ECPv6.15.12.1//NONSGML v1.0//EN
CALSCALE:GREGORIAN
METHOD:PUBLISH
X-ORIGINAL-URL:https://moac.org
X-WR-CALDESC:Events for MOAC - Maine Outdoor Adventure Club
REFRESH-INTERVAL;VALUE=DURATION:PT1H
X-Robots-Tag:noindex
X-PUBLISHED-TTL:PT1H
BEGIN:VTIMEZONE
TZID:America/New_York
BEGIN:DAYLIGHT
TZOFFSETFROM:-0500
TZOFFSETTO:-0400
TZNAME:EDT
DTSTART:20220313T070000
END:DAYLIGHT
BEGIN:STANDARD
TZOFFSETFROM:-0400
TZOFFSETTO:-0500
TZNAME:EST
DTSTART:20221106T060000
END:STANDARD
BEGIN:DAYLIGHT
TZOFFSETFROM:-0500
TZOFFSETTO:-0400
TZNAME:EDT
DTSTART:20230312T070000
END:DAYLIGHT
BEGIN:STANDARD
TZOFFSETFROM:-0400
TZOFFSETTO:-0500
TZNAME:EST
DTSTART:20231105T060000
END:STANDARD
BEGIN:DAYLIGHT
TZOFFSETFROM:-0500
TZOFFSETTO:-0400
TZNAME:EDT
DTSTART:20240310T070000
END:DAYLIGHT
BEGIN:STANDARD
TZOFFSETFROM:-0400
TZOFFSETTO:-0500
TZNAME:EST
DTSTART:20241103T060000
END:STANDARD
END:VTIMEZONE
BEGIN:VEVENT
DTSTART;TZID=America/New_York:20230807T133000
DTEND;TZID=America/New_York:20230810T110000
DTSTAMP:20260421T185005
CREATED:20230801T030206Z
LAST-MODIFIED:20230801T232144Z
UID:10001067-1691415000-1691665200@moac.org
SUMMARY:South Branch Pond in Baxter State Park
DESCRIPTION:I have a tent site 22 at South Branch for 3 nights 8/7\, 8/8 and 8/9 and have room for 3 more people.  The campground provides trail access to local ponds in the Fowler region as well as day hikes on South Branch Mountain and North Traveler and the very challenging Traveler Loop Trail. The campground trailhead also provides access to Russell Pond Campground via the Pogy Notch Trail. Swimming\, fishing and canoeing (rental available) are also available.  Details regarding carpooling and sharing of any equipment such as that for cooking will be discussed prior.
URL:https://moac.org/event/south-branch-pond-in-baxter-state-park/
CATEGORIES:Camping,Hiking,Kayaking/Canoeing
ORGANIZER;CN="Georgann Dickey":MAILTO:georganndickey@gmail.com
END:VEVENT
BEGIN:VEVENT
DTSTART;TZID=America/New_York:20230816T140000
DTEND;TZID=America/New_York:20230816T170000
DTSTAMP:20260421T185005
CREATED:20230814T131012Z
LAST-MODIFIED:20230814T131202Z
UID:10001080-1692194400-1692205200@moac.org
SUMMARY:Paddle the Presumpscot River–New\, Easy Launch
DESCRIPTION:Meet at the boat launch at 2:00 at 58 Lincoln Street (just before the skate rink) in Westbrook.  Call or text ahead-207-749-0211\, so I’ll look for you.  Last minute is fine!  It looks like a cradle for kayaks has been added.  If you don’t have a boat\, there are boats to rent.  Boats are unlocked with a scan and payment method.  PDF and paddle included. \nGentle paddle up river with heron\, turtles\, various birds and plants.  Enjoy a precious summer afternoon close to Portland-Westbrook-Gorham\, etc.  After the paddle\, we’ll join the fun on the Riverwalk (see separate post) in Westbrook for those who’d like.  Swift current and dynamic falls with fish ladder views from Westbrook’s Riverwalk.  Bring and wear PFDs; have drinking water and snacks in case you need energy.
URL:https://moac.org/event/paddle-the-presumpscot-river-new-easy-launch/
CATEGORIES:Kayaking/Canoeing
ATTACH;FMTTYPE=image/jpeg:https://moac.org/wp-content/uploads/hand-carry-boat-launch.jpeg
END:VEVENT
BEGIN:VEVENT
DTSTART;TZID=America/New_York:20230816T160000
DTEND;TZID=America/New_York:20230816T190000
DTSTAMP:20260421T185005
CREATED:20230814T131028Z
LAST-MODIFIED:20230814T131143Z
UID:10001081-1692201600-1692212400@moac.org
SUMMARY:Paddle Party on the Presumpscot
DESCRIPTION:Riverbank Park Neighborhood Paddle and Grill\n\nWednesday\, August 16\, 2023\n4:00 PM 7:00 PM\nRiverbank Park677 Main StreetWestbrook\, ME\, 04092United States (map)\nOrganized by the Friends of the Presumpscot River\n\n\n\n\n\n\n\n\n\nThese Paddles are an opportunity for the public to experience the fun of paddling\, some for the first time\, on the Presumpscot River in Downtown Westbrook. Come meet neighbors and enjoy a barbeque. All is free and open to the public. Kayaks\, paddle boards\, PFDs and instruction are generously provided by Portland Paddle. We thank our collaborative partners; Westbrook Community Policing and Discover Downtown Westbrook. No need to register! Find us here!
URL:https://moac.org/event/paddle-party-on-the-presumpscot/
CATEGORIES:Kayaking/Canoeing
END:VEVENT
END:VCALENDAR