BEGIN:VCALENDAR
VERSION:2.0
PRODID:-//MOAC - Maine Outdoor Adventure Club - ECPv6.15.12.1//NONSGML v1.0//EN
CALSCALE:GREGORIAN
METHOD:PUBLISH
X-WR-CALNAME:MOAC - Maine Outdoor Adventure Club
X-ORIGINAL-URL:https://moac.org
X-WR-CALDESC:Events for MOAC - Maine Outdoor Adventure Club
REFRESH-INTERVAL;VALUE=DURATION:PT1H
X-Robots-Tag:noindex
X-PUBLISHED-TTL:PT1H
BEGIN:VTIMEZONE
TZID:America/New_York
BEGIN:DAYLIGHT
TZOFFSETFROM:-0500
TZOFFSETTO:-0400
TZNAME:EDT
DTSTART:20210314T070000
END:DAYLIGHT
BEGIN:STANDARD
TZOFFSETFROM:-0400
TZOFFSETTO:-0500
TZNAME:EST
DTSTART:20211107T060000
END:STANDARD
BEGIN:DAYLIGHT
TZOFFSETFROM:-0500
TZOFFSETTO:-0400
TZNAME:EDT
DTSTART:20220313T070000
END:DAYLIGHT
BEGIN:STANDARD
TZOFFSETFROM:-0400
TZOFFSETTO:-0500
TZNAME:EST
DTSTART:20221106T060000
END:STANDARD
BEGIN:DAYLIGHT
TZOFFSETFROM:-0500
TZOFFSETTO:-0400
TZNAME:EDT
DTSTART:20230312T070000
END:DAYLIGHT
BEGIN:STANDARD
TZOFFSETFROM:-0400
TZOFFSETTO:-0500
TZNAME:EST
DTSTART:20231105T060000
END:STANDARD
END:VTIMEZONE
BEGIN:VEVENT
DTSTART;TZID=America/New_York:20220514T180000
DTEND;TZID=America/New_York:20220514T200000
DTSTAMP:20260424T194916
CREATED:20220513T021504Z
LAST-MODIFIED:20220513T021504Z
UID:10000403-1652551200-1652558400@moac.org
SUMMARY:Union River Evening Paddle
DESCRIPTION:Paddle the Union River in Ellsworth Saturday night with a full moon rising at about 6. The tide is not quite right going out\, but it will be coming in on the way back. Put in at the Ellsworth Harbor Park and Marina\, paddle to the mouth of the river and return\, usually about 2 hours. This is a great paddle\, since there is never much boat traffic. Enjoy possibly bald eagles\, seals\, loons\, cormorants. Bring bug dope. \nThis river paddle is suitable for canoes\, and kayaks\, lake or sea. PFD required and must be worn. \nPlease let me know if you can make it: call or text 207-801-1488 or email to marty@donnellpond.com. \nIn keeping with the new waiver policy\, you will need to provide emergency contact information. If you want to send it in advance\, that will simplify things at the put in.
URL:https://moac.org/event/union-river-evening-paddle/
CATEGORIES:Kayaking/Canoeing
ATTACH;FMTTYPE=image/jpeg:https://moac.org/wp-content/uploads/IMG_1536.jpg
ORGANIZER;CN="Marty Williams":MAILTO:marty@donnellpond.com
END:VEVENT
END:VCALENDAR