BEGIN:VCALENDAR
VERSION:2.0
PRODID:-//MOAC - Maine Outdoor Adventure Club - ECPv6.15.12.1//NONSGML v1.0//EN
CALSCALE:GREGORIAN
METHOD:PUBLISH
X-ORIGINAL-URL:https://moac.org
X-WR-CALDESC:Events for MOAC - Maine Outdoor Adventure Club
REFRESH-INTERVAL;VALUE=DURATION:PT1H
X-Robots-Tag:noindex
X-PUBLISHED-TTL:PT1H
BEGIN:VTIMEZONE
TZID:America/New_York
BEGIN:DAYLIGHT
TZOFFSETFROM:-0500
TZOFFSETTO:-0400
TZNAME:EDT
DTSTART:20210314T070000
END:DAYLIGHT
BEGIN:STANDARD
TZOFFSETFROM:-0400
TZOFFSETTO:-0500
TZNAME:EST
DTSTART:20211107T060000
END:STANDARD
BEGIN:DAYLIGHT
TZOFFSETFROM:-0500
TZOFFSETTO:-0400
TZNAME:EDT
DTSTART:20220313T070000
END:DAYLIGHT
BEGIN:STANDARD
TZOFFSETFROM:-0400
TZOFFSETTO:-0500
TZNAME:EST
DTSTART:20221106T060000
END:STANDARD
BEGIN:DAYLIGHT
TZOFFSETFROM:-0500
TZOFFSETTO:-0400
TZNAME:EDT
DTSTART:20230312T070000
END:DAYLIGHT
BEGIN:STANDARD
TZOFFSETFROM:-0400
TZOFFSETTO:-0500
TZNAME:EST
DTSTART:20231105T060000
END:STANDARD
END:VTIMEZONE
BEGIN:VEVENT
DTSTART;TZID=America/New_York:20220625T153000
DTEND;TZID=America/New_York:20220625T153000
DTSTAMP:20260424T181325
CREATED:20220623T131709Z
LAST-MODIFIED:20220623T132010Z
UID:10000537-1656171000-1656171000@moac.org
SUMMARY:Paddle Little Sebago
DESCRIPTION:Come up to camp in Gray and paddle for about an hour to an hour and a half depending on the group.  Please arrive in time to be on the water at 3:30. \nFor those wanting to stick around after\, BYO food and drinks.  A charcoal grill (and charcoal) will be available. \nI have some extra sit on top kayaks and a canoe to loan if you’d like to come\, but don’t have a boat.  Please let me know ahead if you need to borrow. \nThere are patrols on the lake so you must have a PFD and a whistle. \nPlease RSVP for address. Text 207.807.2729 or lmitchell75@aol.com
URL:https://moac.org/event/paddle-little-sebago-2/
CATEGORIES:Kayaking/Canoeing
ATTACH;FMTTYPE=image/jpeg:https://moac.org/wp-content/uploads/lake-hammock.jpg
ORGANIZER;CN="Lianne Mitchell":MAILTO:lmitchell75@aol.com
END:VEVENT
END:VCALENDAR