BEGIN:VCALENDAR
VERSION:2.0
PRODID:-//MOAC - Maine Outdoor Adventure Club - ECPv6.15.12.1//NONSGML v1.0//EN
CALSCALE:GREGORIAN
METHOD:PUBLISH
X-WR-CALNAME:MOAC - Maine Outdoor Adventure Club
X-ORIGINAL-URL:https://moac.org
X-WR-CALDESC:Events for MOAC - Maine Outdoor Adventure Club
REFRESH-INTERVAL;VALUE=DURATION:PT1H
X-Robots-Tag:noindex
X-PUBLISHED-TTL:PT1H
BEGIN:VTIMEZONE
TZID:America/New_York
BEGIN:DAYLIGHT
TZOFFSETFROM:-0500
TZOFFSETTO:-0400
TZNAME:EDT
DTSTART:20210314T070000
END:DAYLIGHT
BEGIN:STANDARD
TZOFFSETFROM:-0400
TZOFFSETTO:-0500
TZNAME:EST
DTSTART:20211107T060000
END:STANDARD
BEGIN:DAYLIGHT
TZOFFSETFROM:-0500
TZOFFSETTO:-0400
TZNAME:EDT
DTSTART:20220313T070000
END:DAYLIGHT
BEGIN:STANDARD
TZOFFSETFROM:-0400
TZOFFSETTO:-0500
TZNAME:EST
DTSTART:20221106T060000
END:STANDARD
BEGIN:DAYLIGHT
TZOFFSETFROM:-0500
TZOFFSETTO:-0400
TZNAME:EDT
DTSTART:20230312T070000
END:DAYLIGHT
BEGIN:STANDARD
TZOFFSETFROM:-0400
TZOFFSETTO:-0500
TZNAME:EST
DTSTART:20231105T060000
END:STANDARD
END:VTIMEZONE
BEGIN:VEVENT
DTSTART;TZID=America/New_York:20220701T153000
DTEND;TZID=America/New_York:20220701T183000
DTSTAMP:20260424T141054
CREATED:20220627T155705Z
LAST-MODIFIED:20220921T174634Z
UID:10000547-1656689400-1656700200@moac.org
SUMMARY:Paddle and Social Gathering
DESCRIPTION:Come upta camp to do a paddle in the upper and middle bays of Little Sebago Lake in Gray.  If the water is warm enough (should be)\, we’ll stop to swim (or just stretch our legs) by an island.  Paddle will be about an hour and a half\, give or take\, depending on the group.  PFDs and whistles required (rangers on the lake are stopping people these days).  You don’t have to wear the PFD\, just have it with you. \nFolks are welcome to stay to sit around the fire after.   Please RSVP (text or call 207.807.2729 or lmitchell75@aol.com) and I’ll send the address when you let me know you’re coming. Please arrive with enough time to unload so we’re on the water at 3:30.  I’ll be there by 3:00. \nIf you can’t make the paddle\, you can still join us later to relax\, eat\, drink and be merry when we return (should be by 5:30).  BYO food and drinks. A charcoal grill (and charcoal) will be available to use. \nI have a couple of sit-on-top kayaks\, paddle boards and a canoe to lend out if someone needs a boat – but you must let me know ahead of time.  I also have some extra PFDs and whistles.
URL:https://moac.org/event/paddle-and-social-gathering/
CATEGORIES:Kayaking/Canoeing
ATTACH;FMTTYPE=image/jpeg:https://moac.org/wp-content/uploads/lake-hammock-1.jpg
ORGANIZER;CN="Lianne Mitchell":MAILTO:lmitchell75@aol.com
END:VEVENT
END:VCALENDAR