BEGIN:VCALENDAR
VERSION:2.0
PRODID:-//MOAC - Maine Outdoor Adventure Club - ECPv6.15.12.1//NONSGML v1.0//EN
CALSCALE:GREGORIAN
METHOD:PUBLISH
X-ORIGINAL-URL:https://moac.org
X-WR-CALDESC:Events for MOAC - Maine Outdoor Adventure Club
REFRESH-INTERVAL;VALUE=DURATION:PT1H
X-Robots-Tag:noindex
X-PUBLISHED-TTL:PT1H
BEGIN:VTIMEZONE
TZID:America/New_York
BEGIN:DAYLIGHT
TZOFFSETFROM:-0500
TZOFFSETTO:-0400
TZNAME:EDT
DTSTART:20210314T070000
END:DAYLIGHT
BEGIN:STANDARD
TZOFFSETFROM:-0400
TZOFFSETTO:-0500
TZNAME:EST
DTSTART:20211107T060000
END:STANDARD
BEGIN:DAYLIGHT
TZOFFSETFROM:-0500
TZOFFSETTO:-0400
TZNAME:EDT
DTSTART:20220313T070000
END:DAYLIGHT
BEGIN:STANDARD
TZOFFSETFROM:-0400
TZOFFSETTO:-0500
TZNAME:EST
DTSTART:20221106T060000
END:STANDARD
BEGIN:DAYLIGHT
TZOFFSETFROM:-0500
TZOFFSETTO:-0400
TZNAME:EDT
DTSTART:20230312T070000
END:DAYLIGHT
BEGIN:STANDARD
TZOFFSETFROM:-0400
TZOFFSETTO:-0500
TZNAME:EST
DTSTART:20231105T060000
END:STANDARD
END:VTIMEZONE
BEGIN:VEVENT
DTSTART;TZID=America/New_York:20220704T140000
DTEND;TZID=America/New_York:20220704T180000
DTSTAMP:20260424T141427
CREATED:20220627T162728Z
LAST-MODIFIED:20220921T174615Z
UID:10000548-1656943200-1656957600@moac.org
SUMMARY:Paddling and fun at the Lake
DESCRIPTION:Join me for my annual (outside of pandemics!) July 4th gathering at camp.  Come for an hour or two\, or stay for the afternoon and evening. \nWe may head out for a paddle around 4:00 depending on interest\, but anyone would be welcome to go out whenever.  Bring your boat or borrow one of mine (I have sit on tops\, paddle boards and a canoe.  Also a sail board if it’s windy enough.  Or just relax\, play a lawn game (I have ladder toss\, if someone has corn hole or another to bring\, that would be great). \nWe’ll fire up the charcoal grill around 5:30.  BYO food and drinks.  If you want to bring something to share\, that’s okay\, but some are still leery of sharing communal dishes\, so it’s more BYO than official pot luck. \nI can’t offer a big fireworks display this year – that neighbor has moved away (plus it’s a Monday…)\, but there will probably be other sporadic ones around the area. \n  \nPlease RSVP for the address and so I know who’s coming ~ 207.807.2729 or lmitchell75@aol.com
URL:https://moac.org/event/paddling-and-fun-at-the-lake/
CATEGORIES:Kayaking/Canoeing,Social
ATTACH;FMTTYPE=image/jpeg:https://moac.org/wp-content/uploads/lake-view-1.jpg
ORGANIZER;CN="Lianne Mitchell":MAILTO:lmitchell75@aol.com
END:VEVENT
END:VCALENDAR