BEGIN:VCALENDAR
VERSION:2.0
PRODID:-//MOAC - Maine Outdoor Adventure Club - ECPv6.15.12.1//NONSGML v1.0//EN
CALSCALE:GREGORIAN
METHOD:PUBLISH
X-ORIGINAL-URL:https://moac.org
X-WR-CALDESC:Events for MOAC - Maine Outdoor Adventure Club
REFRESH-INTERVAL;VALUE=DURATION:PT1H
X-Robots-Tag:noindex
X-PUBLISHED-TTL:PT1H
BEGIN:VTIMEZONE
TZID:America/New_York
BEGIN:DAYLIGHT
TZOFFSETFROM:-0500
TZOFFSETTO:-0400
TZNAME:EDT
DTSTART:20210314T070000
END:DAYLIGHT
BEGIN:STANDARD
TZOFFSETFROM:-0400
TZOFFSETTO:-0500
TZNAME:EST
DTSTART:20211107T060000
END:STANDARD
BEGIN:DAYLIGHT
TZOFFSETFROM:-0500
TZOFFSETTO:-0400
TZNAME:EDT
DTSTART:20220313T070000
END:DAYLIGHT
BEGIN:STANDARD
TZOFFSETFROM:-0400
TZOFFSETTO:-0500
TZNAME:EST
DTSTART:20221106T060000
END:STANDARD
BEGIN:DAYLIGHT
TZOFFSETFROM:-0500
TZOFFSETTO:-0400
TZNAME:EDT
DTSTART:20230312T070000
END:DAYLIGHT
BEGIN:STANDARD
TZOFFSETFROM:-0400
TZOFFSETTO:-0500
TZNAME:EST
DTSTART:20231105T060000
END:STANDARD
END:VTIMEZONE
BEGIN:VEVENT
DTSTART;TZID=America/New_York:20220716T093000
DTEND;TZID=America/New_York:20220716T143000
DTSTAMP:20260424T141200
CREATED:20220714T010619Z
LAST-MODIFIED:20220714T010619Z
UID:10000596-1657963800-1657981800@moac.org
SUMMARY:Paddle Middle Bay Saturday 7/16
DESCRIPTION:Sea kayakers! Meet to be on the water at 10AM at Mitchell Field in South Harpswell. We’ll paddle out around Whaleboat to Little Whaleboat for lunch and a swim and head back via the Goslings and come in on the high tide. Fully equipped sea kayaks only\, you must wear your PFD. Should be a great day. Please RSVP gervaiscpa@gmail.com or text 207-689-2325.
URL:https://moac.org/event/paddle-middle-bay-saturday-7-16/
CATEGORIES:Kayaking/Canoeing
ORGANIZER;CN="Judy Gervais":MAILTO:gervaiscpa@Gmail.com
END:VEVENT
END:VCALENDAR