BEGIN:VCALENDAR
VERSION:2.0
PRODID:-//MOAC - Maine Outdoor Adventure Club - ECPv6.15.12.1//NONSGML v1.0//EN
CALSCALE:GREGORIAN
METHOD:PUBLISH
X-WR-CALNAME:MOAC - Maine Outdoor Adventure Club
X-ORIGINAL-URL:https://moac.org
X-WR-CALDESC:Events for MOAC - Maine Outdoor Adventure Club
REFRESH-INTERVAL;VALUE=DURATION:PT1H
X-Robots-Tag:noindex
X-PUBLISHED-TTL:PT1H
BEGIN:VTIMEZONE
TZID:America/New_York
BEGIN:DAYLIGHT
TZOFFSETFROM:-0500
TZOFFSETTO:-0400
TZNAME:EDT
DTSTART:20210314T070000
END:DAYLIGHT
BEGIN:STANDARD
TZOFFSETFROM:-0400
TZOFFSETTO:-0500
TZNAME:EST
DTSTART:20211107T060000
END:STANDARD
BEGIN:DAYLIGHT
TZOFFSETFROM:-0500
TZOFFSETTO:-0400
TZNAME:EDT
DTSTART:20220313T070000
END:DAYLIGHT
BEGIN:STANDARD
TZOFFSETFROM:-0400
TZOFFSETTO:-0500
TZNAME:EST
DTSTART:20221106T060000
END:STANDARD
BEGIN:DAYLIGHT
TZOFFSETFROM:-0500
TZOFFSETTO:-0400
TZNAME:EDT
DTSTART:20230312T070000
END:DAYLIGHT
BEGIN:STANDARD
TZOFFSETFROM:-0400
TZOFFSETTO:-0500
TZNAME:EST
DTSTART:20231105T060000
END:STANDARD
END:VTIMEZONE
BEGIN:VEVENT
DTSTART;TZID=America/New_York:20220815T090000
DTEND;TZID=America/New_York:20220815T140000
DTSTAMP:20260424T124035
CREATED:20220814T130339Z
LAST-MODIFIED:20220815T000909Z
UID:10000641-1660554000-1660572000@moac.org
SUMMARY:Monday Kayak Paddle — Mere Point to the Goslings
DESCRIPTION:Monday Paddle Mere Point to the Goslings 8-15-2022\, 9 AM to 2 PM — Paddle starts at 9:30 AM \nWe’ll meet at the public boat launch at Mere Point in Brunswick about 9 AM and start paddling about 9:30 AM. This boat launch has bathroom facilities and an all-tide ramp. \nThe tide will be low about 8:15 AM\, so we’ll paddle out against it staying close to the shore on the inside of Upper and Lower Goose to The Goslings for a lunch or snack break. The tide will be with us on the way back on the outside of Upper and Lower Goose. Depending on the timing\, we may have a southeast wind also helping with the return to Mere Point. This trip is weather dependent — especially  changes between now and then for wind and fog. \nYou must have a sea kayak and wear a PFD. Spray skirts and wet suits are recommended. This trip is for intermediate to advanced paddlers. \nPlease contact me if you plan to go — by email (preferred)\, betsy.hanscom@gmail.com or phone\, 207-754-9692 (text). If I need to cancel for weather conditions or whatever\, I will be able to contact you directly.
URL:https://moac.org/event/monday-kayak-paddle-mere-point-to-the-goslings/
CATEGORIES:Kayaking/Canoeing
ORGANIZER;CN="Betsy Hanscom":MAILTO:betsy.hanscom@gmail.com
END:VEVENT
END:VCALENDAR