BEGIN:VCALENDAR
VERSION:2.0
PRODID:-//MOAC - Maine Outdoor Adventure Club - ECPv6.15.12.1//NONSGML v1.0//EN
CALSCALE:GREGORIAN
METHOD:PUBLISH
X-ORIGINAL-URL:https://moac.org
X-WR-CALDESC:Events for MOAC - Maine Outdoor Adventure Club
REFRESH-INTERVAL;VALUE=DURATION:PT1H
X-Robots-Tag:noindex
X-PUBLISHED-TTL:PT1H
BEGIN:VTIMEZONE
TZID:America/New_York
BEGIN:DAYLIGHT
TZOFFSETFROM:-0500
TZOFFSETTO:-0400
TZNAME:EDT
DTSTART:20240310T070000
END:DAYLIGHT
BEGIN:STANDARD
TZOFFSETFROM:-0400
TZOFFSETTO:-0500
TZNAME:EST
DTSTART:20241103T060000
END:STANDARD
BEGIN:DAYLIGHT
TZOFFSETFROM:-0500
TZOFFSETTO:-0400
TZNAME:EDT
DTSTART:20250309T070000
END:DAYLIGHT
BEGIN:STANDARD
TZOFFSETFROM:-0400
TZOFFSETTO:-0500
TZNAME:EST
DTSTART:20251102T060000
END:STANDARD
BEGIN:DAYLIGHT
TZOFFSETFROM:-0500
TZOFFSETTO:-0400
TZNAME:EDT
DTSTART:20260308T070000
END:DAYLIGHT
BEGIN:STANDARD
TZOFFSETFROM:-0400
TZOFFSETTO:-0500
TZNAME:EST
DTSTART:20261101T060000
END:STANDARD
BEGIN:DAYLIGHT
TZOFFSETFROM:-0500
TZOFFSETTO:-0400
TZNAME:EDT
DTSTART:20270314T070000
END:DAYLIGHT
BEGIN:STANDARD
TZOFFSETFROM:-0400
TZOFFSETTO:-0500
TZNAME:EST
DTSTART:20271107T060000
END:STANDARD
END:VTIMEZONE
BEGIN:VEVENT
DTSTART;TZID=America/New_York:20250928T130000
DTEND;TZID=America/New_York:20250928T180000
DTSTAMP:20260421T192857
CREATED:20250926T224234Z
LAST-MODIFIED:20250926T224234Z
UID:10004166-1759064400-1759082400@moac.org
SUMMARY:Camp day in Gray
DESCRIPTION:Can you believe another 80+ degree day?  Use ’em or lose ’em!  Along with the great weather\, the trees are turning for a beautiful view.  Come at 1:00 for a BBQ lunch and then relax\, play games and/or paddle.  I have a few boats and SUPs with gear\, or bring your own.  It MIGHT even be warm enough to swim for the more hearty (or is that hardy?) among us. \nIf you join for lunch\, bring your own beverages and a personal protein/sandwich and a dish to share.  If you don’t want to join the BBQ\, just come a bit later.  I’ll be there at 1:00 until about 6 ish. \nShow and go\, but it’s nice to know who’s coming (and to give notice in case the weather changes).  Camp is on the upper west side of Little Sebago Lake in Gray.  If you need the address\, or have questions\, let me know.  text 207.807.2729 or email   lmitchell75@aol.com
URL:https://moac.org/event/camp-day-in-gray-3/
CATEGORIES:Kayaking/Canoeing,Social
ATTACH;FMTTYPE=image/jpeg:https://moac.org/wp-content/uploads/loon-with-babies-2.jpg
ORGANIZER;CN="Lianne Mitchell":MAILTO:lmitchell75@aol.com
END:VEVENT
BEGIN:VEVENT
DTSTART;TZID=America/New_York:20260219T080000
DTEND;TZID=America/New_York:20260221T170000
DTSTAMP:20260421T192857
CREATED:20250614T164309Z
LAST-MODIFIED:20260103T002641Z
UID:10004047-1771488000-1771693200@moac.org
SUMMARY:The Best of Baja California
DESCRIPTION:Trip is Full\nI went once and want to go back to Baja California in Mexico!\nIt is a well organized 10 day trip  which involves camping on the beach with a cook and support staff\, kayaking\, snorkeling\, hiking\, swimming with sea lions and whale sharks\, lots of gray whales sightings\, and many other amazing experiences! \nSee the website for additional info \nhttps://www.kayakbaja.com/whale-watching/
URL:https://moac.org/event/the-best-of-baja-california/
CATEGORIES:Camping,Hiking,Kayaking/Canoeing
ORGANIZER;CN="Marianne Hubert":MAILTO:mayahub@gmail.com
END:VEVENT
BEGIN:VEVENT
DTSTART;TZID=America/New_York:20260418T100000
DTEND;TZID=America/New_York:20260418T160000
DTSTAMP:20260421T192857
CREATED:20260319T173740Z
LAST-MODIFIED:20260319T175102Z
UID:10004835-1776506400-1776528000@moac.org
SUMMARY:Ossippe River trip
DESCRIPTION:This is a trip I have run annually with MOAC since joining in 1998 ( except for a couple of the Covid years).  The trip is about 7 miles of class 2 whitewater river travel.  Not a show and go trip.  I need to talk with participants to ensure folks have the proper gear and clothing.   Swimming in cold water has happened on past trips so I need to understand where folks have paddled before\, what clothing they have and what type of boat they plan to use.   We usually stop on the river to eat lunch along the way.   This trip will also be offered as a joint trip with the PPCS group that I presented at the March 2026 meeting.   If interested\, reach out to get more details.   My cell is 207-653-9315     Thanks   Bob Radowicz
URL:https://moac.org/event/ossippe-river-trip/
CATEGORIES:Kayaking/Canoeing
ORGANIZER;CN="Bob Radowicz":MAILTO:Robert_Radowicz@msn.com
END:VEVENT
BEGIN:VEVENT
DTSTART;TZID=America/New_York:20260426T100000
DTEND;TZID=America/New_York:20260426T160000
DTSTAMP:20260421T192857
CREATED:20260319T174616Z
LAST-MODIFIED:20260319T175223Z
UID:10004836-1777197600-1777219200@moac.org
SUMMARY:Sandy River Trip
DESCRIPTION:It has been quite some time since I have run this river.    I remember it being a nice Class 2 whitewater river trip.   Similar to the Ossippee trip that I posted for the weekend prior\, folks need to reach out and chat with me before the trip so I can help ensure they have the right gear and clothing and get an idea of other whitewater paddling they have done.   If interested\, reach out and talk with me.   Cell number is 207-653-9315.  This trip will also be a joint trip with the PPCS group.   Thanks !  Bob Radowicz
URL:https://moac.org/event/sandy-river-trip/
CATEGORIES:Kayaking/Canoeing
ORGANIZER;CN="Bob Radowicz":MAILTO:Robert_Radowicz@msn.com
END:VEVENT
BEGIN:VEVENT
DTSTART;TZID=America/New_York:20260522T130000
DTEND;TZID=America/New_York:20260525T120000
DTSTAMP:20260421T192857
CREATED:20260325T143020Z
LAST-MODIFIED:20260325T143359Z
UID:10004801-1779454800-1779710400@moac.org
SUMMARY:Memorial Day Weekend Camping in Bar Harbor - UPDATE!!
DESCRIPTION:As of 3/25/26\, Hadley’s lists 9 tent sites available and “plenty” of RV sites (water/electric/some with sewer). If you are interested in this trip\, please don’t wait too long. You also do NOT need to stay at Hadley’s. You are welcome to outdoor adventure with us and hang out for the evening/whenever festivities. \nLet’s keep a long-standing MOAC tradition alive by welcoming summer with a group campout on Mt. Desert Island. \nWe camped at Hadley’s Point CG last year and had a great time. Hadley’s Point is just off Route 3 as you head to Bar Harbor. It is 2.5 miles before Bar Harbor Campground. Holiday weekend prices appear to be: \n\nField tent sites are $37.00 per night\nWooded tent sites are $39.00 per night\nSites with water/electric are $54.00 per night\nThey even have cabins if you want to check those out\n\nThere appears to be a $3.25 campground fee\, plus tax of course. \nhttps://www.hadleyspoint.com/ \nTammy and I will reserve site C-37 (water and electric) and it is near to a pod of tent sites (13-20\, 30-36\, 40-42). We will also reserve C-36 to use as a home base for the group. We will ask attendees to help pay for this community site. If we get 25 people\, that will mean about $5 per person for the weekend. \nIf you choose to go\, please drop us a line at pcm25me@gmail.com so we know who to expect and what site you are in. You can also stay anywhere you like and come visit as well. \nYou do have to make your own reservations. Deposit amounts vary. For 1-2 nights\, it is the full balance. For 3 or more it is $100. Unfortunately\, they state there are no refunds for a holiday weekend. \nIt might be best to grab a site as soon as you can if you are interested. \nWe will continue the traditional experience of group happy hours and pot luck dinners in the evenings. Restaurants are also on the table. Activities during the day will be up to the group. Hiking\, biking\, paddling\, etc.
URL:https://moac.org/event/memorial-day-weekend-camping-in-bar-harbor-2/
CATEGORIES:Camping,Hiking,Kayaking/Canoeing,Mountain Biking,Other/General,Social,Walking
ATTACH;FMTTYPE=image/png:https://moac.org/wp-content/uploads/Screenshot-2025-03-22-at-12.52.49 PM.png
ORGANIZER;CN="Peter Mullen":MAILTO:pcm25me@gmail.com
END:VEVENT
BEGIN:VEVENT
DTSTART;TZID=America/New_York:20260529T160000
DTEND;TZID=America/New_York:20260531T130000
DTSTAMP:20260421T192857
CREATED:20260403T133058Z
LAST-MODIFIED:20260403T133300Z
UID:10004848-1780070400-1780232400@moac.org
SUMMARY:Maine Canoe Symposium
DESCRIPTION:  \n  \n  \n  \n  \n  \n  \n  \n  \nThis not a MOAC led trip. \nThis is the 40th anniversary of the Maine Canoe Symposium. Join fellow paddling enthusiasts in on-water and on-land classes\, demonstrations\, speakers\, and all things canoe. \nIt is the last weekend of May and will be held at the University of Maine 4-H Camp & Learning Center at Bryant Pond. Weekend or Saturday only options are available. Meals are provided and different levels of bunking are available. \nhttps://www.mainecanoesymposium.org/
URL:https://moac.org/event/maine-canoe-symposium/
CATEGORIES:Kayaking/Canoeing,Other/General
ATTACH;FMTTYPE=image/jpeg:https://moac.org/wp-content/uploads/canoe-trip.jpeg
ORGANIZER;CN="Peter Mullen":MAILTO:pcm25me@gmail.com
END:VEVENT
BEGIN:VEVENT
DTSTART;TZID=America/New_York:20260908T150000
DTEND;TZID=America/New_York:20260911T100000
DTSTAMP:20260421T192857
CREATED:20260411T235202Z
LAST-MODIFIED:20260411T235202Z
UID:10004856-1788879600-1789120800@moac.org
SUMMARY:Dark Skies Seniors Getaway at AMC Medawisla Lodge and Cabins
DESCRIPTION:As MOAC members\, we are inviting you to join us for a 3 nights getaway in the middle of Maine at AMC’s Medawisla Lodge and Cabins in the Maine Woods Initiative area geared to seniors but open to all. We have timed our stay to take advantage of dark skies to enjoy a sky full of stars without having to stay up late. Bring a lawn chair and sit by the lake for a full view of the sky. Whether you enjoy easier trails in the woods\, climbing mountains\, off road biking or paddling\, you can find something to do here. However\, you can just enjoy sitting on the porch at the lodge or down at the lake. Bring your own kayak\, paddle board or canoe or use one available there. There are also 2 other ponds to enjoy by canoe down the road. There is off road and trail biking available. Hiking opportunities vary from mostly flat to mountains. Please be sure to bring your equipment and carry the essentials. There is no phone service on most trails in the area. \nYou must use the link below to register for this getaway.\nhttps://activities.outdoors.org/s/oc-activity/a5UVX0000014TsT2AU/act00019975 \nMore info on the AMC website (link above). More details will be emailed once you register via the AMC website. First come\, first served for bookings.
URL:https://moac.org/event/dark-skies-seniors-getaway-at-amc-medawisla-lodge-and-cabins/
CATEGORIES:Hiking,Kayaking/Canoeing,Mountain Biking,Social
ATTACH;FMTTYPE=image/jpeg:https://moac.org/wp-content/uploads/IMG_20250918_063547305_HDR.jpg
ORGANIZER;CN="Michelle Moody":MAILTO:moac@micstan.us
END:VEVENT
END:VCALENDAR