BEGIN:VCALENDAR
VERSION:2.0
PRODID:-//MOAC - Maine Outdoor Adventure Club - ECPv6.15.12.1//NONSGML v1.0//EN
CALSCALE:GREGORIAN
METHOD:PUBLISH
X-WR-CALNAME:MOAC - Maine Outdoor Adventure Club
X-ORIGINAL-URL:https://moac.org
X-WR-CALDESC:Events for MOAC - Maine Outdoor Adventure Club
REFRESH-INTERVAL;VALUE=DURATION:PT1H
X-Robots-Tag:noindex
X-PUBLISHED-TTL:PT1H
BEGIN:VTIMEZONE
TZID:America/New_York
BEGIN:DAYLIGHT
TZOFFSETFROM:-0500
TZOFFSETTO:-0400
TZNAME:EDT
DTSTART:20220313T070000
END:DAYLIGHT
BEGIN:STANDARD
TZOFFSETFROM:-0400
TZOFFSETTO:-0500
TZNAME:EST
DTSTART:20221106T060000
END:STANDARD
BEGIN:DAYLIGHT
TZOFFSETFROM:-0500
TZOFFSETTO:-0400
TZNAME:EDT
DTSTART:20230312T070000
END:DAYLIGHT
BEGIN:STANDARD
TZOFFSETFROM:-0400
TZOFFSETTO:-0500
TZNAME:EST
DTSTART:20231105T060000
END:STANDARD
BEGIN:DAYLIGHT
TZOFFSETFROM:-0500
TZOFFSETTO:-0400
TZNAME:EDT
DTSTART:20240310T070000
END:DAYLIGHT
BEGIN:STANDARD
TZOFFSETFROM:-0400
TZOFFSETTO:-0500
TZNAME:EST
DTSTART:20241103T060000
END:STANDARD
END:VTIMEZONE
BEGIN:VEVENT
DTSTART;VALUE=DATE:20231103
DTEND;VALUE=DATE:20231207
DTSTAMP:20260420T001236
CREATED:20231103T162753Z
LAST-MODIFIED:20231127T134540Z
UID:10001187-1698969600-1701907199@moac.org
SUMMARY:2023 Holiday Party Tickets NOW on Sale through Eventbrite
DESCRIPTION:HOT DEAL now available!  Get your tickets at \nhttps://www.eventbrite.com/e/737358538237?aff=oddtdtcreator \nBARGAIN at $12.00 for prepurchase through Eventbrite (member pays for eventbrite fee) \nAnother MOAC Party not to be missed.  December 9\, 2023 from 5:30 to 11:00. \nSale price available only through December 6.  Price at the door is $15.00.
URL:https://moac.org/event/2023-holiday-party-tickets-now-on-sale-through-eventbrite/
CATEGORIES:Happy Hour/Dancing,Other/General,Social
ORGANIZER;CN="Linda Johnson":MAILTO:ellejohnson84@gmail.com
END:VEVENT
BEGIN:VEVENT
DTSTART;TZID=America/New_York:20231209T140000
DTEND;TZID=America/New_York:20231209T160000
DTSTAMP:20260420T001236
CREATED:20231205T014650Z
LAST-MODIFIED:20231205T175829Z
UID:10001210-1702130400-1702137600@moac.org
SUMMARY:Band Concert – “A Little Americana”
DESCRIPTION:The concert band I play clarinet in is performing a concert at St. Luke’s Cathedral in Portland this Saturday. \nIt will be finished in plenty of time to make it to the Holiday Party.  But\, if you’d like to help with the party setup\, do that\, don’t come to the concert! \nWe’re calling the concert theme “A Little Americana” as we have some medleys of recognizable tunes\, a couple of railroad themed songs\, and a couple of holiday pieces. \nAlso\, we’re having a bake sale! \n 
URL:https://moac.org/event/band-concert-a-little-americana/
CATEGORIES:Other/General
ATTACH;FMTTYPE=image/jpeg:https://moac.org/wp-content/uploads/Concert-Flier-12-2023-final-1.jpg
ORGANIZER;CN="Bill Briggs":MAILTO:wdbriggs10@gmail.com
END:VEVENT
BEGIN:VEVENT
DTSTART;TZID=America/New_York:20231210T110000
DTEND;TZID=America/New_York:20231210T140000
DTSTAMP:20260420T001236
CREATED:20231103T001701Z
LAST-MODIFIED:20231103T002812Z
UID:10001185-1702206000-1702216800@moac.org
SUMMARY:Portland Trails Holiday Dash 5K
DESCRIPTION:Let’s get together and burn off a few calories from the previous night’s MOAC Holiday Party!  And help out an allied trails organization with their biggest fundraising event of the year!  Whether you’re planning to run\, jog or walk\, join us and ring in the holiday season in MOAC outdoor-active style!  Less of a race (although there’s always a few confused souls who utterly miss the point and actually compete) and more of a 3.1 mile long pedestrian holiday parade.  Participants are encouraged to dress up in festive garb and just have a blast.  And why not?  Race route will be alongside Portland’s iconic Polar Express Narrow Gauge Railroad.  With a special extension to take in the scenic East End water treatment plant\, always an olfactory delight!  Your MOAC event organizer will be walking most of the course\, although pride and vanity might compel him to push his creaky knees and jog the last 200 yards – for the all important cow-bell enhanced\, race volunteer-cheered\, finish line photo-op!  Entry fee is a spendy $40\, but remember this is for a good cause.  And it includes a free gift (often a Portland Trails embroidered winter hat) and hot chocolate at the end.  I’ll be springing for the extra $15 meal ticket for the post race brunch and complimentary pint at nearby Ri Ra’s.  Come join us!
URL:https://moac.org/event/portland-trails-holiday-dash-5k/
CATEGORIES:Other/General,Social,Walking
ATTACH;FMTTYPE=image/jpeg:https://moac.org/wp-content/uploads/PT-5K-Holiday-Dash.jpg
ORGANIZER;CN="Marc Hills":MAILTO:marchills@gmail.com
END:VEVENT
BEGIN:VEVENT
DTSTART;TZID=America/New_York:20231221T190000
DTEND;TZID=America/New_York:20231221T203000
DTSTAMP:20260420T001236
CREATED:20231220T103130Z
LAST-MODIFIED:20231221T004410Z
UID:10001223-1703185200-1703190600@moac.org
SUMMARY:WINTER SOLSTICE CONCERT
DESCRIPTION:(I’ll be reading Vivaldi’s Winter text with the music 🎶) \nFirst Parish UU Church\, 114 Main St\, Kennebunk\, ME
URL:https://moac.org/event/winter-solstice-concert/
CATEGORIES:Other/General
ATTACH;FMTTYPE=image/jpeg:https://moac.org/wp-content/uploads/IMG_1233.jpeg
ORGANIZER;CN="Audrey":MAILTO:labasme@aol.com
END:VEVENT
BEGIN:VEVENT
DTSTART;TZID=America/New_York:20231231T080000
DTEND;TZID=America/New_York:20231231T170000
DTSTAMP:20260420T001236
CREATED:20231231T162758Z
LAST-MODIFIED:20231231T162758Z
UID:10001234-1704009600-1704042000@moac.org
SUMMARY:Galapagos Island trip!
DESCRIPTION:Cheapo trip to the Galapagos Islands!  Best\, turtle soup on the planet!  Rent an Airbnb for a couple of weeks and do day trips!  Swim with creatures – bicycle and hike around.  Cost : air $600\, share of Airbnb around 200.  Hunter/gatherer median strip etc.  Contact Dan @478 sixxx835.  Still in the planning stage but we’re going to leave in a couple weeks or so.
URL:https://moac.org/event/galapagos-island-trip/
CATEGORIES:Other/General
ORGANIZER;CN="Dan Kidd":MAILTO:pocketcrimper@gmail.com
END:VEVENT
END:VCALENDAR