BEGIN:VCALENDAR
VERSION:2.0
PRODID:-//MOAC - Maine Outdoor Adventure Club - ECPv6.15.12.1//NONSGML v1.0//EN
CALSCALE:GREGORIAN
METHOD:PUBLISH
X-WR-CALNAME:MOAC - Maine Outdoor Adventure Club
X-ORIGINAL-URL:https://moac.org
X-WR-CALDESC:Events for MOAC - Maine Outdoor Adventure Club
REFRESH-INTERVAL;VALUE=DURATION:PT1H
X-Robots-Tag:noindex
X-PUBLISHED-TTL:PT1H
BEGIN:VTIMEZONE
TZID:America/New_York
BEGIN:DAYLIGHT
TZOFFSETFROM:-0500
TZOFFSETTO:-0400
TZNAME:EDT
DTSTART:20230312T070000
END:DAYLIGHT
BEGIN:STANDARD
TZOFFSETFROM:-0400
TZOFFSETTO:-0500
TZNAME:EST
DTSTART:20231105T060000
END:STANDARD
BEGIN:DAYLIGHT
TZOFFSETFROM:-0500
TZOFFSETTO:-0400
TZNAME:EDT
DTSTART:20240310T070000
END:DAYLIGHT
BEGIN:STANDARD
TZOFFSETFROM:-0400
TZOFFSETTO:-0500
TZNAME:EST
DTSTART:20241103T060000
END:STANDARD
BEGIN:DAYLIGHT
TZOFFSETFROM:-0500
TZOFFSETTO:-0400
TZNAME:EDT
DTSTART:20250309T070000
END:DAYLIGHT
BEGIN:STANDARD
TZOFFSETFROM:-0400
TZOFFSETTO:-0500
TZNAME:EST
DTSTART:20251102T060000
END:STANDARD
END:VTIMEZONE
BEGIN:VEVENT
DTSTART;TZID=America/New_York:20240408T083000
DTEND;TZID=America/New_York:20240408T193000
DTSTAMP:20260421T160321
CREATED:20240405T145104Z
LAST-MODIFIED:20240405T145104Z
UID:10001335-1712565000-1712604600@moac.org
SUMMARY:Eclipse Viewing at Rangeley Lakes Cross Country Ski Area
DESCRIPTION:I have reserved a parking space to view the eclipse in Rangeley and can take 3 passengers.  I have also purchased a lunch so will be going early\, leaving the Portland area around 8:45.  There may be an opportunity to snowshoe before the eclipse and the website also recommends that we bring camp chairs.  Contact me to work out meeting spots and other details like what is needed if you want to purchase lunch.  207-838-0437
URL:https://moac.org/event/eclipse-viewing-at-rangeley-lakes-cross-country-ski-area/
CATEGORIES:Other/General
ORGANIZER;CN="Bonnie Farrand":MAILTO:Bonniefarrand@gmail.com
END:VEVENT
BEGIN:VEVENT
DTSTART;TZID=America/New_York:20240418T180000
DTEND;TZID=America/New_York:20240418T203000
DTSTAMP:20260421T160321
CREATED:20240416T141100Z
LAST-MODIFIED:20240416T141941Z
UID:10001344-1713463200-1713472200@moac.org
SUMMARY:Music Jam – Thursday!
DESCRIPTION:Come on over!  Let’s play some music together Thursday night at 9 Ballard Street in South Portland\, 6:00 p.m.
URL:https://moac.org/event/music-jam-thursday/
CATEGORIES:Other/General
ATTACH;FMTTYPE=image/jpeg:https://moac.org/wp-content/uploads/image-3.jpg
ORGANIZER;CN="Dan Kidd":MAILTO:pocketcrimper@gmail.com
END:VEVENT
BEGIN:VEVENT
DTSTART;TZID=America/New_York:20240422T170000
DTEND;TZID=America/New_York:20240422T180000
DTSTAMP:20260421T160321
CREATED:20240420T154956Z
LAST-MODIFIED:20240420T154956Z
UID:10003174-1713805200-1713808800@moac.org
SUMMARY:Clean Up East End Beach
DESCRIPTION:Join me and others celebrating Earth Day\, Monday\, April 22 from 5:00. -6:00 pm. Do your part and help clean up East End beach. Show and go\, for more info about the event\, see https://www.facebook.com/share/p/BQ8udgSugB9ejRg5/?
URL:https://moac.org/event/clean-up-east-end-beach/
CATEGORIES:Other/General
ATTACH;FMTTYPE=image/jpeg:https://moac.org/wp-content/uploads/eastendbeachclenup.jpg
ORGANIZER;CN="Helen Hemminger":MAILTO:seagirl81@gmail.com
END:VEVENT
BEGIN:VEVENT
DTSTART;TZID=America/New_York:20240424T120000
DTEND;TZID=America/New_York:20240424T160000
DTSTAMP:20260421T160321
CREATED:20240418T221318Z
LAST-MODIFIED:20240420T123047Z
UID:10003171-1713960000-1713974400@moac.org
SUMMARY:Volunteer – Plant seedlings for NE Cottontail Habitat Restoration
DESCRIPTION:Volunteer opportunities with Rachel Carson WildLife Refuge during the week of Earth Day.  This activity\, over two days\, involves planting native shrub seedlings into pots which will be later used for New England cottontail habitat restoration projects. \nDates/Time and Location: \n\nDay 1:  Wednesday April 24th @12noon – 4:00pm\nDay 2: Thursday April 25th @9 am – 3:00pm\nLocation:  Rachel Carson WildLife Refuge Greenhouse\, 429 Post Road (Rt 1)\, Wells  (enter via small drive located just down Route 1 from Saltwater Farm)\n\n Confirm attendance to one or both days\, or portion of day(s) to:  Colin McKevitt   colin_mckevitt@fws.gov \nPer Colin: \n“Rachel Carson National Wildlife Refuge is holding its annual shrub potting volunteer event\, just a few days after Earth Day 2024. We will be receiving a large order of bareroot native shrub seedlings and will get to work potting nearly 1500 shrubs as fast as we can get to them. This is great opportunity to get your hands dirty\, learn about growing container stock\, and check out our greenhouse in Wells! We have selected specific native shrubs with habitat goals in mind for the New England cottontail- many of these shrubs will be outplanted for early successional/young forest habitat restoration projects. \n  \nWednesday\, 4/24/24 \nThe plants will be picked up in Dover\, NH in the morning\, so we should be ready to start planting at the greenhouse at 12:00 PM. \n Thursday\, 4/25/24 \n There will still be plenty of plants to get potted\, so we will start at the greenhouse at 09:00 AM and go until we run out. \n Garden gloves\, sunscreen and hats are recommended\, and we will have extra gloves and sunscreen for those who need them. \nPlease let me (Colin) know if and when you are interested in coming to help\, even for just an hour or two. I will be sending a follow up email to anyone interested to firm up the details. \n If you have any other questions or concerns\, please don’t hesitate to reach out! “ \n  \n  \nThis a a fun and worthwhile volunteer activity.  Work is in close proximity to others – a good socializing opportunity as well.   In the fall\, Rachel Carson will again seek volunteers for “Rabitat Planting Parties” where these pots established in April are planted in designated NE Cottontail habitats located between Cape Elizabeth and Kittery. \n  \nAlso see poster contained within image attached to this calendar entry \nAdditional NE Cottontail restoration info: https://www.wbur.org/news/2023/10/02/new-england-cottontail-rabbit-habitat
URL:https://moac.org/event/volunteer-plant-seedlings-for-new-england-cottontail-habitat-resoration/
CATEGORIES:Other/General
ATTACH;FMTTYPE=image/png:https://moac.org/wp-content/uploads/Rachel-Carson-Planting-Party-2024-1.png
ORGANIZER;CN="David Dancause":MAILTO:dave.dancause@gmail.com
END:VEVENT
BEGIN:VEVENT
DTSTART;VALUE=DATE:20240427
DTEND;VALUE=DATE:20240428
DTSTAMP:20260421T160321
CREATED:20240418T160248Z
LAST-MODIFIED:20240418T160248Z
UID:10001347-1714176000-1714262399@moac.org
SUMMARY:Acadia Trash Clean Up
DESCRIPTION:Saturday\, April 27\,  is Friends of Acadia  annual clean up day. Pick up trash in the morning\, hike or bike in the afternoon. \nGet a head of the crowds by visiting Acadia National Park and do a good deed as well. \nAs an added incentive\, you can tent at my place in Ellsworth or park your camper in my driveway. There will be a pot luck dinner Saturday night and a campfire with smores. \nPlease let me know if you will attend by calling or texting 207-801-1488 or send an email to marty@donnellpond.com
URL:https://moac.org/event/acadia-trash-clean-up/
CATEGORIES:Other/General
ATTACH;FMTTYPE=image/jpeg:https://moac.org/wp-content/uploads/Dorr_SignPostP-1-rotated.jpg
ORGANIZER;CN="Martha Williams":MAILTO:marty@donnellpond.com
END:VEVENT
BEGIN:VEVENT
DTSTART;TZID=America/New_York:20240430T080000
DTEND;TZID=America/New_York:20240430T113000
DTSTAMP:20260421T160321
CREATED:20240426T005657Z
LAST-MODIFIED:20240426T193016Z
UID:10003177-1714464000-1714476600@moac.org
SUMMARY:Call for volunteers!  Phoning in for Baxter State Park group site reservations.
DESCRIPTION:We are looking for an “A Team” to help get a MOAC weekend reserved at Baxter State Park this year! \nPlease email me your contact information if you’re interested. \nThis is for the big Labor Day weekend\, so game faces! It’ll be a highly competitive reservation to go for so any help is appreciated. \nPhone lines open on April 30th (Tuesday) at 8:00 am sharp. \nI’ll coordinate which sites/dates we are going for once I have the team together. \nLooking forward to hearing from you! \nThanks\, \nJosh Soucy \n 
URL:https://moac.org/event/call-for-volunteers-phoning-in-for-baxter-state-park-group-site-reservations/
CATEGORIES:Other/General
ATTACH;FMTTYPE=image/jpeg:https://moac.org/wp-content/uploads/20170603_160721-1024x768-1.jpg
ORGANIZER;CN="Josh Soucy":MAILTO:Soucyjoshua@gmail.com
END:VEVENT
END:VCALENDAR