BEGIN:VCALENDAR
VERSION:2.0
PRODID:-//MOAC - Maine Outdoor Adventure Club - ECPv6.15.12.1//NONSGML v1.0//EN
CALSCALE:GREGORIAN
METHOD:PUBLISH
X-WR-CALNAME:MOAC - Maine Outdoor Adventure Club
X-ORIGINAL-URL:https://moac.org
X-WR-CALDESC:Events for MOAC - Maine Outdoor Adventure Club
REFRESH-INTERVAL;VALUE=DURATION:PT1H
X-Robots-Tag:noindex
X-PUBLISHED-TTL:PT1H
BEGIN:VTIMEZONE
TZID:America/New_York
BEGIN:DAYLIGHT
TZOFFSETFROM:-0500
TZOFFSETTO:-0400
TZNAME:EDT
DTSTART:20230312T070000
END:DAYLIGHT
BEGIN:STANDARD
TZOFFSETFROM:-0400
TZOFFSETTO:-0500
TZNAME:EST
DTSTART:20231105T060000
END:STANDARD
BEGIN:DAYLIGHT
TZOFFSETFROM:-0500
TZOFFSETTO:-0400
TZNAME:EDT
DTSTART:20240310T070000
END:DAYLIGHT
BEGIN:STANDARD
TZOFFSETFROM:-0400
TZOFFSETTO:-0500
TZNAME:EST
DTSTART:20241103T060000
END:STANDARD
BEGIN:DAYLIGHT
TZOFFSETFROM:-0500
TZOFFSETTO:-0400
TZNAME:EDT
DTSTART:20250309T070000
END:DAYLIGHT
BEGIN:STANDARD
TZOFFSETFROM:-0400
TZOFFSETTO:-0500
TZNAME:EST
DTSTART:20251102T060000
END:STANDARD
END:VTIMEZONE
BEGIN:VEVENT
DTSTART;TZID=America/New_York:20240601T090000
DTEND;TZID=America/New_York:20240601T153000
DTSTAMP:20260422T033607
CREATED:20240409T172309Z
LAST-MODIFIED:20240409T172309Z
UID:10001339-1717232400-1717255800@moac.org
SUMMARY:MOAC National Trails Day  Annual Trail Maintenance
DESCRIPTION:Join the MOAC trail crew as we celebrate National Trails Day by volunteering to help maintain MOAC’s adopted hiking trails.  The Bald Peak and Sue’s Way trails on Pleasant Mountain have been under our care for a few years now.  The Loon Echo Land Trust manages all the trails on Pleasant Mountain and we work with them to keep the trails clear\, safe\, and fun for everyone.  A day of trail maintenance involves clipping back the limbs and brush\, raking twigs\, sticks\, leaves\, cleaning water bars\, and removing smaller blowdowns.  MOAC has a collection of trail tools\, so unless you have a favorite rake or pair of clippers\, all you need to being is enthusiasm and elbow grease.  Of course you’ll also want to wear sturdy footwear\, work gloves\, bring plenty of water\, lunch\, bug dope\, and a day pack for it all.  Watch the weather and be sure to have a warm and/or dry layer as necessary.  We start at 9am and end around 3:30pm-ish.  Please meet at the Bald Peak trailhead parking lot on Mountain Road Bridgton\, which is off Route 302.  The trailhead is about a mile past the ski area.  Most members will volunteer for the whole day.  But you can join the fun for just the morning\, or just the afternoon.  All help is welcome!  Just please let me know.   If you have any questions about the day\, give me a call or email.  We’d love to have you as part of the MOAC Trail Crew 2024! \nDana-the-Maintain-ah    650-5197   trails@moac.org
URL:https://moac.org/event/moac-national-trails-day-annual-trail-maintenance/
CATEGORIES:Other/General
ORGANIZER;CN="Dana Thurston":MAILTO:danathurston1@gmail.com
END:VEVENT
BEGIN:VEVENT
DTSTART;TZID=America/New_York:20240605T173000
DTEND;TZID=America/New_York:20240605T203000
DTSTAMP:20260422T033607
CREATED:20240504T021524Z
LAST-MODIFIED:20240605T164239Z
UID:10003184-1717608600-1717619400@moac.org
SUMMARY:MOAC June BBQ and Volunteer Recognition & Gear Swap
DESCRIPTION:Rain or Shine!  If it rains\, we’ll be in the church. \nThe grilling season has started and it’s time for the traditional MOAC pot luck and BBQ. Bring a dish and something for the grill. It’s also time to recognize volunteers and board members who have helped MOAC during the year. We will set up starting at 5:30 (we always need help) and then start grilling and eating at 6. \n\nPlease bring something to grill for yourself.\nPlease bring something to share (appetizers\, salads\, deserts\, etc).\nBring camp chairs if desired.\nPlease do not bring alcohol as we are at a church.\n\nAlso\, please clean out your closets/attics/garages and contribute to our gear swap.  And who knows what you might find to take home.
URL:https://moac.org/event/moac-june-bbq-and-volunteer-recognition/
CATEGORIES:Other/General
ATTACH;FMTTYPE=image/jpeg:https://moac.org/wp-content/uploads/IMG_20230607_190514683.jpg
ORGANIZER;CN="MOAC":MAILTO:info@moac.org
END:VEVENT
BEGIN:VEVENT
DTSTART;TZID=America/New_York:20240608T090000
DTEND;TZID=America/New_York:20240608T140000
DTSTAMP:20260422T033607
CREATED:20240514T220400Z
LAST-MODIFIED:20240514T220605Z
UID:10003194-1717837200-1717855200@moac.org
SUMMARY:Volunteer with Scarborough Land Trust at Broadturn farm preserve
DESCRIPTION:Join MOAC for a volunteer day in partnership with Scarborough Land Trust! This post is for coordination. Stephen “Zam” Zameriowski will be the lead that day! He’s a skilled trail builder and fun outdoorsman to work with. SLT will provide tools snacks and extra water for anyone who needs some. Volunteers should bring their own work gloves\, extra water\, and a bag lunch. \nParking at this pin: https://maps.app.goo.gl/mzUsqnhwhow6XcNQ9?g_st=ic    \nProjects will include \n-spreading wood chips \n-Moving lumber \n-Constructing bridges\n\n-Clearing drainage ditches\n\nLet me know if you are planning to join!
URL:https://moac.org/event/volunteer-with-scarborough-land-trust-at-broadturn-farm-preserve/
CATEGORIES:Other/General,Social
ATTACH;FMTTYPE=image/png:https://moac.org/wp-content/uploads/logo-home.png
ORGANIZER;CN="Josh Soucy":MAILTO:Soucyjoshua@gmail.com
END:VEVENT
END:VCALENDAR