BEGIN:VCALENDAR
VERSION:2.0
PRODID:-//MOAC - Maine Outdoor Adventure Club - ECPv6.15.12.1//NONSGML v1.0//EN
CALSCALE:GREGORIAN
METHOD:PUBLISH
X-WR-CALNAME:MOAC - Maine Outdoor Adventure Club
X-ORIGINAL-URL:https://moac.org
X-WR-CALDESC:Events for MOAC - Maine Outdoor Adventure Club
REFRESH-INTERVAL;VALUE=DURATION:PT1H
X-Robots-Tag:noindex
X-PUBLISHED-TTL:PT1H
BEGIN:VTIMEZONE
TZID:America/New_York
BEGIN:DAYLIGHT
TZOFFSETFROM:-0500
TZOFFSETTO:-0400
TZNAME:EDT
DTSTART:20230312T070000
END:DAYLIGHT
BEGIN:STANDARD
TZOFFSETFROM:-0400
TZOFFSETTO:-0500
TZNAME:EST
DTSTART:20231105T060000
END:STANDARD
BEGIN:DAYLIGHT
TZOFFSETFROM:-0500
TZOFFSETTO:-0400
TZNAME:EDT
DTSTART:20240310T070000
END:DAYLIGHT
BEGIN:STANDARD
TZOFFSETFROM:-0400
TZOFFSETTO:-0500
TZNAME:EST
DTSTART:20241103T060000
END:STANDARD
BEGIN:DAYLIGHT
TZOFFSETFROM:-0500
TZOFFSETTO:-0400
TZNAME:EDT
DTSTART:20250309T070000
END:DAYLIGHT
BEGIN:STANDARD
TZOFFSETFROM:-0400
TZOFFSETTO:-0500
TZNAME:EST
DTSTART:20251102T060000
END:STANDARD
END:VTIMEZONE
BEGIN:VEVENT
DTSTART;VALUE=DATE:20240830
DTEND;VALUE=DATE:20240903
DTSTAMP:20260422T051234
CREATED:20240811T110120Z
LAST-MODIFIED:20240811T110509Z
UID:10003685-1724976000-1725321599@moac.org
SUMMARY:Baxter State Park Carpool
DESCRIPTION:The link below will be a directory for members who want to carpool up to Baxter State Park. \nCarpool list  \nIf you are driving please list yourself. \nIt’s participants responsibility to reach out to drivers and figure the details! Also note that your carpool buddy may be driving on another day you need. \nPlease stay punctual and reliable for the benefit of everyone! \n 
URL:https://moac.org/event/baxter-state-park-carpool/
CATEGORIES:Other/General,Social
ATTACH;FMTTYPE=image/jpeg:https://moac.org/wp-content/uploads/content-carpool.jpg
ORGANIZER;CN="Josh Soucy":MAILTO:Soucyjoshua@gmail.com
END:VEVENT
BEGIN:VEVENT
DTSTART;TZID=America/New_York:20240914T130000
DTEND;TZID=America/New_York:20240914T160000
DTSTAMP:20260422T051234
CREATED:20240910T195414Z
LAST-MODIFIED:20240911T000315Z
UID:10003728-1726318800-1726329600@moac.org
SUMMARY:Community Connections Fair – Volunteer wanted
DESCRIPTION:MOAC is staffing a table at the Community Connections Fair at HopeGateWay\, to promote the club’s visibility  and reach out to increase our membership. \nWe are not selling memberships there. We are handing out cards and info. about the club\, answering questions and speaking to people when they drop by our table. \nI will be volunteering and I would love to have one or two more people with me. That way we can have an opportunity to take a break and check out the fair ourselves. \nIf you are attending the fair\, drop by\,  say hi and introduce yourself. \nHopeGateWay \n515 Woodford St\, Portland\, ME \n(diagonally across from Rosemont Bakery on Brighton) \nDescription of the event from the flyer: \nEnjoy food\, activities\, and performances by local music groups while connecting with clubs\, classes\, and volunteer opportunities in your community! \nFind places to make friends\, learn\, volunteer\, create or donate. \nIf you would like to volunteer\, please  email me at melanieslawlor@smccme.edu or phone 207\, two-hundred nineteen – 9622.
URL:https://moac.org/event/community-connections-fair-volunteer-wanted/
CATEGORIES:Other/General
ORGANIZER;CN="Melanie Lawlor":MAILTO:melaniesochanphoto@yahoo.com
END:VEVENT
BEGIN:VEVENT
DTSTART;TZID=America/New_York:20240924T150000
DTEND;TZID=America/New_York:20240927T110000
DTSTAMP:20260422T051234
CREATED:20240612T184007Z
LAST-MODIFIED:20240815T142539Z
UID:10003227-1727190000-1727434800@moac.org
SUMMARY:Greenville Fall Foliage Seniors Getaway
DESCRIPTION:We would like to invite fellow active MOAC seniors to join us for our Thursday Hikers Fall Getaway to Greenville. \nUpdate – It looks like the place is sold out at this time for rooms. There is camping available at the same location in a grassy area behind the resort. This can depend on weather. I can also keep a wait-list in case someone cancels from our group. Room rate of $120/night\, Sept. 24-27. The rooms have full kitchens and 2 double beds. Be sure to tell them you are with Thursday Hikers/Michell Moody group.  Be sure to check out their website for more info about the property. They also offer camping behind the resort. Call the resort at 800-726-2302 to book one of the rooms we are holding (the rooms are not on their website until after July 1). Book ASAP if you want to come. Please verify their cancellation policy when booking. 7 days for this time of year would be appreciated. \nhttps://www.leisureliferesort.com/ \nPlease let me know if you book. Also let me know if you would be willing to share a room and I can let others know. Please include your phone number and email so I can add you to our rooming list and send more info later. \nThis is a wonderful area with a great variety of hikes and paddling opportunities. Some biking as well. The colors should be starting while temperatures usually aren’t too cold yet.
URL:https://moac.org/event/greenville-fall-foliage-seniors-getaway/
CATEGORIES:Other/General
ATTACH;FMTTYPE=image/jpeg:https://moac.org/wp-content/uploads/P1000090.jpg
ORGANIZER;CN="Michelle Moody":MAILTO:moac@micstan.us
END:VEVENT
END:VCALENDAR