BEGIN:VCALENDAR
VERSION:2.0
PRODID:-//MOAC - Maine Outdoor Adventure Club - ECPv6.15.12.1//NONSGML v1.0//EN
CALSCALE:GREGORIAN
METHOD:PUBLISH
X-WR-CALNAME:MOAC - Maine Outdoor Adventure Club
X-ORIGINAL-URL:https://moac.org
X-WR-CALDESC:Events for MOAC - Maine Outdoor Adventure Club
REFRESH-INTERVAL;VALUE=DURATION:PT1H
X-Robots-Tag:noindex
X-PUBLISHED-TTL:PT1H
BEGIN:VTIMEZONE
TZID:America/New_York
BEGIN:DAYLIGHT
TZOFFSETFROM:-0500
TZOFFSETTO:-0400
TZNAME:EDT
DTSTART:20240310T070000
END:DAYLIGHT
BEGIN:STANDARD
TZOFFSETFROM:-0400
TZOFFSETTO:-0500
TZNAME:EST
DTSTART:20241103T060000
END:STANDARD
BEGIN:DAYLIGHT
TZOFFSETFROM:-0500
TZOFFSETTO:-0400
TZNAME:EDT
DTSTART:20250309T070000
END:DAYLIGHT
BEGIN:STANDARD
TZOFFSETFROM:-0400
TZOFFSETTO:-0500
TZNAME:EST
DTSTART:20251102T060000
END:STANDARD
BEGIN:DAYLIGHT
TZOFFSETFROM:-0500
TZOFFSETTO:-0400
TZNAME:EDT
DTSTART:20260308T070000
END:DAYLIGHT
BEGIN:STANDARD
TZOFFSETFROM:-0400
TZOFFSETTO:-0500
TZNAME:EST
DTSTART:20261101T060000
END:STANDARD
END:VTIMEZONE
BEGIN:VEVENT
DTSTART;TZID=America/New_York:20250806T183000
DTEND;TZID=America/New_York:20250806T203000
DTSTAMP:20260421T160330
CREATED:20250801T211446Z
LAST-MODIFIED:20250801T211446Z
UID:10004108-1754505000-1754512200@moac.org
SUMMARY:Monthly Meeting - Scotland: The Great Glen Way and Beyond!
DESCRIPTION:Get ready to be transported to the green vistas\, blue waters and windswept landscapes of Scotland’s Highlands and the Shetland and Orkney Islands!  Reconnecting with cherished friends from Australia and Switzerland\, MOACers Kevin Huber and Cathy Getchell traversed the 75-mile Great Glen Way\, tasting whiskeys and Scottish cuisine along the way. \nThen\, picture dramatic coastlines and ancient history as they explored the mystical Shetland and Orkney Islands.  From dramatic\, exposed landscapes to island mysteries\, their journey was packed with unforgettable moments.
URL:https://moac.org/event/monthly-meeting-scotland-the-great-glen-way-and-beyond/
LOCATION:Unitarian Universalist Church\, 524 Allen Ave\, Portland\, 04103\, United States
CATEGORIES:Other/General
ATTACH;FMTTYPE=image/jpeg:https://moac.org/wp-content/uploads/d7e47f9d-72c8-546d-728c-e2d3ed8cf967-rotated.jpeg
ORGANIZER;CN="MOAC":MAILTO:info@moac.org
END:VEVENT
END:VCALENDAR