BEGIN:VCALENDAR
VERSION:2.0
PRODID:-//MOAC - Maine Outdoor Adventure Club - ECPv6.15.12.1//NONSGML v1.0//EN
CALSCALE:GREGORIAN
METHOD:PUBLISH
X-ORIGINAL-URL:https://moac.org
X-WR-CALDESC:Events for MOAC - Maine Outdoor Adventure Club
REFRESH-INTERVAL;VALUE=DURATION:PT1H
X-Robots-Tag:noindex
X-PUBLISHED-TTL:PT1H
BEGIN:VTIMEZONE
TZID:America/New_York
BEGIN:DAYLIGHT
TZOFFSETFROM:-0500
TZOFFSETTO:-0400
TZNAME:EDT
DTSTART:20230312T070000
END:DAYLIGHT
BEGIN:STANDARD
TZOFFSETFROM:-0400
TZOFFSETTO:-0500
TZNAME:EST
DTSTART:20231105T060000
END:STANDARD
BEGIN:DAYLIGHT
TZOFFSETFROM:-0500
TZOFFSETTO:-0400
TZNAME:EDT
DTSTART:20240310T070000
END:DAYLIGHT
BEGIN:STANDARD
TZOFFSETFROM:-0400
TZOFFSETTO:-0500
TZNAME:EST
DTSTART:20241103T060000
END:STANDARD
BEGIN:DAYLIGHT
TZOFFSETFROM:-0500
TZOFFSETTO:-0400
TZNAME:EDT
DTSTART:20250309T070000
END:DAYLIGHT
BEGIN:STANDARD
TZOFFSETFROM:-0400
TZOFFSETTO:-0500
TZNAME:EST
DTSTART:20251102T060000
END:STANDARD
END:VTIMEZONE
BEGIN:VEVENT
DTSTART;VALUE=DATE:20240229
DTEND;VALUE=DATE:20240304
DTSTAMP:20260421T130629
CREATED:20240214T020548Z
LAST-MODIFIED:20240303T014452Z
UID:10001295-1709164800-1709510399@moac.org
SUMMARY:See the Northern Lights!
DESCRIPTION:Great opportunity this winter to see the aurora borealis! The Van Allen belt is the most active it’s been in 20 years.  Abisko\, Sweden; Yellowknife\, NWT\,Canada ; and Churchill\, Manitoba\, Canada are possibilities\, with odds of about 90% of seeing the lights IF the night is clear (something the ads didn’t always mention).  I plan to go in March. I have been monitoring the weather in several cities\, as well as the level of aurora activity. Get in touch if you’re interested – I’ll make plans depending on how many folks get in touch.  Marianne Hill  hillmarros@aol.com \n 
URL:https://moac.org/event/see-the-northern-lights/
CATEGORIES:Other/General
ATTACH;FMTTYPE=image/jpeg:https://moac.org/wp-content/uploads/NorthLights.jpg
ORGANIZER;CN="Marianne Hill":MAILTO:hillmarros@aol.com
END:VEVENT
END:VCALENDAR