BEGIN:VCALENDAR
VERSION:2.0
PRODID:-//MOAC - Maine Outdoor Adventure Club - ECPv6.15.12.1//NONSGML v1.0//EN
CALSCALE:GREGORIAN
METHOD:PUBLISH
X-WR-CALNAME:MOAC - Maine Outdoor Adventure Club
X-ORIGINAL-URL:https://moac.org
X-WR-CALDESC:Events for MOAC - Maine Outdoor Adventure Club
REFRESH-INTERVAL;VALUE=DURATION:PT1H
X-Robots-Tag:noindex
X-PUBLISHED-TTL:PT1H
BEGIN:VTIMEZONE
TZID:America/New_York
BEGIN:DAYLIGHT
TZOFFSETFROM:-0500
TZOFFSETTO:-0400
TZNAME:EDT
DTSTART:20230312T070000
END:DAYLIGHT
BEGIN:STANDARD
TZOFFSETFROM:-0400
TZOFFSETTO:-0500
TZNAME:EST
DTSTART:20231105T060000
END:STANDARD
BEGIN:DAYLIGHT
TZOFFSETFROM:-0500
TZOFFSETTO:-0400
TZNAME:EDT
DTSTART:20240310T070000
END:DAYLIGHT
BEGIN:STANDARD
TZOFFSETFROM:-0400
TZOFFSETTO:-0500
TZNAME:EST
DTSTART:20241103T060000
END:STANDARD
BEGIN:DAYLIGHT
TZOFFSETFROM:-0500
TZOFFSETTO:-0400
TZNAME:EDT
DTSTART:20250309T070000
END:DAYLIGHT
BEGIN:STANDARD
TZOFFSETFROM:-0400
TZOFFSETTO:-0500
TZNAME:EST
DTSTART:20251102T060000
END:STANDARD
END:VTIMEZONE
BEGIN:VEVENT
DTSTART;TZID=America/New_York:20240430T080000
DTEND;TZID=America/New_York:20240430T113000
DTSTAMP:20260421T185142
CREATED:20240426T005657Z
LAST-MODIFIED:20240426T193016Z
UID:10003177-1714464000-1714476600@moac.org
SUMMARY:Call for volunteers!  Phoning in for Baxter State Park group site reservations.
DESCRIPTION:We are looking for an “A Team” to help get a MOAC weekend reserved at Baxter State Park this year! \nPlease email me your contact information if you’re interested. \nThis is for the big Labor Day weekend\, so game faces! It’ll be a highly competitive reservation to go for so any help is appreciated. \nPhone lines open on April 30th (Tuesday) at 8:00 am sharp. \nI’ll coordinate which sites/dates we are going for once I have the team together. \nLooking forward to hearing from you! \nThanks\, \nJosh Soucy \n 
URL:https://moac.org/event/call-for-volunteers-phoning-in-for-baxter-state-park-group-site-reservations/
CATEGORIES:Other/General
ATTACH;FMTTYPE=image/jpeg:https://moac.org/wp-content/uploads/20170603_160721-1024x768-1.jpg
ORGANIZER;CN="Josh Soucy":MAILTO:Soucyjoshua@gmail.com
END:VEVENT
END:VCALENDAR