BEGIN:VCALENDAR
VERSION:2.0
PRODID:-//MOAC - Maine Outdoor Adventure Club - ECPv6.15.12.1//NONSGML v1.0//EN
CALSCALE:GREGORIAN
METHOD:PUBLISH
X-WR-CALNAME:MOAC - Maine Outdoor Adventure Club
X-ORIGINAL-URL:https://moac.org
X-WR-CALDESC:Events for MOAC - Maine Outdoor Adventure Club
REFRESH-INTERVAL;VALUE=DURATION:PT1H
X-Robots-Tag:noindex
X-PUBLISHED-TTL:PT1H
BEGIN:VTIMEZONE
TZID:America/New_York
BEGIN:DAYLIGHT
TZOFFSETFROM:-0500
TZOFFSETTO:-0400
TZNAME:EDT
DTSTART:20230312T070000
END:DAYLIGHT
BEGIN:STANDARD
TZOFFSETFROM:-0400
TZOFFSETTO:-0500
TZNAME:EST
DTSTART:20231105T060000
END:STANDARD
BEGIN:DAYLIGHT
TZOFFSETFROM:-0500
TZOFFSETTO:-0400
TZNAME:EDT
DTSTART:20240310T070000
END:DAYLIGHT
BEGIN:STANDARD
TZOFFSETFROM:-0400
TZOFFSETTO:-0500
TZNAME:EST
DTSTART:20241103T060000
END:STANDARD
BEGIN:DAYLIGHT
TZOFFSETFROM:-0500
TZOFFSETTO:-0400
TZNAME:EDT
DTSTART:20250309T070000
END:DAYLIGHT
BEGIN:STANDARD
TZOFFSETFROM:-0400
TZOFFSETTO:-0500
TZNAME:EST
DTSTART:20251102T060000
END:STANDARD
END:VTIMEZONE
BEGIN:VEVENT
DTSTART;TZID=America/New_York:20240601T090000
DTEND;TZID=America/New_York:20240601T153000
DTSTAMP:20260421T195927
CREATED:20240409T172309Z
LAST-MODIFIED:20240409T172309Z
UID:10001339-1717232400-1717255800@moac.org
SUMMARY:MOAC National Trails Day  Annual Trail Maintenance
DESCRIPTION:Join the MOAC trail crew as we celebrate National Trails Day by volunteering to help maintain MOAC’s adopted hiking trails.  The Bald Peak and Sue’s Way trails on Pleasant Mountain have been under our care for a few years now.  The Loon Echo Land Trust manages all the trails on Pleasant Mountain and we work with them to keep the trails clear\, safe\, and fun for everyone.  A day of trail maintenance involves clipping back the limbs and brush\, raking twigs\, sticks\, leaves\, cleaning water bars\, and removing smaller blowdowns.  MOAC has a collection of trail tools\, so unless you have a favorite rake or pair of clippers\, all you need to being is enthusiasm and elbow grease.  Of course you’ll also want to wear sturdy footwear\, work gloves\, bring plenty of water\, lunch\, bug dope\, and a day pack for it all.  Watch the weather and be sure to have a warm and/or dry layer as necessary.  We start at 9am and end around 3:30pm-ish.  Please meet at the Bald Peak trailhead parking lot on Mountain Road Bridgton\, which is off Route 302.  The trailhead is about a mile past the ski area.  Most members will volunteer for the whole day.  But you can join the fun for just the morning\, or just the afternoon.  All help is welcome!  Just please let me know.   If you have any questions about the day\, give me a call or email.  We’d love to have you as part of the MOAC Trail Crew 2024! \nDana-the-Maintain-ah    650-5197   trails@moac.org
URL:https://moac.org/event/moac-national-trails-day-annual-trail-maintenance/
CATEGORIES:Other/General
ORGANIZER;CN="Dana Thurston":MAILTO:danathurston1@gmail.com
END:VEVENT
END:VCALENDAR