BEGIN:VCALENDAR
VERSION:2.0
PRODID:-//MOAC - Maine Outdoor Adventure Club - ECPv6.15.12.1//NONSGML v1.0//EN
CALSCALE:GREGORIAN
METHOD:PUBLISH
X-WR-CALNAME:MOAC - Maine Outdoor Adventure Club
X-ORIGINAL-URL:https://moac.org
X-WR-CALDESC:Events for MOAC - Maine Outdoor Adventure Club
REFRESH-INTERVAL;VALUE=DURATION:PT1H
X-Robots-Tag:noindex
X-PUBLISHED-TTL:PT1H
BEGIN:VTIMEZONE
TZID:America/New_York
BEGIN:DAYLIGHT
TZOFFSETFROM:-0500
TZOFFSETTO:-0400
TZNAME:EDT
DTSTART:20210314T070000
END:DAYLIGHT
BEGIN:STANDARD
TZOFFSETFROM:-0400
TZOFFSETTO:-0500
TZNAME:EST
DTSTART:20211107T060000
END:STANDARD
BEGIN:DAYLIGHT
TZOFFSETFROM:-0500
TZOFFSETTO:-0400
TZNAME:EDT
DTSTART:20220313T070000
END:DAYLIGHT
BEGIN:STANDARD
TZOFFSETFROM:-0400
TZOFFSETTO:-0500
TZNAME:EST
DTSTART:20221106T060000
END:STANDARD
BEGIN:DAYLIGHT
TZOFFSETFROM:-0500
TZOFFSETTO:-0400
TZNAME:EDT
DTSTART:20230312T070000
END:DAYLIGHT
BEGIN:STANDARD
TZOFFSETFROM:-0400
TZOFFSETTO:-0500
TZNAME:EST
DTSTART:20231105T060000
END:STANDARD
END:VTIMEZONE
BEGIN:VEVENT
DTSTART;TZID=America/New_York:20220601T120000
DTEND;TZID=America/New_York:20220601T150000
DTSTAMP:20260424T183714
CREATED:20220601T142056Z
LAST-MODIFIED:20220601T142056Z
UID:10000415-1654084800-1654095600@moac.org
SUMMARY:3 Hour Tour Today!
DESCRIPTION:Short sail on the Emily Jane leaving around noon.  Back in time for the big MOAC Barbecue! \nCall/Text me! \nDan Kidd 207-478-6835
URL:https://moac.org/event/3-hour-tour-today/
CATEGORIES:Sailing/Boating
END:VEVENT
BEGIN:VEVENT
DTSTART;TZID=America/New_York:20220626T133000
DTEND;TZID=America/New_York:20220626T203000
DTSTAMP:20260424T183715
CREATED:20220626T133037Z
LAST-MODIFIED:20220626T133044Z
UID:10000542-1656250200-1656275400@moac.org
SUMMARY:Picnic Today - Little Chebeague Island!
DESCRIPTION:Sail the Emily Jane to Little Chebeague Island at 1:30 today for a classic picnik!  Leaving from South Portland\, Aspasia Marina.  Home before dark with luck.  Rabbit’s foot on board.  Yes! Finally a last minute\,  low class event commensurate with our station in life!  Contact Dan for space: 207 478 6835
URL:https://moac.org/event/picnic-today-little-chebeague-island/
CATEGORIES:Sailing/Boating
ATTACH;FMTTYPE=image/jpeg:https://moac.org/wp-content/uploads/PXL_20220617_155959068-1.jpg
END:VEVENT
END:VCALENDAR